Workbook
Name _Hlk171661479: 'BRF Mandatory Items'!$A$1
Name _Hlk206420489: 'BRF Optional Items'!$A$1
Name _Hlk210220033: 'Timber Products'!$A$1
Name _Hlk220935838: 'BRF Optional Items'!$B$3

Sheet BRF Mandatory Items
A1: Item No. | B1: Description of Mandatory Work Activities | C1: Unit of Measure | D1: Estimated Quantity | E1: Unit Price | F1: Total Price
A2: Contract Area A-Sharrott Salvage
A3: 1a | B3: Cut and Remove Included Timber Sharrott Salvage Subdivision | C3: Ton | D3: 8044 | F3: =BRFMand[[#This Row],[Estimated Quantity]]*BRFMand[[#This Row],[Unit Price]] -> 0
A4: Contract Area B-McCalla Larson
A5: 1b | B5: Cut and Remove Included Timber- McCalla-Larson Subdivision | C5: Ton | D5: 29791 | F5: =BRFMand[[#This Row],[Unit Price]]*BRFMand[[#This Row],[Estimated Quantity]] -> 0
A6: 2b | B6: Reconstruct NFS Roads- McCalla Larson Subdivision | C6: Mile | D6: 2.36
B7: (a) 15101 - Mobilization | C7: Lump Sum | D7: 1 | F7: =BRFMand[[#This Row],[Estimated Quantity]]*BRFMand[[#This Row],[Unit Price]] -> 0
B8: (b) 20209 - Selective Clearing, Type Roadside, Disposal Method (f) | C8: Mile | D8: 0.19 | F8: =BRFMand[[#This Row],[Estimated Quantity]]*BRFMand[[#This Row],[Unit Price]] -> 0
B9: (c) 20425 – Drainage Excavation, Type II Dip, Tolerance Class A, Compaction Method 3 | C9: Each | D9: 1 | F9: =BRFMand[[#This Row],[Estimated Quantity]]*BRFMand[[#This Row],[Unit Price]] -> 0
B10: (d) 21201 – Linear Grading, Compaction Method C, Disposal Method (k) | C10: Mile | D10: 2.17 | F10: =BRFMand[[#This Row],[Estimated Quantity]]*BRFMand[[#This Row],[Unit Price]] -> 0
B11: (e) 30326 - Roadway Reconditioning, Compaction Method 3 | C11: Mile | D11: 0.19 | F11: =BRFMand[[#This Row],[Estimated Quantity]]*BRFMand[[#This Row],[Unit Price]] -> 0
B12: (f) 60201 - 18-Inch Corrugated Metal Pipe, 16 Gage, Compaction Method (2) | C12: Foot | D12: 38 | F12: =BRFMand[[#This Row],[Estimated Quantity]]*BRFMand[[#This Row],[Unit Price]] -> 0
A13: Contract Area C- Fred Burr
A14: 1c | B14: Cut and Remove Included Timber Fred Burr Subdivision | C14: Ton | D14: 1982 | F14: $
A15: Contract Area D- Square Tin
A16: 1d | B16: Cut and Remove Included Timber Square Tin Subdivision | C16: Ton | D16: 9019 | F16: $
A17: 2d | B17: Reconstruct NFS Roads: Square Tin Subdivision | C17: Mile | D17: 7.81
B18: (a) 15101 - Mobilization | C18: Lump Sum | D18: 1 | F18: $
B19: (b) 20209 - Selective Clearing, Type Roadside, Disposal Method (f) | C19: Mile | D19: 3.91 | F19: $
B20: (c) 20425 – Drainage Excavation, Type II Dip, Tolerance Class A, Compaction Method 2 | C20: Each | D20: 32 | F20: $
B21: (d) 30316 - Roadway Reconditioning, Compaction Method 2 | C21: Mile | D21: 7.48 | F21: $
A22: Contract Area E- Spoon McCoy
A23: 1e | B23: Cut and Remove Included Timber- Spoon McCoy Subdivision | C23: Ton | D23: 55050 | F23: =BRFMand[[#This Row],[Estimated Quantity]]*BRFMand[[#This Row],[Unit Price]] -> 0
A24: 2e | B24: Reconstruct NFS Roads- Spoon McCoy Subdivision | C24: Mile | D24: 14.51
B25: (a) 15101 - Mobilization | C25: Lump Sum | D25: 1 | F25: =BRFMand[[#This Row],[Estimated Quantity]]*BRFMand[[#This Row],[Unit Price]] -> 0
B26: (b) 15201 – Drainage Structure Survey and Staking | C26: Each | D26: 2 | F26: =BRFMand[[#This Row],[Estimated Quantity]]*BRFMand[[#This Row],[Unit Price]] -> 0
B27: (c) 20209 - Selective Clearing, Type Roadside, Disposal Method (f) | C27: Mile | D27: 4.35 | F27: =BRFMand[[#This Row],[Estimated Quantity]]*BRFMand[[#This Row],[Unit Price]] -> 0
B28: (d) 20421 – Drainage Excavation, Type Berm Removal, Tolerance Class F, Compaction Method 3 | C28: Each | D28: 4 | F28: =BRFMand[[#This Row],[Estimated Quantity]]*BRFMand[[#This Row],[Unit Price]] -> 0
B29: (e) 20425 - Drainage Excavation, Type II Dip, Tolerance Class A, Compaction Method 2 | C29: Each | D29: 48 | F29: =BRFMand[[#This Row],[Estimated Quantity]]*BRFMand[[#This Row],[Unit Price]] -> 0
B30: (f) 21201 – Linear Grading, Compaction Method C, Disposal Method (k) | C30: Mile | D30: 0.95 | F30: =BRFMand[[#This Row],[Estimated Quantity]]*BRFMand[[#This Row],[Unit Price]] -> 0
B31: (g) 30316 - Roadway Reconditioning, Compaction Method 2 | C31: Mile | D31: 13.56 | F31: =BRFMand[[#This Row],[Estimated Quantity]]*BRFMand[[#This Row],[Unit Price]] -> 0
B32: (h) 60201 - 24-inch pipe culvert, CMP, gage 16, Compaction Method 2 | C32: Foot | D32: 80 | F32: =BRFMand[[#This Row],[Estimated Quantity]]*BRFMand[[#This Row],[Unit Price]] -> 0
E33: Total All Mandatory Service Items | F33: =SUM(F3:F32) -> 0

Sheet BRF Optional Items
A1: Item No. | B1: Description of Optional Work Activities | C1: Unit of Measure | D1: Estimated Quantity | E1: Unit Price | F1: Total Price
A2: Contract Area C- Fred Burr
A3: 3c | B3: Flag, Tag, Paint and Measure Boundaries | C3: Acre | D3: 20 | F3: =Table2[[#This Row],[Estimated Quantity]]*Table2[[#This Row],[Unit Price]] -> 0
A4: 4c | B4: Volume Determination | C4: Lump Sum | D4: 1 | F4: =Table2[[#This Row],[Estimated Quantity]]*Table2[[#This Row],[Unit Price]] -> 0
A5: 7c | B5: Cut and Remove Included Timber (Helicopter) | C5: Ton | D5: 540 | F5: =Table2[[#This Row],[Estimated Quantity]]*Table2[[#This Row],[Unit Price]] -> 0
A6: Contract Area D- Square Tin
A7: 3d | B7: Flag, Tag, Paint and Measure Boundaries | C7: Acre | D7: 542 | F7: =Table2[[#This Row],[Estimated Quantity]]*Table2[[#This Row],[Unit Price]] -> 0
A8: 4d | B8: Volume Determination | C8: Lump Sum | D8: 1 | F8: =Table2[[#This Row],[Estimated Quantity]]*Table2[[#This Row],[Unit Price]] -> 0
A9: 7d | B9: Cut and Remove Included Timber (Helicopter) | C9: Ton | D9: 14634 | F9: =Table2[[#This Row],[Estimated Quantity]]*Table2[[#This Row],[Unit Price]] -> 0
A10: Contract Area E- Spoon McCoy
A11: 3e | B11: Flag, Tag, Paint and Measure Boundaries | C11: Acre | D11: 694 | F11: =Table2[[#This Row],[Estimated Quantity]]*Table2[[#This Row],[Unit Price]] -> 0
A12: 4e | B12: Volume Determination | C12: Lump Sum | D12: 1 | F12: =Table2[[#This Row],[Estimated Quantity]]*Table2[[#This Row],[Unit Price]] -> 0
A13: 7e | B13: Cut and Remove Included Timber (Helicopter) | C13: Tons | D13: 18738 | F13: =Table2[[#This Row],[Estimated Quantity]]*Table2[[#This Row],[Unit Price]] -> 0
A14: Contract Area F- Hart Trap
A15: 3f | B15: Flag, Tag, Paint and Measure Boundaries | C15: Acre | D15: 27 | F15: =Table2[[#This Row],[Estimated Quantity]]*Table2[[#This Row],[Unit Price]] -> 0
A16: 4f | B16: Volume Determination | C16: Lump Sum | D16: 1 | F16: =Table2[[#This Row],[Estimated Quantity]]*Table2[[#This Row],[Unit Price]] -> 0
A17: 5f | B17: Cut and Remove Included Timber (Ground based) | C17: Ton | D17: 29552 | F17: =Table2[[#This Row],[Estimated Quantity]]*Table2[[#This Row],[Unit Price]] -> 0
A18: 6f | B18: Cut and Remove Included Timber (Skyline/Tethered) | C18: Ton | D18: 22293 | F18: =Table2[[#This Row],[Estimated Quantity]]*Table2[[#This Row],[Unit Price]] -> 0
A19: 7f | B19: Cut and Remove Included Timber (Helicopter) | C19: Ton | D19: 729 | F19: =Table2[[#This Row],[Estimated Quantity]]*Table2[[#This Row],[Unit Price]] -> 0
A20: 2f | B20: Reconstruct NFS Roads: Hart Trap Subdivision | C20: Mile | D20: 45.69 | F20: =Table2[[#This Row],[Estimated Quantity]]*Table2[[#This Row],[Unit Price]] -> 0
B21: (a) 15101 - Mobilization | C21: Lump Sum | D21: 1 | F21: =Table2[[#This Row],[Estimated Quantity]]*Table2[[#This Row],[Unit Price]] -> 0
B22: (b) 15201 – Drainage Structure Survey and Staking | C22: Each | D22: 10 | F22: =Table2[[#This Row],[Estimated Quantity]]*Table2[[#This Row],[Unit Price]] -> 0
B23: (c) 15203 – Centerline Reestablishment, Tolerance Class B | C23: Mile | D23: 0.58 | F23: =Table2[[#This Row],[Estimated Quantity]]*Table2[[#This Row],[Unit Price]] -> 0
B24: (d) Slope, Reference, and Clearing and Grubbing: Method II, Tolerance Class B | C24: Mile | D24: 0.58 | F24: =Table2[[#This Row],[Estimated Quantity]]*Table2[[#This Row],[Unit Price]] -> 0
B25: (e) 15710 – Sediment Trap, 4’ x 4’ x 8’ | C25: Each | D25: 2 | F25: =Table2[[#This Row],[Estimated Quantity]]*Table2[[#This Row],[Unit Price]] -> 0
B26: (f) 20101 - Clearing and Grubbing, Disposal Method (k) | C26: Acre | D26: 2 | F26: =Table2[[#This Row],[Estimated Quantity]]*Table2[[#This Row],[Unit Price]] -> 0
B27: (g) 20209 - Selective Clearing, Type Roadside, Disposal Method (f) | C27: Mile | D27: 19.49 | F27: =Table2[[#This Row],[Estimated Quantity]]*Table2[[#This Row],[Unit Price]] -> 0
B28: (h) 20210 - Special Clearing and Grubbing, Type Roadway, Disposal Method (k), Compaction Method 3 | C28: Mile | D28: 2.25 | F28: =Table2[[#This Row],[Estimated Quantity]]*Table2[[#This Row],[Unit Price]] -> 0
B29: (i) 20401 - Roadway Excavation, Compaction Method 3, Tolerance Class J | C29: Cubic Yard* | D29: 4327 | F29: =Table2[[#This Row],[Estimated Quantity]]*Table2[[#This Row],[Unit Price]] -> 0
B30: (j) 20425 - Drainage Excavation, Type II Dip, Tolerance Class A, Compaction Method 2 | C30: Each | D30: 92 | F30: =Table2[[#This Row],[Estimated Quantity]]*Table2[[#This Row],[Unit Price]] -> 0
B31: (k) 21201 - Linear Grading, Compaction Placement Method 2, Disposal Method (k) | C31: Mile | D31: 1.76 | F31: =Table2[[#This Row],[Estimated Quantity]]*Table2[[#This Row],[Unit Price]] -> 0
B32: (l) 30316 - Roadway Reconditioning, Compaction Method 2 | C32: Mile | D32: 43.34 | F32: =Table2[[#This Row],[Estimated Quantity]]*Table2[[#This Row],[Unit Price]] -> 0
... B34: (n) 62501 – Turf Establishment, Dry Method | C34: Acre | D34: 1.1 | F34: =Table2[[#This Row],[Estimated Quantity]]*Table2[[#This Row],[Unit Price]] -> 0
A35: Contract Area G-- Bear Creek
A36: 3g | B36: Flag, Tag, Paint and Measure Boundaries | C36: Acre | D36: 168 | F36: =Table2[[#This Row],[Estimated Quantity]]*Table2[[#This Row],[Unit Price]] -> 0
A37: 4g | B37: Volume Determination | C37: Lump Sum | D37: 1 | F37: =Table2[[#This Row],[Estimated Quantity]]*Table2[[#This Row],[Unit Price]] -> 0
A38: 7g | B38: Cut and Remove Included Timber (Helicopter) | C38: Ton | D38: 4536 | F38: =Table2[[#This Row],[Estimated Quantity]]*Table2[[#This Row],[Unit Price]] -> 0
A39: Contract Area H- Cow Creek
A40: 3h | B40: Flag, Tag, Paint and Measure Boundaries | C40: Acre | D40: 175 | F40: =Table2[[#This Row],[Estimated Quantity]]*Table2[[#This Row],[Unit Price]] -> 0
A41: 4h | B41: Volume Determination | C41: Lump Sum | D41: 1 | F41: =Table2[[#This Row],[Estimated Quantity]]*Table2[[#This Row],[Unit Price]] -> 0
...

Sheet Timber Products
A1: Species | B1: Product | C1: Estimated Quantity | D1: Unit | E1: Minimum Acceptable Offer | F1: Offer | G1: Total Offer
A2: Sharrott Salvage Subdivision
A3: Douglas-fir and others | B3: Sawtimber | C3: 8021 | D3: Ton | E3: 70 | G3: =Table3[[#This Row],[Estimated Quantity]]*Table3[[#This Row],[Offer]] -> 0
A4: Ponderosa Pine | B4: Sawtimber | C4: 23 | D4: Ton | E4: 1 | G4: =Table3[[#This Row],[Estimated Quantity]]*Table3[[#This Row],[Offer]] -> 0
A5: McCalla Larson Subdivision
A6: Douglas-fir and others | B6: Sawtimber | C6: 23346 | D6: Ton | E6: 70 | G6: =Table3[[#This Row],[Estimated Quantity]]*Table3[[#This Row],[Offer]] -> 0
A7: Ponderosa Pine | B7: Sawtimber | C7: 5067 | D7: Ton | E7: 1 | G7: =Table3[[#This Row],[Estimated Quantity]]*Table3[[#This Row],[Offer]] -> 0
A8: Combined Softwood | B8: Non-saw (topwood) | C8: 378 | D8: Ton | E8: 0.01 | G8: =Table3[[#This Row],[Estimated Quantity]]*Table3[[#This Row],[Offer]] -> 0
A9: Fred Burr Subdivision
A10: Douglas-fir and others | B10: Sawtimber | C10: 1707 | D10: Ton | E10: 70 | G10: =Table3[[#This Row],[Estimated Quantity]]*Table3[[#This Row],[Offer]] -> 0
A11: Ponderosa Pine | B11: Sawtimber | C11: 239 | D11: Ton | E11: 1 | G11: =Table3[[#This Row],[Estimated Quantity]]*Table3[[#This Row],[Offer]] -> 0
A12: Combined Softwood | B12: Non-saw (topwood) | C12: 36 | D12: Ton | E12: 0.01 | G12: =Table3[[#This Row],[Estimated Quantity]]*Table3[[#This Row],[Offer]] -> 0
A13: Square Tin Subdivision
A14: Douglas-fir and others | B14: Sawtimber | C14: 7537 | D14: Ton | E14: 70 | G14: =Table3[[#This Row],[Estimated Quantity]]*Table3[[#This Row],[Offer]] -> 0
A15: Ponderosa Pine | B15: Sawtimber | C15: 1299 | D15: Ton | E15: 1 | G15: =Table3[[#This Row],[Estimated Quantity]]*Table3[[#This Row],[Offer]] -> 0
A16: Spoon McCoy Subdivision
A17: Douglas-fir and others | B17: Sawtimber | C17: 47813 | D17: Ton | E17: 70 | G17: =Table3[[#This Row],[Estimated Quantity]]*Table3[[#This Row],[Offer]] -> 0
A18: Ponderosa Pine | B18: Sawtimber | C18: 6830 | D18: Ton | E18: 1 | G18: =Table3[[#This Row],[Estimated Quantity]]*Table3[[#This Row],[Offer]] -> 0
A19: Combined Softwood | B19: Non-saw (topwood) | C19: 407 | D19: Ton | E19: 0.01 | G19: =Table3[[#This Row],[Estimated Quantity]]*Table3[[#This Row],[Offer]] -> 0
F20: Total – All Products | G20: =SUM(G3:G19) -> 0

Sheet Summary
B2: Subdivision | C2: Subdivision Total
B3: Sharrott Salvage Total | C3: =BRFMand[[#This Row],[Total Price]] -> 0
B4: McCalla Larson Total | C4: =SUM('BRF Mandatory Items'!F5:F12) -> 0
B5: Fred Burr Mandatory Total | C5: =SUM('BRF Mandatory Items'!F14:F21) -> 0
B6: Spoon McCoy Mandatory Total | C6: =SUM('BRF Mandatory Items'!F23:F32) -> 0
B7: Fred Burr Optional Total | C7: =SUM('BRF Optional Items'!F3:F5) -> 0
B8: Square Tin Total | C8: =SUM('BRF Optional Items'!F7:F9) -> 0
B9: Spoon McCoy Optional Total | C9: =SUM('BRF Optional Items'!F11:F13) -> 0
B10: Hart Trap Total | C10: =SUM('BRF Optional Items'!F15:F34) -> 0
B11: Bear Creek Total | C11: =SUM('BRF Optional Items'!F36:F38) -> 0
B12: Cow Creek Total | C12: =SUM('BRF Optional Items'!F40:F43) -> 0
B13: Gash Creek Total | C13: =SUM('BRF Optional Items'!F45:F48) -> 0
B14: Brooks Creek Total | C14: =SUM('BRF Optional Items'!F50:F53) -> 0
B15: Smith Creek Total | C15: =SUM('BRF Optional Items'!F55:F58) -> 0
B16: Rebel Horse Total | C16: =SUM('BRF Optional Items'!F60:F63) -> 0
B17: Tamarack Creek Total | C17: =SUM('BRF Optional Items'!F65:F69) -> 0
B18: Rock Lick Total | C18: =SUM('BRF Optional Items'!F71:F75) -> 0
B19: Bass Creek Total | C19: =SUM('BRF Optional Items'!F77:F80) -> 0
B20: Moose-Hays Total | C20: =SUM('BRF Optional Items'!F82:F86) -> 0
B21: Sweeny Creek Total | C21: =SUM('BRF Optional Items'!F88:F91) -> 0
B22: Road Reconstruction Options Total | C22: =SUM('BRF Optional Items'!F93:F111) -> 0
C23: =SUM(C3:C22) -> 0

Sheet Schedule Notes
