Workbook

Sheet Instructions
B2: TOWN OF CARY - Computer Aided Dispatch (CAD) Replacement Project
B3: RFP 354-PD27-07
B5: Vendor COST PROPOSAL
B6: Vendor Name
B8: The Town of Cary requests that Vendors offer their “best” solution(s) that will satisfy the requirements set forth in this RFP. If the proposal includes more than one solution based on the software applications or hosting platforms, there must be a separate cost itemization for each solution proposed. Please provide a Firm Fixed Price quote for the items listed in the tables below including ALL assumptions and adding rows as necessary: • C.1 – Base System Software with description of functionality (Material only) • C.2 – Recommended Optional Software Add-ons (Material only) • C.3 – Professional Services to Implement Base System (excluding Training) • C.4 – Professional Services to Implement Options • C.5 – Professional Services to provide Training • C.6 – Software Maintenance Agreement Years 1, 2, 3, 4, 5 • C.7 – Other associated costs • C.8 – Assumptions (no cost information required)

Sheet Cost Proposal Summary
A1: Cost Proposal Summary
A2: =Instructions!B6 -> Vendor Name
A4: Note: This is automatically populated based on the entries to C1-C8.
A6: # | B6: Component | C6: Price $
A7: C1 | B7: Base System Software with description of functionality (Material only) | C7: =SUM('C1 - Base System SW'!D12) -> 0
A8: C2 | B8: Recommended Optional Software Add-ons (Material only) | C8: =SUM('C2 - Optional SW'!D12) -> 0
A9: C3 | B9: Professional Services to Implement Base System (excluding Training) | C9: =SUM('C3 - Base Services'!F12) -> 0
A10: C4 | B10: Professional Services to Implement Options | C10: =SUM('C4 - Optional Services'!F12) -> 0
A11: C5 | B11: Professional Services to provide Training | C11: =SUM('C5 - Training Services'!F12) -> 0
A12: C6 | B12: Software Maintenance Agreement Years 1, 2, 3, 4, 5 (TOTAL) | C12: =SUM('C6 - Support-Maintenance'!C11) -> 0
A13: C7 | B13: Other Associated Costs | C13: =SUM('C7 - Other Costs'!D12) -> 0
B14: COST PROPOSAL TOTAL | C14: =SUM(C7:C13) -> 0

Sheet C1 - Base System SW
A1: Cost Proposal - C1 - Base System Software
A2: =Instructions!B6 -> Vendor Name
A5: # | B5: Component | C5: Description | D5: Price $ | E5: Assumptions
A6: 1 | D6: 0
A7: 2 | D7: 0
A8: 3 | D8: 0
A9: 4 | D9: 0
A10: 5 | D10: 0
A11: N* | D11: 0
C12: C1 Total | D12: =SUM(D6:D11) -> 0
A14: *Insert as many needed

Sheet C2 - Optional SW
A1: Cost Proposal - C2 - Recommended Optional Software / Modules / Add-ons (Material costs only)
A2: =Instructions!B6 -> Vendor Name
A5: # | B5: Component | C5: Description | D5: Price $ | E5: Assumptions
A6: 1 | D6: 0
A7: 2 | D7: 0
A8: 3 | D8: 0
A9: 4 | D9: 0
A10: 5 | D10: 0
A11: N* | D11: 0
C12: C2 Total | D12: =SUM(D6:D11) -> 0
A14: *Insert as many needed

Sheet C3 - Base Services
A1: Cost Proposal - C3 - Professional Services to Implement Base System (excluding Training)
A2: =Instructions!B6 -> Vendor Name
A5: # | B5: Resource Name | C5: Associated Projects / Work Streams | D5: Hourly Rates $ | E5: Estimated Hours | F5: Price $
A6: 1 | D6: 0 | E6: 0 | F6: =SUM(D6*E6) -> 0
A7: 2 | D7: 0 | E7: 0 | F7: =SUM(D7*E7) -> 0
A8: 3 | D8: 0 | E8: 0 | F8: =SUM(D8*E8) -> 0
A9: 4 | D9: 0 | E9: 0 | F9: =SUM(D9*E9) -> 0
A10: 5 | D10: 0 | E10: 0 | F10: =SUM(D10*E10) -> 0
A11: N* | D11: 0 | E11: 0 | F11: =SUM(D11*E11) -> 0
E12: C3 Total | F12: =SUM(F6:F11) -> 0
A14: *Insert as many needed

Sheet C4 - Optional Services
A1: Cost Proposal - C4 - Professional Services to Implement Optional Recommended Software / Modules / Add-ons (excluding Training)
A2: =Instructions!B6 -> Vendor Name
A5: # | B5: Resource Name | C5: Associated Projects / Work Streams | D5: Hourly Rates $ | E5: Estimated Hours | F5: Price $
A6: 1 | D6: 0 | E6: 0 | F6: =SUM(D6*E6) -> 0
A7: 2 | D7: 0 | E7: 0 | F7: =SUM(D7*E7) -> 0
A8: 3 | D8: 0 | E8: 0 | F8: =SUM(D8*E8) -> 0
A9: 4 | D9: 0 | E9: 0 | F9: =SUM(D9*E9) -> 0
A10: 5 | D10: 0 | E10: 0 | F10: =SUM(D10*E10) -> 0
A11: N* | D11: 0 | E11: 0 | F11: =SUM(D11*E11) -> 0
E12: C4 Total | F12: =SUM(F6:F11) -> 0
A14: *Insert as many needed

Sheet C5 - Training Services
A1: Cost Proposal - C5 - Professional Services to Implement Training
A2: =Instructions!B6 -> Vendor Name
A5: # | B5: Resource Name | C5: Associated Projects / Work Streams | D5: Hourly Rates $ | E5: Estimated Hours | F5: Hourly Rates $
A6: 1 | D6: 0 | E6: 0 | F6: =SUM(D6*E6) -> 0
A7: 2 | D7: 0 | E7: 0 | F7: =SUM(D7*E7) -> 0
A8: 3 | D8: 0 | E8: 0 | F8: =SUM(D8*E8) -> 0
A9: 4 | D9: 0 | E9: 0 | F9: =SUM(D9*E9) -> 0
A10: 5 | D10: 0 | E10: 0 | F10: =SUM(D10*E10) -> 0
A11: N* | D11: 0 | E11: 0 | F11: =SUM(D11*E11) -> 0
E12: C5 Total | F12: =SUM(F6:F11) -> 0
A14: *Insert as many needed

Sheet C6 - Support-Maintenance
A1: Cost Proposal - C6 - Software Support / Maintenance for Years 1, 2, 3, 4, 5
A2: =Instructions!B6 -> Vendor Name
A5: # | B5: Description | C5: Price $ | D5: Assumptions
A6: Year 1 | C6: 0
A7: Year 2 | C7: 0
A8: Year 3 | C8: 0
A9: Year 4 | C9: 0
A10: Year 5 | C10: 0
B11: C6 Total | C11: =SUM(C6:C10) -> 0
A13: Note: For maintenance and support services, please include an annual price for post-implementation maintenance and support for a further five-year period beyond successful implementation of the proposed solution into a production environment (customer acceptance). Any ongoing maintenance and support (i.e., production services) prior to the completion of all work provided under this agreement should be included in the Professional Services section of the Cost Proposal (C.3).

Sheet C7 - Other Costs
A1: Cost Proposal - C7 - Other Associated Costs
A2: =Instructions!B6 -> Vendor Name
A5: # | B5: Component | C5: Description | D5: Price $ | E5: Assumptions
A6: 1 | D6: 0
A7: 2 | D7: 0
A8: 3 | D8: 0
A9: 4 | D9: 0
A10: 5 | D10: 0
A11: N* | D11: 0
C12: C7 Total | D12: =SUM(D6:D11) -> 0
A14: *Insert as many needed

Sheet C8 - Cost Assumptions
A1: Cost Proposal - C8 - All Cost Proposal Assumptions
A2: =Instructions!B6 -> Vendor Name
A5: # | B5: Assumption | C5: Associated Cost Proposal Section(s) (All, or C1, C2, etc)
A6: 1
A7: 2
A8: 3
A9: 4
A10: 5
A11: N*
A13: *Insert as many needed

Sheet 31.0  Messaging
A2: Functional Requirements: Messaging (Alerts & Notifications)
A5: Source | B5: New ID | C5: Requirement Text | D5: Response Code (I, C, N) | E5: Estimated Hours to Customize | F5: Notes
A6: NEW | B6: AN - 01 | C6: The proposed solution must provide the ability to automatically display critical Alerts on screen and print on lists (e.g., Court Movement list).
A7: NEW | B7: AN - 02 | C7: The proposed solution must provide the ability to automatically track multiple PDP-defined criteria (e.g., medical/psych conditions, high-risk, high-profile, murder charge, escape risk, assault risk, etc.) for an inmate.
