Workbook

Sheet Price Proposal
A1: Product Information | F1: MFC Information | I1: Tracking Customer Information | L1: FSS Information
A2: SIN# | B2: Item # | C2: Product Name / Description, Including Assay Method & All Applicable CPT Codes | D2: Country of Origin (See Country Codes Tab) | E2: Commercial List Price ($) | F2: MFC Net Price ($) | G2: MFC % Off Comm. List Price | H2: MFC Name | I2: Proposed Tracking Customer (TC) Name | J2: Proposed TC Net Price ($) | K2: TC % Off Comm. List Price | L2: Proposed, All Inclusive (see Doc 02) FSS Price ($) without IFF | M2: Proposed, All Inclusive FSS Discount (%) off Comm. List w/out IFF | N2: Proposed, All Inclusive (see Doc 02) FSS Price ($) with IFF
G3: =IF(ISBLANK(E3)," ",((E3-F3)/E3)) | K3: =IF(ISBLANK(E3)," ",((E3-J3)/E3)) | M3: =IF(ISBLANK(E3)," ",((E3-L3)/E3)) | N3: =IF(ISBLANK(L3)," ",(L3/0.99))
G4: =IF(ISBLANK(E4)," ",((E4-F4)/E4)) | K4: =IF(ISBLANK(E4)," ",((E4-J4)/E4)) | M4: =IF(ISBLANK(E4)," ",((E4-L4)/E4)) | N4: =IF(ISBLANK(L4)," ",(L4/0.99)) | O4: 42-1
G5: =IF(ISBLANK(E5)," ",((E5-F5)/E5)) | K5: =IF(ISBLANK(E5)," ",((E5-J5)/E5)) | M5: =IF(ISBLANK(E5)," ",((E5-L5)/E5)) | N5: =IF(ISBLANK(L5)," ",(L5/0.99)) | O5: 42-2B
G6: =IF(ISBLANK(E6)," ",((E6-F6)/E6)) | K6: =IF(ISBLANK(E6)," ",((E6-J6)/E6)) | M6: =IF(ISBLANK(E6)," ",((E6-L6)/E6)) | N6: =IF(ISBLANK(L6)," ",(L6/0.99)) | O6: 42-3
G7: =IF(ISBLANK(E7)," ",((E7-F7)/E7)) | K7: =IF(ISBLANK(E7)," ",((E7-J7)/E7)) | M7: =IF(ISBLANK(E7)," ",((E7-L7)/E7)) | N7: =IF(ISBLANK(L7)," ",(L7/0.99)) | O7: 42-5
G8: =IF(ISBLANK(E8)," ",((E8-F8)/E8)) | K8: =IF(ISBLANK(E8)," ",((E8-J8)/E8)) | M8: =IF(ISBLANK(E8)," ",((E8-L8)/E8)) | N8: =IF(ISBLANK(L8)," ",(L8/0.99)) | O8: 622
G9: =IF(ISBLANK(E9)," ",((E9-F9)/E9)) | K9: =IF(ISBLANK(E9)," ",((E9-J9)/E9)) | M9: =IF(ISBLANK(E9)," ",((E9-L9)/E9)) | N9: =IF(ISBLANK(L9)," ",(L9/0.99)) | O9: INP
G10: =IF(ISBLANK(E10)," ",((E10-F10)/E10)) | K10: =IF(ISBLANK(E10)," ",((E10-J10)/E10)) | M10: =IF(ISBLANK(E10)," ",((E10-L10)/E10)) | N10: =IF(ISBLANK(L10)," ",(L10/0.99))
G11: =IF(ISBLANK(E11)," ",((E11-F11)/E11)) | K11: =IF(ISBLANK(E11)," ",((E11-J11)/E11)) | M11: =IF(ISBLANK(E11)," ",((E11-L11)/E11)) | N11: =IF(ISBLANK(L11)," ",(L11/0.99))
G12: =IF(ISBLANK(E12)," ",((E12-F12)/E12)) | K12: =IF(ISBLANK(E12)," ",((E12-J12)/E12)) | M12: =IF(ISBLANK(E12)," ",((E12-L12)/E12)) | N12: =IF(ISBLANK(L12)," ",(L12/0.99))
G13: =IF(ISBLANK(E13)," ",((E13-F13)/E13)) | K13: =IF(ISBLANK(E13)," ",((E13-J13)/E13)) | M13: =IF(ISBLANK(E13)," ",((E13-L13)/E13)) | N13: =IF(ISBLANK(L13)," ",(L13/0.99))
G14: =IF(ISBLANK(E14)," ",((E14-F14)/E14)) | K14: =IF(ISBLANK(E14)," ",((E14-J14)/E14)) | M14: =IF(ISBLANK(E14)," ",((E14-L14)/E14)) | N14: =IF(ISBLANK(L14)," ",(L14/0.99))
G15: =IF(ISBLANK(E15)," ",((E15-F15)/E15)) | K15: =IF(ISBLANK(E15)," ",((E15-J15)/E15)) | M15: =IF(ISBLANK(E15)," ",((E15-L15)/E15)) | N15: =IF(ISBLANK(L15)," ",(L15/0.99))
G16: =IF(ISBLANK(E16)," ",((E16-F16)/E16)) | K16: =IF(ISBLANK(E16)," ",((E16-J16)/E16)) | M16: =IF(ISBLANK(E16)," ",((E16-L16)/E16)) | N16: =IF(ISBLANK(L16)," ",(L16/0.99))
G17: =IF(ISBLANK(E17)," ",((E17-F17)/E17)) | K17: =IF(ISBLANK(E17)," ",((E17-J17)/E17)) | M17: =IF(ISBLANK(E17)," ",((E17-L17)/E17)) | N17: =IF(ISBLANK(L17)," ",(L17/0.99))
G18: =IF(ISBLANK(E18)," ",((E18-F18)/E18)) | K18: =IF(ISBLANK(E18)," ",((E18-J18)/E18)) | M18: =IF(ISBLANK(E18)," ",((E18-L18)/E18)) | N18: =IF(ISBLANK(L18)," ",(L18/0.99))
G19: =IF(ISBLANK(E19)," ",((E19-F19)/E19)) | K19: =IF(ISBLANK(E19)," ",((E19-J19)/E19)) | M19: =IF(ISBLANK(E19)," ",((E19-L19)/E19)) | N19: =IF(ISBLANK(L19)," ",(L19/0.99))
G20: =IF(ISBLANK(E20)," ",((E20-F20)/E20)) | K20: =IF(ISBLANK(E20)," ",((E20-J20)/E20)) | M20: =IF(ISBLANK(E20)," ",((E20-L20)/E20)) | N20: =IF(ISBLANK(L20)," ",(L20/0.99))
G21: =IF(ISBLANK(E21)," ",((E21-F21)/E21)) | K21: =IF(ISBLANK(E21)," ",((E21-J21)/E21)) | M21: =IF(ISBLANK(E21)," ",((E21-L21)/E21)) | N21: =IF(ISBLANK(L21)," ",(L21/0.99))
... G1002: =IF(ISBLANK(E1002)," ",((E1002-F1002)/E1002)) | K1002: =IF(ISBLANK(E1002)," ",((E1002-J1002)/E1002)) | M1002: =IF(ISBLANK(E1002)," ",((E1002-L1002)/E1002)) | N1002: =IF(ISBLANK(L1002)," ",(L1002/0.99))

Sheet Test Send-Outs Proposal
A1: Product Information | G1: MFC Information | J1: Tracking Customer Information | M1: FSS Information
A2: SIN# | B2: Item # | C2: Product Name / Description, Including Assay Method & All Applicable CPT Codes | D2: Country of Origin (See Country Codes Tab) | E2: Name of Subcontractor | F2: Commercial List Price ($) | G2: MFC Net Price ($) | H2: MFC % Off Comm. List Price | I2: MFC Name | J2: Proposed Tracking Customer (TC) Name | K2: Proposed TC Net Price ($) | L2: TC % Off Comm. List Price | M2: Proposed, All Inclusive (see Doc 02) FSS Price ($) without IFF | N2: Proposed, All Inclusive FSS Discount (%) off Comm. List w/out IFF | O2: Proposed, All Inclusive (see Doc 02) FSS Price ($) with IFF
H3: =IF(ISBLANK(F3)," ",((F3-G3)/F3)) | L3: =IF(ISBLANK(F3)," ",((F3-K3)/F3)) | N3: =IF(ISBLANK(F3)," ",((F3-M3)/F3)) | O3: =IF(ISBLANK(M3)," ",(M3/0.99))
H4: =IF(ISBLANK(F4)," ",((F4-G4)/F4)) | L4: =IF(ISBLANK(F4)," ",((F4-K4)/F4)) | N4: =IF(ISBLANK(F4)," ",((F4-M4)/F4)) | O4: =IF(ISBLANK(M4)," ",(M4/0.99)) | P4: 42-1
H5: =IF(ISBLANK(F5)," ",((F5-G5)/F5)) | L5: =IF(ISBLANK(F5)," ",((F5-K5)/F5)) | N5: =IF(ISBLANK(F5)," ",((F5-M5)/F5)) | O5: =IF(ISBLANK(M5)," ",(M5/0.99)) | P5: 42-2B
H6: =IF(ISBLANK(F6)," ",((F6-G6)/F6)) | L6: =IF(ISBLANK(F6)," ",((F6-K6)/F6)) | N6: =IF(ISBLANK(F6)," ",((F6-M6)/F6)) | O6: =IF(ISBLANK(M6)," ",(M6/0.99)) | P6: 42-3
H7: =IF(ISBLANK(F7)," ",((F7-G7)/F7)) | L7: =IF(ISBLANK(F7)," ",((F7-K7)/F7)) | N7: =IF(ISBLANK(F7)," ",((F7-M7)/F7)) | O7: =IF(ISBLANK(M7)," ",(M7/0.99)) | P7: 42-5
H8: =IF(ISBLANK(F8)," ",((F8-G8)/F8)) | L8: =IF(ISBLANK(F8)," ",((F8-K8)/F8)) | N8: =IF(ISBLANK(F8)," ",((F8-M8)/F8)) | O8: =IF(ISBLANK(M8)," ",(M8/0.99)) | P8: 622
H9: =IF(ISBLANK(F9)," ",((F9-G9)/F9)) | L9: =IF(ISBLANK(F9)," ",((F9-K9)/F9)) | N9: =IF(ISBLANK(F9)," ",((F9-M9)/F9)) | O9: =IF(ISBLANK(M9)," ",(M9/0.99)) | P9: INP
H10: =IF(ISBLANK(F10)," ",((F10-G10)/F10)) | L10: =IF(ISBLANK(F10)," ",((F10-K10)/F10)) | N10: =IF(ISBLANK(F10)," ",((F10-M10)/F10)) | O10: =IF(ISBLANK(M10)," ",(M10/0.99))
H11: =IF(ISBLANK(F11)," ",((F11-G11)/F11)) | L11: =IF(ISBLANK(F11)," ",((F11-K11)/F11)) | N11: =IF(ISBLANK(F11)," ",((F11-M11)/F11)) | O11: =IF(ISBLANK(M11)," ",(M11/0.99))
H12: =IF(ISBLANK(F12)," ",((F12-G12)/F12)) | L12: =IF(ISBLANK(F12)," ",((F12-K12)/F12)) | N12: =IF(ISBLANK(F12)," ",((F12-M12)/F12)) | O12: =IF(ISBLANK(M12)," ",(M12/0.99))
H13: =IF(ISBLANK(F13)," ",((F13-G13)/F13)) | L13: =IF(ISBLANK(F13)," ",((F13-K13)/F13)) | N13: =IF(ISBLANK(F13)," ",((F13-M13)/F13)) | O13: =IF(ISBLANK(M13)," ",(M13/0.99))
H14: =IF(ISBLANK(F14)," ",((F14-G14)/F14)) | L14: =IF(ISBLANK(F14)," ",((F14-K14)/F14)) | N14: =IF(ISBLANK(F14)," ",((F14-M14)/F14)) | O14: =IF(ISBLANK(M14)," ",(M14/0.99))
H15: =IF(ISBLANK(F15)," ",((F15-G15)/F15)) | L15: =IF(ISBLANK(F15)," ",((F15-K15)/F15)) | N15: =IF(ISBLANK(F15)," ",((F15-M15)/F15)) | O15: =IF(ISBLANK(M15)," ",(M15/0.99))
H16: =IF(ISBLANK(F16)," ",((F16-G16)/F16)) | L16: =IF(ISBLANK(F16)," ",((F16-K16)/F16)) | N16: =IF(ISBLANK(F16)," ",((F16-M16)/F16)) | O16: =IF(ISBLANK(M16)," ",(M16/0.99))
H17: =IF(ISBLANK(F17)," ",((F17-G17)/F17)) | L17: =IF(ISBLANK(F17)," ",((F17-K17)/F17)) | N17: =IF(ISBLANK(F17)," ",((F17-M17)/F17)) | O17: =IF(ISBLANK(M17)," ",(M17/0.99))
H18: =IF(ISBLANK(F18)," ",((F18-G18)/F18)) | L18: =IF(ISBLANK(F18)," ",((F18-K18)/F18)) | N18: =IF(ISBLANK(F18)," ",((F18-M18)/F18)) | O18: =IF(ISBLANK(M18)," ",(M18/0.99))
H19: =IF(ISBLANK(F19)," ",((F19-G19)/F19)) | L19: =IF(ISBLANK(F19)," ",((F19-K19)/F19)) | N19: =IF(ISBLANK(F19)," ",((F19-M19)/F19)) | O19: =IF(ISBLANK(M19)," ",(M19/0.99))
H20: =IF(ISBLANK(F20)," ",((F20-G20)/F20)) | L20: =IF(ISBLANK(F20)," ",((F20-K20)/F20)) | N20: =IF(ISBLANK(F20)," ",((F20-M20)/F20)) | O20: =IF(ISBLANK(M20)," ",(M20/0.99))
H21: =IF(ISBLANK(F21)," ",((F21-G21)/F21)) | L21: =IF(ISBLANK(F21)," ",((F21-K21)/F21)) | N21: =IF(ISBLANK(F21)," ",((F21-M21)/F21)) | O21: =IF(ISBLANK(M21)," ",(M21/0.99))
... H502: =IF(ISBLANK(F502)," ",((F502-G502)/F502)) | L502: =IF(ISBLANK(F502)," ",((F502-K502)/F502)) | N502: =IF(ISBLANK(F502)," ",((F502-M502)/F502)) | O502: =IF(ISBLANK(M502)," ",(M502/0.99))

Sheet Figure 515.4-2
A1: The Government expects you to provide information required by the format in accordance with the solicitation instructions for Figure 515.4-2 that is, to the best of your knowledge and belief, current, accurate, and complete as of 60 calendar days prior to its submission. The data provided in the price proposal tab and Figure 515.4-2 is current, accurate, and complete as of (enter date in cell to the right). | E1: Enter date in this cell based on instructions to the left.
A2: Column 1 - Customer | B2: Column 2 - Discount | C2: Column 3 - Quantity/Volume | D2: Column 4 - FOB Terms | E2: Column 5 - Additional Discounts or Concessions
A16: Please reference the instructions for this Figure in the CSP-1 section of the solicitation and in the "Contractor Guide to CSP" found on our Training
A17: web page under the "Prospective Contractors - Solicitation Assistance" section at: https://www.va.gov/oal/business/fss/training.asp.

Sheet NonManufacturers
A1: SIN# | B1: Mfr Name | C1: Mfr Part # | D1: Dealer/Reseller Part # | E1: Product Description | F1: Mfr List Price | G1: Dealer/Reseller % discount off Mfr. List Price

Sheet Country Codes
A1: Country | B1: Code
A2: Afghanistan | B2: AF
A3: Albania | B3: AL
A4: Alberta | B4: XA
A5: Algeria | B5: DZ
A6: American Samoa | B6: AS
A7: Andorra | B7: AD
A8: Angola | B8: AO
A9: Anguilla | B9: AI
A10: Antigua & Barbuda | B10: AG
A11: APO Customs Mail Entry Only | B11: AP
A12: Argentina | B12: AR
... A264: Zimbabwe | B264: ZW

Sheet Non-TSO Price Analysis
J1: MFC and TC Analysis
A2: SIN# | B2: Item # | C2: Commercial List Price ($) | D2: MFC Net Price ($) | E2: MFC Discount off Comm. List Price (%) | F2: Proposed TC Net Price ($) | G2: TC Discount off Comm. List Price (%) | H2: Proposed, All Inclusive FSS Price ($) without IFF | I2: Proposed FSS Discount off Comm. Price w/out IFF (%) | J2: Is Proposed Gov't Price (w/out IFF) <= MFC Price? | K2: Proposed TC Ratio
A3: =IF(ISBLANK('Price Proposal'!A3)," ",'Price Proposal'!A3) | B3: =IF(ISBLANK('Price Proposal'!B3)," ",'Price Proposal'!B3) | C3: =IF(ISBLANK('Price Proposal'!E3)," ",'Price Proposal'!E3) | D3: =IF(ISBLANK('Price Proposal'!F3)," ",'Price Proposal'!F3) | E3: =IF(ISBLANK('Price Proposal'!G3)," ",'Price Proposal'!G3) | F3: =IF(ISBLANK('Price Proposal'!J3)," ",'Price Proposal'!J3) | G3: =IF(ISBLANK('Price Proposal'!K3)," ",'Price Proposal'!K3) | H3: =IF(ISBLANK('Price Proposal'!L3)," ",'Price Proposal'!L3) | I3: =IF(ISBLANK('Price Proposal'!M3)," ",'Price Proposal'!M3) | J3: =IFERROR(IF((ROUND(H3,2))<=(ROUND(D3,2)),"YES","NO")," ") | K3: =IFERROR(IF(ISBLANK(H3)," ",(H3/F3))," ")
A4: =IF(ISBLANK('Price Proposal'!A4)," ",'Price Proposal'!A4) | B4: =IF(ISBLANK('Price Proposal'!B4)," ",'Price Proposal'!B4) | C4: =IF(ISBLANK('Price Proposal'!E4)," ",'Price Proposal'!E4) | D4: =IF(ISBLANK('Price Proposal'!F4)," ",'Price Proposal'!F4) | E4: =IF(ISBLANK('Price Proposal'!G4)," ",'Price Proposal'!G4) | F4: =IF(ISBLANK('Price Proposal'!J4)," ",'Price Proposal'!J4) | G4: =IF(ISBLANK('Price Proposal'!K4)," ",'Price Proposal'!K4) | H4: =IF(ISBLANK('Price Proposal'!L4)," ",'Price Proposal'!L4) | I4: =IF(ISBLANK('Price Proposal'!M4)," ",'Price Proposal'!M4) | J4: =IFERROR(IF((ROUND(H4,2))<=(ROUND(D4,2)),"YES","NO")," ") | K4: =IFERROR(IF(ISBLANK(H4)," ",(H4/F4))," ")
A5: =IF(ISBLANK('Price Proposal'!A5)," ",'Price Proposal'!A5) | B5: =IF(ISBLANK('Price Proposal'!B5)," ",'Price Proposal'!B5) | C5: =IF(ISBLANK('Price Proposal'!E5)," ",'Price Proposal'!E5) | D5: =IF(ISBLANK('Price Proposal'!F5)," ",'Price Proposal'!F5) | E5: =IF(ISBLANK('Price Proposal'!G5)," ",'Price Proposal'!G5) | F5: =IF(ISBLANK('Price Proposal'!J5)," ",'Price Proposal'!J5) | G5: =IF(ISBLANK('Price Proposal'!K5)," ",'Price Proposal'!K5) | H5: =IF(ISBLANK('Price Proposal'!L5)," ",'Price Proposal'!L5) | I5: =IF(ISBLANK('Price Proposal'!M5)," ",'Price Proposal'!M5) | J5: =IFERROR(IF((ROUND(H5,2))<=(ROUND(D5,2)),"YES","NO")," ") | K5: =IFERROR(IF(ISBLANK(H5)," ",(H5/F5))," ")
A6: =IF(ISBLANK('Price Proposal'!A6)," ",'Price Proposal'!A6) | B6: =IF(ISBLANK('Price Proposal'!B6)," ",'Price Proposal'!B6) | C6: =IF(ISBLANK('Price Proposal'!E6)," ",'Price Proposal'!E6) | D6: =IF(ISBLANK('Price Proposal'!F6)," ",'Price Proposal'!F6) | E6: =IF(ISBLANK('Price Proposal'!G6)," ",'Price Proposal'!G6) | F6: =IF(ISBLANK('Price Proposal'!J6)," ",'Price Proposal'!J6) | G6: =IF(ISBLANK('Price Proposal'!K6)," ",'Price Proposal'!K6) | H6: =IF(ISBLANK('Price Proposal'!L6)," ",'Price Proposal'!L6) | I6: =IF(ISBLANK('Price Proposal'!M6)," ",'Price Proposal'!M6) | J6: =IFERROR(IF((ROUND(H6,2))<=(ROUND(D6,2)),"YES","NO")," ") | K6: =IFERROR(IF(ISBLANK(H6)," ",(H6/F6))," ")
A7: =IF(ISBLANK('Price Proposal'!A7)," ",'Price Proposal'!A7) | B7: =IF(ISBLANK('Price Proposal'!B7)," ",'Price Proposal'!B7) | C7: =IF(ISBLANK('Price Proposal'!E7)," ",'Price Proposal'!E7) | D7: =IF(ISBLANK('Price Proposal'!F7)," ",'Price Proposal'!F7) | E7: =IF(ISBLANK('Price Proposal'!G7)," ",'Price Proposal'!G7) | F7: =IF(ISBLANK('Price Proposal'!J7)," ",'Price Proposal'!J7) | G7: =IF(ISBLANK('Price Proposal'!K7)," ",'Price Proposal'!K7) | H7: =IF(ISBLANK('Price Proposal'!L7)," ",'Price Proposal'!L7) | I7: =IF(ISBLANK('Price Proposal'!M7)," ",'Price Proposal'!M7) | J7: =IFERROR(IF((ROUND(H7,2))<=(ROUND(D7,2)),"YES","NO")," ") | K7: =IFERROR(IF(ISBLANK(H7)," ",(H7/F7))," ")
A8: =IF(ISBLANK('Price Proposal'!A8)," ",'Price Proposal'!A8) | B8: =IF(ISBLANK('Price Proposal'!B8)," ",'Price Proposal'!B8) | C8: =IF(ISBLANK('Price Proposal'!E8)," ",'Price Proposal'!E8) | D8: =IF(ISBLANK('Price Proposal'!F8)," ",'Price Proposal'!F8) | E8: =IF(ISBLANK('Price Proposal'!G8)," ",'Price Proposal'!G8) | F8: =IF(ISBLANK('Price Proposal'!J8)," ",'Price Proposal'!J8) | G8: =IF(ISBLANK('Price Proposal'!K8)," ",'Price Proposal'!K8) | H8: =IF(ISBLANK('Price Proposal'!L8)," ",'Price Proposal'!L8) | I8: =IF(ISBLANK('Price Proposal'!M8)," ",'Price Proposal'!M8) | J8: =IFERROR(IF((ROUND(H8,2))<=(ROUND(D8,2)),"YES","NO")," ") | K8: =IFERROR(IF(ISBLANK(H8)," ",(H8/F8))," ")
A9: =IF(ISBLANK('Price Proposal'!A9)," ",'Price Proposal'!A9) | B9: =IF(ISBLANK('Price Proposal'!B9)," ",'Price Proposal'!B9) | C9: =IF(ISBLANK('Price Proposal'!E9)," ",'Price Proposal'!E9) | D9: =IF(ISBLANK('Price Proposal'!F9)," ",'Price Proposal'!F9) | E9: =IF(ISBLANK('Price Proposal'!G9)," ",'Price Proposal'!G9) | F9: =IF(ISBLANK('Price Proposal'!J9)," ",'Price Proposal'!J9) | G9: =IF(ISBLANK('Price Proposal'!K9)," ",'Price Proposal'!K9) | H9: =IF(ISBLANK('Price Proposal'!L9)," ",'Price Proposal'!L9) | I9: =IF(ISBLANK('Price Proposal'!M9)," ",'Price Proposal'!M9) | J9: =IFERROR(IF((ROUND(H9,2))<=(ROUND(D9,2)),"YES","NO")," ") | K9: =IFERROR(IF(ISBLANK(H9)," ",(H9/F9))," ")
A10: =IF(ISBLANK('Price Proposal'!A10)," ",'Price Proposal'!A10) | B10: =IF(ISBLANK('Price Proposal'!B10)," ",'Price Proposal'!B10) | C10: =IF(ISBLANK('Price Proposal'!E10)," ",'Price Proposal'!E10) | D10: =IF(ISBLANK('Price Proposal'!F10)," ",'Price Proposal'!F10) | E10: =IF(ISBLANK('Price Proposal'!G10)," ",'Price Proposal'!G10) | F10: =IF(ISBLANK('Price Proposal'!J10)," ",'Price Proposal'!J10) | G10: =IF(ISBLANK('Price Proposal'!K10)," ",'Price Proposal'!K10) | H10: =IF(ISBLANK('Price Proposal'!L10)," ",'Price Proposal'!L10) | I10: =IF(ISBLANK('Price Proposal'!M10)," ",'Price Proposal'!M10) | J10: =IFERROR(IF((ROUND(H10,2))<=(ROUND(D10,2)),"YES","NO")," ") | K10: =IFERROR(IF(ISBLANK(H10)," ",(H10/F10))," ")
A11: =IF(ISBLANK('Price Proposal'!A11)," ",'Price Proposal'!A11) | B11: =IF(ISBLANK('Price Proposal'!B11)," ",'Price Proposal'!B11) | C11: =IF(ISBLANK('Price Proposal'!E11)," ",'Price Proposal'!E11) | D11: =IF(ISBLANK('Price Proposal'!F11)," ",'Price Proposal'!F11) | E11: =IF(ISBLANK('Price Proposal'!G11)," ",'Price Proposal'!G11) | F11: =IF(ISBLANK('Price Proposal'!J11)," ",'Price Proposal'!J11) | G11: =IF(ISBLANK('Price Proposal'!K11)," ",'Price Proposal'!K11) | H11: =IF(ISBLANK('Price Proposal'!L11)," ",'Price Proposal'!L11) | I11: =IF(ISBLANK('Price Proposal'!M11)," ",'Price Proposal'!M11) | J11: =IFERROR(IF((ROUND(H11,2))<=(ROUND(D11,2)),"YES","NO")," ") | K11: =IFERROR(IF(ISBLANK(H11)," ",(H11/F11))," ")
A12: =IF(ISBLANK('Price Proposal'!A12)," ",'Price Proposal'!A12) | B12: =IF(ISBLANK('Price Proposal'!B12)," ",'Price Proposal'!B12) | C12: =IF(ISBLANK('Price Proposal'!E12)," ",'Price Proposal'!E12) | D12: =IF(ISBLANK('Price Proposal'!F12)," ",'Price Proposal'!F12) | E12: =IF(ISBLANK('Price Proposal'!G12)," ",'Price Proposal'!G12) | F12: =IF(ISBLANK('Price Proposal'!J12)," ",'Price Proposal'!J12) | G12: =IF(ISBLANK('Price Proposal'!K12)," ",'Price Proposal'!K12) | H12: =IF(ISBLANK('Price Proposal'!L12)," ",'Price Proposal'!L12) | I12: =IF(ISBLANK('Price Proposal'!M12)," ",'Price Proposal'!M12) | J12: =IFERROR(IF((ROUND(H12,2))<=(ROUND(D12,2)),"YES","NO")," ") | K12: =IFERROR(IF(ISBLANK(H12)," ",(H12/F12))," ")
A13: =IF(ISBLANK('Price Proposal'!A13)," ",'Price Proposal'!A13) | B13: =IF(ISBLANK('Price Proposal'!B13)," ",'Price Proposal'!B13) | C13: =IF(ISBLANK('Price Proposal'!E13)," ",'Price Proposal'!E13) | D13: =IF(ISBLANK('Price Proposal'!F13)," ",'Price Proposal'!F13) | E13: =IF(ISBLANK('Price Proposal'!G13)," ",'Price Proposal'!G13) | F13: =IF(ISBLANK('Price Proposal'!J13)," ",'Price Proposal'!J13) | G13: =IF(ISBLANK('Price Proposal'!K13)," ",'Price Proposal'!K13) | H13: =IF(ISBLANK('Price Proposal'!L13)," ",'Price Proposal'!L13) | I13: =IF(ISBLANK('Price Proposal'!M13)," ",'Price Proposal'!M13) | J13: =IFERROR(IF((ROUND(H13,2))<=(ROUND(D13,2)),"YES","NO")," ") | K13: =IFERROR(IF(ISBLANK(H13)," ",(H13/F13))," ")
A14: =IF(ISBLANK('Price Proposal'!A14)," ",'Price Proposal'!A14) | B14: =IF(ISBLANK('Price Proposal'!B14)," ",'Price Proposal'!B14) | C14: =IF(ISBLANK('Price Proposal'!E14)," ",'Price Proposal'!E14) | D14: =IF(ISBLANK('Price Proposal'!F14)," ",'Price Proposal'!F14) | E14: =IF(ISBLANK('Price Proposal'!G14)," ",'Price Proposal'!G14) | F14: =IF(ISBLANK('Price Proposal'!J14)," ",'Price Proposal'!J14) | G14: =IF(ISBLANK('Price Proposal'!K14)," ",'Price Proposal'!K14) | H14: =IF(ISBLANK('Price Proposal'!L14)," ",'Price Proposal'!L14) | I14: =IF(ISBLANK('Price Proposal'!M14)," ",'Price Proposal'!M14) | J14: =IFERROR(IF((ROUND(H14,2))<=(ROUND(D14,2)),"YES","NO")," ") | K14: =IFERROR(IF(ISBLANK(H14)," ",(H14/F14))," ")
... A1002: =IF(ISBLANK('Price Proposal'!A1002)," ",'Price Proposal'!A1002) | B1002: =IF(ISBLANK('Price Proposal'!B1002)," ",'Price Proposal'!B1002) | C1002: =IF(ISBLANK('Price Proposal'!E1002)," ",'Price Proposal'!E1002) | D1002: =IF(ISBLANK('Price Proposal'!F1002)," ",'Price Proposal'!F1002) | E1002: =IF(ISBLANK('Price Proposal'!G1002)," ",'Price Proposal'!G1002) | F1002: =IF(ISBLANK('Price Proposal'!J1002)," ",'Price Proposal'!J1002) | G1002: =IF(ISBLANK('Price Proposal'!K1002)," ",'Price Proposal'!K1002) | H1002: =IF(ISBLANK('Price Proposal'!L1002)," ",'Price Proposal'!L1002) | I1002: =IF(ISBLANK('Price Proposal'!M1002)," ",'Price Proposal'!M1002) | J1002: =IFERROR(IF((ROUND(H1002,2))<=(ROUND(D1002,2)),"YES","NO")," ") | K1002: =IFERROR(IF(ISBLANK(H1002)," ",(H1002/F1002))," ")

Sheet TSO Price Analysis
J1: MFC and TC Analysis
A2: SIN# | B2: Item # | C2: Commercial List Price ($) | D2: MFC Net Price ($) | E2: MFC Discount off Comm. List Price (%) | F2: Proposed TC Net Price ($) | G2: TC Discount off Comm. List Price (%) | H2: Proposed, All Inclusive FSS Price ($) without IFF | I2: Proposed FSS Discount off Comm. Price w/out IFF (%) | J2: Is Proposed Gov't Price (w/out IFF) <= MFC Price? | K2: Proposed TC Ratio
A3: =IF(ISBLANK('Test Send-Outs Proposal'!A3)," ",'Test Send-Outs Proposal'!A3) | B3: =IF(ISBLANK('Test Send-Outs Proposal'!B3)," ",'Test Send-Outs Proposal'!B3) | C3: =IF(ISBLANK('Test Send-Outs Proposal'!F3)," ",'Test Send-Outs Proposal'!F3) | D3: =IF(ISBLANK('Test Send-Outs Proposal'!G3)," ",'Test Send-Outs Proposal'!G3) | E3: =IF(ISBLANK('Test Send-Outs Proposal'!G3)," ",'Test Send-Outs Proposal'!H3) | F3: =IF(ISBLANK('Test Send-Outs Proposal'!K3)," ",'Test Send-Outs Proposal'!K3) | G3: =IF(ISBLANK('Test Send-Outs Proposal'!L3)," ",'Test Send-Outs Proposal'!L3) | H3: =IF(ISBLANK('Test Send-Outs Proposal'!M3)," ",'Test Send-Outs Proposal'!M3) | I3: =IF(ISBLANK('Test Send-Outs Proposal'!N3)," ",'Test Send-Outs Proposal'!N3) | J3: =IFERROR(IF((ROUND(H3,2))<=(ROUND(D3,2)),"YES","NO")," ") | K3: =IFERROR(IF(ISBLANK(H3)," ",(H3/F3))," ")
A4: =IF(ISBLANK('Test Send-Outs Proposal'!A4)," ",'Test Send-Outs Proposal'!A4) | B4: =IF(ISBLANK('Test Send-Outs Proposal'!B4)," ",'Test Send-Outs Proposal'!B4) | C4: =IF(ISBLANK('Test Send-Outs Proposal'!F4)," ",'Test Send-Outs Proposal'!F4) | D4: =IF(ISBLANK('Test Send-Outs Proposal'!G4)," ",'Test Send-Outs Proposal'!G4) | E4: =IF(ISBLANK('Test Send-Outs Proposal'!G4)," ",'Test Send-Outs Proposal'!H4) | F4: =IF(ISBLANK('Test Send-Outs Proposal'!K4)," ",'Test Send-Outs Proposal'!K4) | G4: =IF(ISBLANK('Test Send-Outs Proposal'!L4)," ",'Test Send-Outs Proposal'!L4) | H4: =IF(ISBLANK('Test Send-Outs Proposal'!M4)," ",'Test Send-Outs Proposal'!M4) | I4: =IF(ISBLANK('Test Send-Outs Proposal'!N4)," ",'Test Send-Outs Proposal'!N4) | J4: =IFERROR(IF((ROUND(H4,2))<=(ROUND(D4,2)),"YES","NO")," ") | K4: =IFERROR(IF(ISBLANK(H4)," ",(H4/F4))," ")
A5: =IF(ISBLANK('Test Send-Outs Proposal'!A5)," ",'Test Send-Outs Proposal'!A5) | B5: =IF(ISBLANK('Test Send-Outs Proposal'!B5)," ",'Test Send-Outs Proposal'!B5) | C5: =IF(ISBLANK('Test Send-Outs Proposal'!F5)," ",'Test Send-Outs Proposal'!F5) | D5: =IF(ISBLANK('Test Send-Outs Proposal'!G5)," ",'Test Send-Outs Proposal'!G5) | E5: =IF(ISBLANK('Test Send-Outs Proposal'!G5)," ",'Test Send-Outs Proposal'!H5) | F5: =IF(ISBLANK('Test Send-Outs Proposal'!K5)," ",'Test Send-Outs Proposal'!K5) | G5: =IF(ISBLANK('Test Send-Outs Proposal'!L5)," ",'Test Send-Outs Proposal'!L5) | H5: =IF(ISBLANK('Test Send-Outs Proposal'!M5)," ",'Test Send-Outs Proposal'!M5) | I5: =IF(ISBLANK('Test Send-Outs Proposal'!N5)," ",'Test Send-Outs Proposal'!N5) | J5: =IFERROR(IF((ROUND(H5,2))<=(ROUND(D5,2)),"YES","NO")," ") | K5: =IFERROR(IF(ISBLANK(H5)," ",(H5/F5))," ")
A6: =IF(ISBLANK('Test Send-Outs Proposal'!A6)," ",'Test Send-Outs Proposal'!A6) | B6: =IF(ISBLANK('Test Send-Outs Proposal'!B6)," ",'Test Send-Outs Proposal'!B6) | C6: =IF(ISBLANK('Test Send-Outs Proposal'!F6)," ",'Test Send-Outs Proposal'!F6) | D6: =IF(ISBLANK('Test Send-Outs Proposal'!G6)," ",'Test Send-Outs Proposal'!G6) | E6: =IF(ISBLANK('Test Send-Outs Proposal'!G6)," ",'Test Send-Outs Proposal'!H6) | F6: =IF(ISBLANK('Test Send-Outs Proposal'!K6)," ",'Test Send-Outs Proposal'!K6) | G6: =IF(ISBLANK('Test Send-Outs Proposal'!L6)," ",'Test Send-Outs Proposal'!L6) | H6: =IF(ISBLANK('Test Send-Outs Proposal'!M6)," ",'Test Send-Outs Proposal'!M6) | I6: =IF(ISBLANK('Test Send-Outs Proposal'!N6)," ",'Test Send-Outs Proposal'!N6) | J6: =IFERROR(IF((ROUND(H6,2))<=(ROUND(D6,2)),"YES","NO")," ") | K6: =IFERROR(IF(ISBLANK(H6)," ",(H6/F6))," ")
A7: =IF(ISBLANK('Test Send-Outs Proposal'!A7)," ",'Test Send-Outs Proposal'!A7) | B7: =IF(ISBLANK('Test Send-Outs Proposal'!B7)," ",'Test Send-Outs Proposal'!B7) | C7: =IF(ISBLANK('Test Send-Outs Proposal'!F7)," ",'Test Send-Outs Proposal'!F7) | D7: =IF(ISBLANK('Test Send-Outs Proposal'!G7)," ",'Test Send-Outs Proposal'!G7) | E7: =IF(ISBLANK('Test Send-Outs Proposal'!G7)," ",'Test Send-Outs Proposal'!H7) | F7: =IF(ISBLANK('Test Send-Outs Proposal'!K7)," ",'Test Send-Outs Proposal'!K7) | G7: =IF(ISBLANK('Test Send-Outs Proposal'!L7)," ",'Test Send-Outs Proposal'!L7) | H7: =IF(ISBLANK('Test Send-Outs Proposal'!M7)," ",'Test Send-Outs Proposal'!M7) | I7: =IF(ISBLANK('Test Send-Outs Proposal'!N7)," ",'Test Send-Outs Proposal'!N7) | J7: =IFERROR(IF((ROUND(H7,2))<=(ROUND(D7,2)),"YES","NO")," ") | K7: =IFERROR(IF(ISBLANK(H7)," ",(H7/F7))," ")
A8: =IF(ISBLANK('Test Send-Outs Proposal'!A8)," ",'Test Send-Outs Proposal'!A8) | B8: =IF(ISBLANK('Test Send-Outs Proposal'!B8)," ",'Test Send-Outs Proposal'!B8) | C8: =IF(ISBLANK('Test Send-Outs Proposal'!F8)," ",'Test Send-Outs Proposal'!F8) | D8: =IF(ISBLANK('Test Send-Outs Proposal'!G8)," ",'Test Send-Outs Proposal'!G8) | E8: =IF(ISBLANK('Test Send-Outs Proposal'!G8)," ",'Test Send-Outs Proposal'!H8) | F8: =IF(ISBLANK('Test Send-Outs Proposal'!K8)," ",'Test Send-Outs Proposal'!K8) | G8: =IF(ISBLANK('Test Send-Outs Proposal'!L8)," ",'Test Send-Outs Proposal'!L8) | H8: =IF(ISBLANK('Test Send-Outs Proposal'!M8)," ",'Test Send-Outs Proposal'!M8) | I8: =IF(ISBLANK('Test Send-Outs Proposal'!N8)," ",'Test Send-Outs Proposal'!N8) | J8: =IFERROR(IF((ROUND(H8,2))<=(ROUND(D8,2)),"YES","NO")," ") | K8: =IFERROR(IF(ISBLANK(H8)," ",(H8/F8))," ")
A9: =IF(ISBLANK('Test Send-Outs Proposal'!A9)," ",'Test Send-Outs Proposal'!A9) | B9: =IF(ISBLANK('Test Send-Outs Proposal'!B9)," ",'Test Send-Outs Proposal'!B9) | C9: =IF(ISBLANK('Test Send-Outs Proposal'!F9)," ",'Test Send-Outs Proposal'!F9) | D9: =IF(ISBLANK('Test Send-Outs Proposal'!G9)," ",'Test Send-Outs Proposal'!G9) | E9: =IF(ISBLANK('Test Send-Outs Proposal'!G9)," ",'Test Send-Outs Proposal'!H9) | F9: =IF(ISBLANK('Test Send-Outs Proposal'!K9)," ",'Test Send-Outs Proposal'!K9) | G9: =IF(ISBLANK('Test Send-Outs Proposal'!L9)," ",'Test Send-Outs Proposal'!L9) | H9: =IF(ISBLANK('Test Send-Outs Proposal'!M9)," ",'Test Send-Outs Proposal'!M9) | I9: =IF(ISBLANK('Test Send-Outs Proposal'!N9)," ",'Test Send-Outs Proposal'!N9) | J9: =IFERROR(IF((ROUND(H9,2))<=(ROUND(D9,2)),"YES","NO")," ") | K9: =IFERROR(IF(ISBLANK(H9)," ",(H9/F9))," ")
A10: =IF(ISBLANK('Test Send-Outs Proposal'!A10)," ",'Test Send-Outs Proposal'!A10) | B10: =IF(ISBLANK('Test Send-Outs Proposal'!B10)," ",'Test Send-Outs Proposal'!B10) | C10: =IF(ISBLANK('Test Send-Outs Proposal'!F10)," ",'Test Send-Outs Proposal'!F10) | D10: =IF(ISBLANK('Test Send-Outs Proposal'!G10)," ",'Test Send-Outs Proposal'!G10) | E10: =IF(ISBLANK('Test Send-Outs Proposal'!G10)," ",'Test Send-Outs Proposal'!H10) | F10: =IF(ISBLANK('Test Send-Outs Proposal'!K10)," ",'Test Send-Outs Proposal'!K10) | G10: =IF(ISBLANK('Test Send-Outs Proposal'!L10)," ",'Test Send-Outs Proposal'!L10) | H10: =IF(ISBLANK('Test Send-Outs Proposal'!M10)," ",'Test Send-Outs Proposal'!M10) | I10: =IF(ISBLANK('Test Send-Outs Proposal'!N10)," ",'Test Send-Outs Proposal'!N10) | J10: =IFERROR(IF((ROUND(H10,2))<=(ROUND(D10,2)),"YES","NO")," ") | K10: =IFERROR(IF(ISBLANK(H10)," ",(H10/F10))," ")
A11: =IF(ISBLANK('Test Send-Outs Proposal'!A11)," ",'Test Send-Outs Proposal'!A11) | B11: =IF(ISBLANK('Test Send-Outs Proposal'!B11)," ",'Test Send-Outs Proposal'!B11) | C11: =IF(ISBLANK('Test Send-Outs Proposal'!F11)," ",'Test Send-Outs Proposal'!F11) | D11: =IF(ISBLANK('Test Send-Outs Proposal'!G11)," ",'Test Send-Outs Proposal'!G11) | E11: =IF(ISBLANK('Test Send-Outs Proposal'!G11)," ",'Test Send-Outs Proposal'!H11) | F11: =IF(ISBLANK('Test Send-Outs Proposal'!K11)," ",'Test Send-Outs Proposal'!K11) | G11: =IF(ISBLANK('Test Send-Outs Proposal'!L11)," ",'Test Send-Outs Proposal'!L11) | H11: =IF(ISBLANK('Test Send-Outs Proposal'!M11)," ",'Test Send-Outs Proposal'!M11) | I11: =IF(ISBLANK('Test Send-Outs Proposal'!N11)," ",'Test Send-Outs Proposal'!N11) | J11: =IFERROR(IF((ROUND(H11,2))<=(ROUND(D11,2)),"YES","NO")," ") | K11: =IFERROR(IF(ISBLANK(H11)," ",(H11/F11))," ")
A12: =IF(ISBLANK('Test Send-Outs Proposal'!A12)," ",'Test Send-Outs Proposal'!A12) | B12: =IF(ISBLANK('Test Send-Outs Proposal'!B12)," ",'Test Send-Outs Proposal'!B12) | C12: =IF(ISBLANK('Test Send-Outs Proposal'!F12)," ",'Test Send-Outs Proposal'!F12) | D12: =IF(ISBLANK('Test Send-Outs Proposal'!G12)," ",'Test Send-Outs Proposal'!G12) | E12: =IF(ISBLANK('Test Send-Outs Proposal'!G12)," ",'Test Send-Outs Proposal'!H12) | F12: =IF(ISBLANK('Test Send-Outs Proposal'!K12)," ",'Test Send-Outs Proposal'!K12) | G12: =IF(ISBLANK('Test Send-Outs Proposal'!L12)," ",'Test Send-Outs Proposal'!L12) | H12: =IF(ISBLANK('Test Send-Outs Proposal'!M12)," ",'Test Send-Outs Proposal'!M12) | I12: =IF(ISBLANK('Test Send-Outs Proposal'!N12)," ",'Test Send-Outs Proposal'!N12) | J12: =IFERROR(IF((ROUND(H12,2))<=(ROUND(D12,2)),"YES","NO")," ") | K12: =IFERROR(IF(ISBLANK(H12)," ",(H12/F12))," ")
A13: =IF(ISBLANK('Test Send-Outs Proposal'!A13)," ",'Test Send-Outs Proposal'!A13) | B13: =IF(ISBLANK('Test Send-Outs Proposal'!B13)," ",'Test Send-Outs Proposal'!B13) | C13: =IF(ISBLANK('Test Send-Outs Proposal'!F13)," ",'Test Send-Outs Proposal'!F13) | D13: =IF(ISBLANK('Test Send-Outs Proposal'!G13)," ",'Test Send-Outs Proposal'!G13) | E13: =IF(ISBLANK('Test Send-Outs Proposal'!G13)," ",'Test Send-Outs Proposal'!H13) | F13: =IF(ISBLANK('Test Send-Outs Proposal'!K13)," ",'Test Send-Outs Proposal'!K13) | G13: =IF(ISBLANK('Test Send-Outs Proposal'!L13)," ",'Test Send-Outs Proposal'!L13) | H13: =IF(ISBLANK('Test Send-Outs Proposal'!M13)," ",'Test Send-Outs Proposal'!M13) | I13: =IF(ISBLANK('Test Send-Outs Proposal'!N13)," ",'Test Send-Outs Proposal'!N13) | J13: =IFERROR(IF((ROUND(H13,2))<=(ROUND(D13,2)),"YES","NO")," ") | K13: =IFERROR(IF(ISBLANK(H13)," ",(H13/F13))," ")
A14: =IF(ISBLANK('Test Send-Outs Proposal'!A14)," ",'Test Send-Outs Proposal'!A14) | B14: =IF(ISBLANK('Test Send-Outs Proposal'!B14)," ",'Test Send-Outs Proposal'!B14) | C14: =IF(ISBLANK('Test Send-Outs Proposal'!F14)," ",'Test Send-Outs Proposal'!F14) | D14: =IF(ISBLANK('Test Send-Outs Proposal'!G14)," ",'Test Send-Outs Proposal'!G14) | E14: =IF(ISBLANK('Test Send-Outs Proposal'!G14)," ",'Test Send-Outs Proposal'!H14) | F14: =IF(ISBLANK('Test Send-Outs Proposal'!K14)," ",'Test Send-Outs Proposal'!K14) | G14: =IF(ISBLANK('Test Send-Outs Proposal'!L14)," ",'Test Send-Outs Proposal'!L14) | H14: =IF(ISBLANK('Test Send-Outs Proposal'!M14)," ",'Test Send-Outs Proposal'!M14) | I14: =IF(ISBLANK('Test Send-Outs Proposal'!N14)," ",'Test Send-Outs Proposal'!N14) | J14: =IFERROR(IF((ROUND(H14,2))<=(ROUND(D14,2)),"YES","NO")," ") | K14: =IFERROR(IF(ISBLANK(H14)," ",(H14/F14))," ")
... A502: =IF(ISBLANK('Test Send-Outs Proposal'!A502)," ",'Test Send-Outs Proposal'!A502) | B502: =IF(ISBLANK('Test Send-Outs Proposal'!B502)," ",'Test Send-Outs Proposal'!B502) | C502: =IF(ISBLANK('Test Send-Outs Proposal'!F502)," ",'Test Send-Outs Proposal'!F502) | D502: =IF(ISBLANK('Test Send-Outs Proposal'!G502)," ",'Test Send-Outs Proposal'!G502) | E502: =IF(ISBLANK('Test Send-Outs Proposal'!G502)," ",'Test Send-Outs Proposal'!H502) | F502: =IF(ISBLANK('Test Send-Outs Proposal'!K502)," ",'Test Send-Outs Proposal'!K502) | G502: =IF(ISBLANK('Test Send-Outs Proposal'!L502)," ",'Test Send-Outs Proposal'!L502) | H502: =IF(ISBLANK('Test Send-Outs Proposal'!M502)," ",'Test Send-Outs Proposal'!M502) | I502: =IF(ISBLANK('Test Send-Outs Proposal'!N502)," ",'Test Send-Outs Proposal'!N502) | J502: =IFERROR(IF((ROUND(H502,2))<=(ROUND(D502,2)),"YES","NO")," ") | K502: =IFERROR(IF(ISBLANK(H502)," ",(H502/F502))," ")

Sheet Non-TSO Award
A2: SIN# | B2: Item # | C2: Product Name / Description, Including Assay Method & All Applicable CPT Codes | D2: Tracking Ratio | E2: All Inclusive FSS Price without IFF | F2: (Copy FSS w/ IFF from PP Tab) | G2: All Inclusive FSS Price with IFF | H2: Red "A" = Awarded
A3: =IF(ISBLANK('Price Proposal'!A3)," ",'Price Proposal'!A3) | B3: =IF(ISBLANK('Price Proposal'!B3)," ",'Price Proposal'!B3) | C3: =IF(ISBLANK('Price Proposal'!C3)," ",'Price Proposal'!C3) | D3: =IF(ISBLANK('Non-TSO Price Analysis'!K3)," ",'Non-TSO Price Analysis'!K3) | E3: =IF(ISBLANK('Price Proposal'!L3)," ",'Price Proposal'!L3) | F3: ='Price Proposal'!N3 | G3: =IF(ISBLANK('Price Proposal'!L3)," ",ROUND(F3,2))
A4: =IF(ISBLANK('Price Proposal'!A4)," ",'Price Proposal'!A4) | B4: =IF(ISBLANK('Price Proposal'!B4)," ",'Price Proposal'!B4) | C4: =IF(ISBLANK('Price Proposal'!C4)," ",'Price Proposal'!C4) | D4: =IF(ISBLANK('Non-TSO Price Analysis'!K4)," ",'Non-TSO Price Analysis'!K4) | E4: =IF(ISBLANK('Price Proposal'!L4)," ",'Price Proposal'!L4) | F4: ='Price Proposal'!N4 | G4: =IF(ISBLANK('Price Proposal'!L4)," ",ROUND(F4,2))
A5: =IF(ISBLANK('Price Proposal'!A5)," ",'Price Proposal'!A5) | B5: =IF(ISBLANK('Price Proposal'!B5)," ",'Price Proposal'!B5) | C5: =IF(ISBLANK('Price Proposal'!C5)," ",'Price Proposal'!C5) | D5: =IF(ISBLANK('Non-TSO Price Analysis'!K5)," ",'Non-TSO Price Analysis'!K5) | E5: =IF(ISBLANK('Price Proposal'!L5)," ",'Price Proposal'!L5) | F5: ='Price Proposal'!N5 | G5: =IF(ISBLANK('Price Proposal'!L5)," ",ROUND(F5,2))
A6: =IF(ISBLANK('Price Proposal'!A6)," ",'Price Proposal'!A6) | B6: =IF(ISBLANK('Price Proposal'!B6)," ",'Price Proposal'!B6) | C6: =IF(ISBLANK('Price Proposal'!C6)," ",'Price Proposal'!C6) | D6: =IF(ISBLANK('Non-TSO Price Analysis'!K6)," ",'Non-TSO Price Analysis'!K6) | E6: =IF(ISBLANK('Price Proposal'!L6)," ",'Price Proposal'!L6) | F6: ='Price Proposal'!N6 | G6: =IF(ISBLANK('Price Proposal'!L6)," ",ROUND(F6,2))
A7: =IF(ISBLANK('Price Proposal'!A7)," ",'Price Proposal'!A7) | B7: =IF(ISBLANK('Price Proposal'!B7)," ",'Price Proposal'!B7) | C7: =IF(ISBLANK('Price Proposal'!C7)," ",'Price Proposal'!C7) | D7: =IF(ISBLANK('Non-TSO Price Analysis'!K7)," ",'Non-TSO Price Analysis'!K7) | E7: =IF(ISBLANK('Price Proposal'!L7)," ",'Price Proposal'!L7) | F7: ='Price Proposal'!N7 | G7: =IF(ISBLANK('Price Proposal'!L7)," ",ROUND(F7,2))
A8: =IF(ISBLANK('Price Proposal'!A8)," ",'Price Proposal'!A8) | B8: =IF(ISBLANK('Price Proposal'!B8)," ",'Price Proposal'!B8) | C8: =IF(ISBLANK('Price Proposal'!C8)," ",'Price Proposal'!C8) | D8: =IF(ISBLANK('Non-TSO Price Analysis'!K8)," ",'Non-TSO Price Analysis'!K8) | E8: =IF(ISBLANK('Price Proposal'!L8)," ",'Price Proposal'!L8) | F8: ='Price Proposal'!N8 | G8: =IF(ISBLANK('Price Proposal'!L8)," ",ROUND(F8,2))
A9: =IF(ISBLANK('Price Proposal'!A9)," ",'Price Proposal'!A9) | B9: =IF(ISBLANK('Price Proposal'!B9)," ",'Price Proposal'!B9) | C9: =IF(ISBLANK('Price Proposal'!C9)," ",'Price Proposal'!C9) | D9: =IF(ISBLANK('Non-TSO Price Analysis'!K9)," ",'Non-TSO Price Analysis'!K9) | E9: =IF(ISBLANK('Price Proposal'!L9)," ",'Price Proposal'!L9) | F9: ='Price Proposal'!N9 | G9: =IF(ISBLANK('Price Proposal'!L9)," ",ROUND(F9,2))
A10: =IF(ISBLANK('Price Proposal'!A10)," ",'Price Proposal'!A10) | B10: =IF(ISBLANK('Price Proposal'!B10)," ",'Price Proposal'!B10) | C10: =IF(ISBLANK('Price Proposal'!C10)," ",'Price Proposal'!C10) | D10: =IF(ISBLANK('Non-TSO Price Analysis'!K10)," ",'Non-TSO Price Analysis'!K10) | E10: =IF(ISBLANK('Price Proposal'!L10)," ",'Price Proposal'!L10) | F10: ='Price Proposal'!N10 | G10: =IF(ISBLANK('Price Proposal'!L10)," ",ROUND(F10,2))
A11: =IF(ISBLANK('Price Proposal'!A11)," ",'Price Proposal'!A11) | B11: =IF(ISBLANK('Price Proposal'!B11)," ",'Price Proposal'!B11) | C11: =IF(ISBLANK('Price Proposal'!C11)," ",'Price Proposal'!C11) | D11: =IF(ISBLANK('Non-TSO Price Analysis'!K11)," ",'Non-TSO Price Analysis'!K11) | E11: =IF(ISBLANK('Price Proposal'!L11)," ",'Price Proposal'!L11) | F11: ='Price Proposal'!N11 | G11: =IF(ISBLANK('Price Proposal'!L11)," ",ROUND(F11,2))
A12: =IF(ISBLANK('Price Proposal'!A12)," ",'Price Proposal'!A12) | B12: =IF(ISBLANK('Price Proposal'!B12)," ",'Price Proposal'!B12) | C12: =IF(ISBLANK('Price Proposal'!C12)," ",'Price Proposal'!C12) | D12: =IF(ISBLANK('Non-TSO Price Analysis'!K12)," ",'Non-TSO Price Analysis'!K12) | E12: =IF(ISBLANK('Price Proposal'!L12)," ",'Price Proposal'!L12) | F12: ='Price Proposal'!N12 | G12: =IF(ISBLANK('Price Proposal'!L12)," ",ROUND(F12,2))
A13: =IF(ISBLANK('Price Proposal'!A13)," ",'Price Proposal'!A13) | B13: =IF(ISBLANK('Price Proposal'!B13)," ",'Price Proposal'!B13) | C13: =IF(ISBLANK('Price Proposal'!C13)," ",'Price Proposal'!C13) | D13: =IF(ISBLANK('Non-TSO Price Analysis'!K13)," ",'Non-TSO Price Analysis'!K13) | E13: =IF(ISBLANK('Price Proposal'!L13)," ",'Price Proposal'!L13) | F13: ='Price Proposal'!N13 | G13: =IF(ISBLANK('Price Proposal'!L13)," ",ROUND(F13,2))
A14: =IF(ISBLANK('Price Proposal'!A14)," ",'Price Proposal'!A14) | B14: =IF(ISBLANK('Price Proposal'!B14)," ",'Price Proposal'!B14) | C14: =IF(ISBLANK('Price Proposal'!C14)," ",'Price Proposal'!C14) | D14: =IF(ISBLANK('Non-TSO Price Analysis'!K14)," ",'Non-TSO Price Analysis'!K14) | E14: =IF(ISBLANK('Price Proposal'!L14)," ",'Price Proposal'!L14) | F14: ='Price Proposal'!N14 | G14: =IF(ISBLANK('Price Proposal'!L14)," ",ROUND(F14,2))
... A1002: =IF(ISBLANK('Price Proposal'!A1002)," ",'Price Proposal'!A1002) | B1002: =IF(ISBLANK('Price Proposal'!B1002)," ",'Price Proposal'!B1002) | C1002: =IF(ISBLANK('Price Proposal'!C1002)," ",'Price Proposal'!C1002) | D1002: =IF(ISBLANK('Non-TSO Price Analysis'!K1002)," ",'Non-TSO Price Analysis'!K1002) | E1002: =IF(ISBLANK('Price Proposal'!L1002)," ",'Price Proposal'!L1002) | F1002: ='Price Proposal'!N1002 | G1002: =IF(ISBLANK('Price Proposal'!L1002)," ",ROUND(F1002,2))

Sheet TSO Award
A2: SIN# | B2: Item # | C2: Product Name / Description, Including Assay Method & All Applicable CPT Codes | D2: Name of Test Send Out (TSO) Subcontractor | E2: TSO Tracking Ratio | F2: TSO All Inclusive FSS Price without IFF | G2: (Copy FSS w/ IFF from PP Tab) | H2: TSO All Inclusive FSS Price with IFF | I2: Red "A" = Awarded
A3: =IF(ISBLANK('Test Send-Outs Proposal'!A3)," ",'Test Send-Outs Proposal'!A3) | B3: =IF(ISBLANK('Test Send-Outs Proposal'!B3)," ",'Test Send-Outs Proposal'!B3) | C3: =IF(ISBLANK('Test Send-Outs Proposal'!C3)," ",'Test Send-Outs Proposal'!C3) | D3: =IF(ISBLANK('Test Send-Outs Proposal'!E3)," ",'Test Send-Outs Proposal'!E3) | E3: =IF(ISBLANK('TSO Price Analysis'!K3)," ",'TSO Price Analysis'!K3) | F3: =IF(ISBLANK('Test Send-Outs Proposal'!M3)," ",'Test Send-Outs Proposal'!M3) | G3: =IF(ISBLANK('Test Send-Outs Proposal'!O3)," ",'Test Send-Outs Proposal'!O3) | H3: =IF(ISBLANK('Test Send-Outs Proposal'!M3)," ",ROUND(G3,2))
A4: =IF(ISBLANK('Test Send-Outs Proposal'!A4)," ",'Test Send-Outs Proposal'!A4) | B4: =IF(ISBLANK('Test Send-Outs Proposal'!B4)," ",'Test Send-Outs Proposal'!B4) | C4: =IF(ISBLANK('Test Send-Outs Proposal'!C4)," ",'Test Send-Outs Proposal'!C4) | D4: =IF(ISBLANK('Test Send-Outs Proposal'!E4)," ",'Test Send-Outs Proposal'!E4) | E4: =IF(ISBLANK('TSO Price Analysis'!K4)," ",'TSO Price Analysis'!K4) | F4: =IF(ISBLANK('Test Send-Outs Proposal'!M4)," ",'Test Send-Outs Proposal'!M4) | G4: =IF(ISBLANK('Test Send-Outs Proposal'!O4)," ",'Test Send-Outs Proposal'!O4) | H4: =IF(ISBLANK('Test Send-Outs Proposal'!M4)," ",ROUND(G4,2))
A5: =IF(ISBLANK('Test Send-Outs Proposal'!A5)," ",'Test Send-Outs Proposal'!A5) | B5: =IF(ISBLANK('Test Send-Outs Proposal'!B5)," ",'Test Send-Outs Proposal'!B5) | C5: =IF(ISBLANK('Test Send-Outs Proposal'!C5)," ",'Test Send-Outs Proposal'!C5) | D5: =IF(ISBLANK('Test Send-Outs Proposal'!E5)," ",'Test Send-Outs Proposal'!E5) | E5: =IF(ISBLANK('TSO Price Analysis'!K5)," ",'TSO Price Analysis'!K5) | F5: =IF(ISBLANK('Test Send-Outs Proposal'!M5)," ",'Test Send-Outs Proposal'!M5) | G5: =IF(ISBLANK('Test Send-Outs Proposal'!O5)," ",'Test Send-Outs Proposal'!O5) | H5: =IF(ISBLANK('Test Send-Outs Proposal'!M5)," ",ROUND(G5,2))
A6: =IF(ISBLANK('Test Send-Outs Proposal'!A6)," ",'Test Send-Outs Proposal'!A6) | B6: =IF(ISBLANK('Test Send-Outs Proposal'!B6)," ",'Test Send-Outs Proposal'!B6) | C6: =IF(ISBLANK('Test Send-Outs Proposal'!C6)," ",'Test Send-Outs Proposal'!C6) | D6: =IF(ISBLANK('Test Send-Outs Proposal'!E6)," ",'Test Send-Outs Proposal'!E6) | E6: =IF(ISBLANK('TSO Price Analysis'!K6)," ",'TSO Price Analysis'!K6) | F6: =IF(ISBLANK('Test Send-Outs Proposal'!M6)," ",'Test Send-Outs Proposal'!M6) | G6: =IF(ISBLANK('Test Send-Outs Proposal'!O6)," ",'Test Send-Outs Proposal'!O6) | H6: =IF(ISBLANK('Test Send-Outs Proposal'!M6)," ",ROUND(G6,2))
A7: =IF(ISBLANK('Test Send-Outs Proposal'!A7)," ",'Test Send-Outs Proposal'!A7) | B7: =IF(ISBLANK('Test Send-Outs Proposal'!B7)," ",'Test Send-Outs Proposal'!B7) | C7: =IF(ISBLANK('Test Send-Outs Proposal'!C7)," ",'Test Send-Outs Proposal'!C7) | D7: =IF(ISBLANK('Test Send-Outs Proposal'!E7)," ",'Test Send-Outs Proposal'!E7) | E7: =IF(ISBLANK('TSO Price Analysis'!K7)," ",'TSO Price Analysis'!K7) | F7: =IF(ISBLANK('Test Send-Outs Proposal'!M7)," ",'Test Send-Outs Proposal'!M7) | G7: =IF(ISBLANK('Test Send-Outs Proposal'!O7)," ",'Test Send-Outs Proposal'!O7) | H7: =IF(ISBLANK('Test Send-Outs Proposal'!M7)," ",ROUND(G7,2))
A8: =IF(ISBLANK('Test Send-Outs Proposal'!A8)," ",'Test Send-Outs Proposal'!A8) | B8: =IF(ISBLANK('Test Send-Outs Proposal'!B8)," ",'Test Send-Outs Proposal'!B8) | C8: =IF(ISBLANK('Test Send-Outs Proposal'!C8)," ",'Test Send-Outs Proposal'!C8) | D8: =IF(ISBLANK('Test Send-Outs Proposal'!E8)," ",'Test Send-Outs Proposal'!E8) | E8: =IF(ISBLANK('TSO Price Analysis'!K8)," ",'TSO Price Analysis'!K8) | F8: =IF(ISBLANK('Test Send-Outs Proposal'!M8)," ",'Test Send-Outs Proposal'!M8) | G8: =IF(ISBLANK('Test Send-Outs Proposal'!O8)," ",'Test Send-Outs Proposal'!O8) | H8: =IF(ISBLANK('Test Send-Outs Proposal'!M8)," ",ROUND(G8,2))
A9: =IF(ISBLANK('Test Send-Outs Proposal'!A9)," ",'Test Send-Outs Proposal'!A9) | B9: =IF(ISBLANK('Test Send-Outs Proposal'!B9)," ",'Test Send-Outs Proposal'!B9) | C9: =IF(ISBLANK('Test Send-Outs Proposal'!C9)," ",'Test Send-Outs Proposal'!C9) | D9: =IF(ISBLANK('Test Send-Outs Proposal'!E9)," ",'Test Send-Outs Proposal'!E9) | E9: =IF(ISBLANK('TSO Price Analysis'!K9)," ",'TSO Price Analysis'!K9) | F9: =IF(ISBLANK('Test Send-Outs Proposal'!M9)," ",'Test Send-Outs Proposal'!M9) | G9: =IF(ISBLANK('Test Send-Outs Proposal'!O9)," ",'Test Send-Outs Proposal'!O9) | H9: =IF(ISBLANK('Test Send-Outs Proposal'!M9)," ",ROUND(G9,2))
A10: =IF(ISBLANK('Test Send-Outs Proposal'!A10)," ",'Test Send-Outs Proposal'!A10) | B10: =IF(ISBLANK('Test Send-Outs Proposal'!B10)," ",'Test Send-Outs Proposal'!B10) | C10: =IF(ISBLANK('Test Send-Outs Proposal'!C10)," ",'Test Send-Outs Proposal'!C10) | D10: =IF(ISBLANK('Test Send-Outs Proposal'!E10)," ",'Test Send-Outs Proposal'!E10) | E10: =IF(ISBLANK('TSO Price Analysis'!K10)," ",'TSO Price Analysis'!K10) | F10: =IF(ISBLANK('Test Send-Outs Proposal'!M10)," ",'Test Send-Outs Proposal'!M10) | G10: =IF(ISBLANK('Test Send-Outs Proposal'!O10)," ",'Test Send-Outs Proposal'!O10) | H10: =IF(ISBLANK('Test Send-Outs Proposal'!M10)," ",ROUND(G10,2))
A11: =IF(ISBLANK('Test Send-Outs Proposal'!A11)," ",'Test Send-Outs Proposal'!A11) | B11: =IF(ISBLANK('Test Send-Outs Proposal'!B11)," ",'Test Send-Outs Proposal'!B11) | C11: =IF(ISBLANK('Test Send-Outs Proposal'!C11)," ",'Test Send-Outs Proposal'!C11) | D11: =IF(ISBLANK('Test Send-Outs Proposal'!E11)," ",'Test Send-Outs Proposal'!E11) | E11: =IF(ISBLANK('TSO Price Analysis'!K11)," ",'TSO Price Analysis'!K11) | F11: =IF(ISBLANK('Test Send-Outs Proposal'!M11)," ",'Test Send-Outs Proposal'!M11) | G11: =IF(ISBLANK('Test Send-Outs Proposal'!O11)," ",'Test Send-Outs Proposal'!O11) | H11: =IF(ISBLANK('Test Send-Outs Proposal'!M11)," ",ROUND(G11,2))
A12: =IF(ISBLANK('Test Send-Outs Proposal'!A12)," ",'Test Send-Outs Proposal'!A12) | B12: =IF(ISBLANK('Test Send-Outs Proposal'!B12)," ",'Test Send-Outs Proposal'!B12) | C12: =IF(ISBLANK('Test Send-Outs Proposal'!C12)," ",'Test Send-Outs Proposal'!C12) | D12: =IF(ISBLANK('Test Send-Outs Proposal'!E12)," ",'Test Send-Outs Proposal'!E12) | E12: =IF(ISBLANK('TSO Price Analysis'!K12)," ",'TSO Price Analysis'!K12) | F12: =IF(ISBLANK('Test Send-Outs Proposal'!M12)," ",'Test Send-Outs Proposal'!M12) | G12: =IF(ISBLANK('Test Send-Outs Proposal'!O12)," ",'Test Send-Outs Proposal'!O12) | H12: =IF(ISBLANK('Test Send-Outs Proposal'!M12)," ",ROUND(G12,2))
A13: =IF(ISBLANK('Test Send-Outs Proposal'!A13)," ",'Test Send-Outs Proposal'!A13) | B13: =IF(ISBLANK('Test Send-Outs Proposal'!B13)," ",'Test Send-Outs Proposal'!B13) | C13: =IF(ISBLANK('Test Send-Outs Proposal'!C13)," ",'Test Send-Outs Proposal'!C13) | D13: =IF(ISBLANK('Test Send-Outs Proposal'!E13)," ",'Test Send-Outs Proposal'!E13) | E13: =IF(ISBLANK('TSO Price Analysis'!K13)," ",'TSO Price Analysis'!K13) | F13: =IF(ISBLANK('Test Send-Outs Proposal'!M13)," ",'Test Send-Outs Proposal'!M13) | G13: =IF(ISBLANK('Test Send-Outs Proposal'!O13)," ",'Test Send-Outs Proposal'!O13) | H13: =IF(ISBLANK('Test Send-Outs Proposal'!M13)," ",ROUND(G13,2))
A14: =IF(ISBLANK('Test Send-Outs Proposal'!A14)," ",'Test Send-Outs Proposal'!A14) | B14: =IF(ISBLANK('Test Send-Outs Proposal'!B14)," ",'Test Send-Outs Proposal'!B14) | C14: =IF(ISBLANK('Test Send-Outs Proposal'!C14)," ",'Test Send-Outs Proposal'!C14) | D14: =IF(ISBLANK('Test Send-Outs Proposal'!E14)," ",'Test Send-Outs Proposal'!E14) | E14: =IF(ISBLANK('TSO Price Analysis'!K14)," ",'TSO Price Analysis'!K14) | F14: =IF(ISBLANK('Test Send-Outs Proposal'!M14)," ",'Test Send-Outs Proposal'!M14) | G14: =IF(ISBLANK('Test Send-Outs Proposal'!O14)," ",'Test Send-Outs Proposal'!O14) | H14: =IF(ISBLANK('Test Send-Outs Proposal'!M14)," ",ROUND(G14,2))
... A502: =IF(ISBLANK('Test Send-Outs Proposal'!A502)," ",'Test Send-Outs Proposal'!A502) | B502: =IF(ISBLANK('Test Send-Outs Proposal'!B502)," ",'Test Send-Outs Proposal'!B502) | C502: =IF(ISBLANK('Test Send-Outs Proposal'!C502)," ",'Test Send-Outs Proposal'!C502) | D502: =IF(ISBLANK('Test Send-Outs Proposal'!E502)," ",'Test Send-Outs Proposal'!E502) | E502: =IF(ISBLANK('TSO Price Analysis'!K502)," ",'TSO Price Analysis'!K502) | F502: =IF(ISBLANK('Test Send-Outs Proposal'!M502)," ",'Test Send-Outs Proposal'!M502) | G502: =IF(ISBLANK('Test Send-Outs Proposal'!O502)," ",'Test Send-Outs Proposal'!O502) | H502: =IF(ISBLANK('Test Send-Outs Proposal'!M502)," ",ROUND(G502,2))
