Workbook
Name ___YR1: '[1]Cost Form B -Yr1'!$B$20:$L$95
Name ___YR10: '[1]Cost Form B -Yr9'!$B$20:$L$95
Name ___YR11: '[1]Cost Form B -Yr10A'!$B$20:$L$95
Name ___Yr12: '[1]Cost Form B -Yr10B'!$B$20:$L$95
Name ___YR2: '[1]Cost Form B -Yr2'!$B$9:$L$88
Name ___YR3: '[1]Cost Form B -Yr3'!$B$9:$L$95
Name ___YR4: '[1]Cost Form B -Yr4'!$B$20:$L$95
Name ___YR5: '[1]Cost Form B -Yr5'!$B$20:$L$95
Name ___YR6: '[1]Cost Form B -Yr6A'!$B$20:$L$95
Name ___YR7: '[1]Cost Form B -Yr6B'!$B$20:$L$88
Name ___YR8: '[1]Cost Form B -Yr7'!$B$20:$L$95
Name ___YR9: '[1]Cost Form B -Yr8'!$B$20:$L$95
Name __YR1: '[1]Cost Form B -Yr1'!$B$20:$L$95
Name __YR10: '[1]Cost Form B -Yr9'!$B$20:$L$95
Name __YR11: '[1]Cost Form B -Yr10A'!$B$20:$L$95
Name __Yr12: '[1]Cost Form B -Yr10B'!$B$20:$L$95
Name __YR2: '[1]Cost Form B -Yr2'!$B$9:$L$88
Name __YR3: '[1]Cost Form B -Yr3'!$B$9:$L$95
Name __YR4: '[1]Cost Form B -Yr4'!$B$20:$L$95
Name __YR5: '[1]Cost Form B -Yr5'!$B$20:$L$95
Name __YR6: '[1]Cost Form B -Yr6A'!$B$20:$L$95
Name __YR7: '[1]Cost Form B -Yr6B'!$B$20:$L$88
Name __YR8: '[1]Cost Form B -Yr7'!$B$20:$L$95
Name __YR9: '[1]Cost Form B -Yr8'!$B$20:$L$95
Name _YR1: '[1]Cost Form B -Yr1'!$B$20:$L$95
Name _YR10: '[1]Cost Form B -Yr9'!$B$20:$L$95
Name _YR11: '[1]Cost Form B -Yr10A'!$B$20:$L$95
Name _Yr12: '[1]Cost Form B -Yr10B'!$B$20:$L$95
Name _YR2: '[1]Cost Form B -Yr2'!$B$9:$L$88
Name _YR3: '[1]Cost Form B -Yr3'!$B$9:$L$95
Name _YR4: '[1]Cost Form B -Yr4'!$B$20:$L$95
Name _YR5: '[1]Cost Form B -Yr5'!$B$20:$L$95
Name _YR6: '[1]Cost Form B -Yr6A'!$B$20:$L$95
Name _YR7: '[1]Cost Form B -Yr6B'!$B$20:$L$88
Name _YR8: '[1]Cost Form B -Yr7'!$B$20:$L$95
Name _YR9: '[1]Cost Form B -Yr8'!$B$20:$L$95
Name Contractor_Type: '[2]Subcontractor Lists'!$E$32:$E$52
Name fa: '[3]WBS Structure'!$K$4:$K$1004
Name fa: '[4]WBS Structure'!$K$4:$K$1004
Name GA: [5]Rates!$B$9:$G$21
Name LaborClassifications: '[2]Labor Class & Escalation'!$Q$5:$Q$33
Name LC_Status: '[2]Labor Class & Escalation'!$R$4:$R$20
Name Lowest_WBSs: '[2]WBS Structure'!$K$4:$K$1008
Name NASA_SLC: #REF!
Name NASA_SLC: #REF!
Name Subcontractor_size: '[2]Subcontractor Lists'!$G$32:$G$34
Name Subcontractor_small_business_class: '[2]Subcontractor Lists'!$I$32:$I$52
Name Subcontractors: '[2]Subcontractor Lists'!$C$5:$C$24
Name SubContractorSize: '[6]Subcontractor Lists'!$G$32:$G$33

Sheet Cover Sheet

Sheet Instructions
A2: NASA Agency-wide Supply of Gaseous and Liquid Helium Pricing Template Instructions:
A4: General Instructions:
A6: 1. | B6: The price template instructions listed below are provided to assist the Offeror in completing each worksheet tab. The Offeror will be responsible for submitting a complete and mathematically accurate file submission to the Government.
A9: 2. | B9: The Offeror shall complete Attachment 2 Gaseous and Liquid Helium Price Proposal Template in the native format. The Offeror shall comply with the instructions contained within the pricing template “Instruction” tab. The pricing template Unit Prices shall include all fixed, variable, and incremental costs to refine and prepare product for Government inspection and acceptance.
A13: 3. | B13: The potential Gaseous and Liquid Helium Ordering Periods are Five years, which consists of two base period years and three one-year option periods as follows: Base Period 1: 10/01/25 - 09/30/26; Base Period 2: 10/01/26 - 09/30/27; Option Period 1: 10/01/27-09/30/28; Option Period 2: 10/01/28-09/30/29: and Option Period 3: 10/01/29-09/30/30
A18: 4. | B18: The Excel workbook provided by the Government contains formulas (cells with white background) to accurately summarize the Offeror inputs for evaluation purposes.
A21: 5 | B21: For the complete name and location (city and state) for each delivery location acronymn listed in this template see Section 2.8 of the SF 1449 - Terms and Conditions.
A24: Pricing Template Preparation by Worksheet Tab: (Green font denotes worksheet tab Offeror input is required)
C25: Cover Sheet
C26: Instructions
C27: Helium Price
C28: Delivery Charge
C29: Other Pricing
C30: Total Evaluated Price Summary
A32: Each Offeror shall develop and complete the following worksheet tabs [Helium Price, Delivery Charge and Other Pricing]. Keep all added data within the table so that the summary table will populate all of the proposed information.
A35: 1. | B35: Helium Price
B36: The Offeror shall provide the Helium Unit Product Price to the Government for each contract year [Base Period 1, Base Period 2, and Option Period 1, 2, and 3] for each CLIN proposed in rows highlighted in green. The CLIN is where "X" represents the location. Total Estimated Product Price (white rows) will automatically populate and no Offeror input or modifications are required.
A41: 2. | B41: Delivery Charge
B42: The Offeror shall provide the proposed price for Delivery Charge per truck/tanker/trailer for Brackets 1-10 for each proposed CLIN highlighted in green. The Offeror’s proposed price shall include all fixed, variable, and incremental costs to deliver the product to the location specified. For the purposes of proposal evaluation, the Government will utilize the proposed price for Bracket 5 across all five contract years. The Government is utilizing Bracket 5 for evaluation purposes based on the Government’s analysis of historical retail on-highway diesel fuel prices. The Government will multiply the Best Estimated Delivery Quantity per Year by the proposed price for Bracket 5 ($3.76-$4.25) to arrive at the Total Estimated Annual Delivery Price.
A46: 3. | B46: Other Pricing:
B47: The Offeror shall provide the Helium Unit Product Price to the Government for each contract year [Base Period 1, Base Period 2, and Option Period 1, 2, and 3] for each CLIN proposed in rows highlighted in green. The CLIN is where "X" represents the location. Total Estimated Product Price (white rows) will automatically populate and no Offeror input or modifications are required.
A51: 4. | B51: Total Evaluated Price Summary:
B52: No Offeror input or modifications are required for this tab. This tab summarizes the Offerors proposed unit prices by Location for Base Period 1, Base Period 2 and Option Period 1, 2, and 3. The summarized data that populates the summary table on this tab will be pulled from each of the green highlighted rows from: [Helium Price, Delivery Charge and Other Pricing].

Sheet Helium Price
A1: SOLICITATION 80KSC024R0010
A2: Gaseous and Liquid Helium Price
A4: Offeror
A5: Offerors shall review Instructions Tab in this Price Proposal Template. Columns A- N will be incorporated into Contract Section 2.2 upon award.
A6: CLIN Base = 00X Option 1 = 10X | B6: Delivery Location | C6: Container | D6: Unit of Measure | E6: Base Period 1 Government Provided BEQ (10/01/25 - 09/30/26) CLIN 00X | F6: Base Period 2 Government Provided BEQ (10/01/26 - 09/30/27) CLIN 00X | G6: Option 1 Government Provided BEQ (10/01/27 - 09/30/28) CLIN 10X | H6: Option 2 Government Provided BEQ (10/01/28 - 09/30/29) CLIN 10X | I6: Option 3 Government Provided BEQ (10/01/29 - 09/30/30) CLIN 10X | J6: Base Period 1 Product Unit Price to the Government (10/01/25 - 09/30/26) CLIN 00X | K6: Base Period 2 Product Unit Price to the Government (10/01/26 - 09/30/27) CLIN 00X | L6: Option Period 1 Product Unit Price to the Government (10/01/27 - 09/30/28) CLIN 10X | M6: Option Period 2 Product Unit Price to the Government (10/01/28 - 09/30/29) CLIN 20X | N6: Option Period 3 Product Unit Price to the Government (10/01/29 - 09/30/30) CLIN 30X | O6: Base Period 1 Estimated Total Price to the Government (10/01/25 - 09/30/26) CLIN 00X | P6: Base Period 2 Estimated Total Price to the Government (10/01/26 - 09/30/27) CLIN 00X | Q6: Option Period 1 Estimated Total Price to the Government (10/01/27 - 09/30/28) CLIN 10X | R6: Option Period 2 Estimated Total Price to the Government (10/01/28 - 09/30/29) CLIN 20X | S6: Option Period 3 Estimated Total Price to the Government (10/01/29 - 09/30/30) CLIN 30X | T6: Total Estimated Price to the Government (10/01/25 - 09/30/30)
A7: 1 | B7: CSBF TX | C7: Trailer | D7: Scf | E7: 640000 | F7: 640000 | G7: 640000 | H7: 640000 | I7: 640000 | J7: 0 | K7: 0 | L7: 0 | M7: 0 | N7: 0 | O7: =E7*J7 -> 0 | P7: =F7*K7 -> 0 | Q7: =G7*L7 -> 0 | R7: =H7*M7 -> 0 | S7: =I7*N7 -> 0 | T7: =SUM(O7:S7) -> 0
A8: 2 | B8: CSBF TX | C8: Dewar | D8: Liter | E8: 7500 | F8: 7500 | G8: 7500 | H8: 7500 | I8: 7500 | J8: 0 | K8: 0 | L8: 0 | M8: 0 | N8: 0 | O8: =E8*J8 -> 0 | P8: =F8*K8 -> 0 | Q8: =G8*L8 -> 0 | R8: =H8*M8 -> 0 | S8: =I8*N8 -> 0 | T8: =SUM(O8:S8) -> 0
A9: 3 | B9: CSBF NM | C9: Trailer | D9: Scf | E9: 2400000 | F9: 1920000 | G9: 1280000 | H9: 1280000 | I9: 1280000 | J9: 0 | K9: 0 | L9: 0 | M9: 0 | N9: 0 | O9: =E9*J9 -> 0 | P9: =F9*K9 -> 0 | Q9: =G9*L9 -> 0 | R9: =H9*M9 -> 0 | S9: =I9*N9 -> 0 | T9: =SUM(O9:S9) -> 0
A10: 4 | B10: CSBF NM | C10: Dewar | D10: Liter | E10: 12000 | F10: 12000 | G10: 12000 | H10: 12000 | I10: 12000 | J10: 0 | K10: 0 | L10: 0 | M10: 0 | N10: 0 | O10: =E10*J10 -> 0 | P10: =F10*K10 -> 0 | Q10: =G10*L10 -> 0 | R10: =H10*M10 -> 0 | S10: =I10*N10 -> 0 | T10: =SUM(O10:S10) -> 0
A11: 5 | B11: CSBF CA | C11: ISO | D11: Scf | E11: 960000 | F11: 960000 | G11: 960000 | H11: 960000 | I11: 960000 | J11: 0 | K11: 0 | L11: 0 | M11: 0 | N11: 0 | O11: =E11*J11 -> 0 | P11: =F11*K11 -> 0 | Q11: =G11*L11 -> 0 | R11: =H11*M11 -> 0 | S11: =I11*N11 -> 0 | T11: =SUM(O11:S11) -> 0
A12: 6 | B12: CSBF OR | C12: Trailer | D12: scf | E12: 160000 | F12: 480000 | G12: 1120000 | H12: 1120000 | I12: 1120000 | J12: 0 | K12: 0 | L12: 0 | M12: 0 | N12: 0 | O12: =E12*J12 -> 0 | P12: =F12*K12 -> 0 | Q12: =G12*L12 -> 0 | R12: =H12*M12 -> 0 | S12: =I12*N12 -> 0 | T12: =SUM(O12:S12) -> 0
A13: 7 | B13: CSBF OR | C13: Dewar | D13: Liter | E13: 0 | F13: 0 | G13: 3000 | H13: 3000 | I13: 6000 | J13: 0 | K13: 0 | L13: 0 | M13: 0 | N13: 0 | O13: =E13*J13 -> 0 | P13: =F13*K13 -> 0 | Q13: =G13*L13 -> 0 | R13: =H13*M13 -> 0 | S13: =I13*N13 -> 0 | T13: =SUM(O13:S13) -> 0
A14: 8 | B14: CCSFS (SLC-41) | C14: Tanker | D14: Liter | E14: 440000 | F14: 440000 | G14: 440000 | H14: 440000 | I14: 440000 | J14: 0 | K14: 0 | L14: 0 | M14: 0 | N14: 0 | O14: =E14*J14 -> 0 | P14: =F14*K14 -> 0 | Q14: =G14*L14 -> 0 | R14: =H14*M14 -> 0 | S14: =I14*N14 -> 0 | T14: =SUM(O14:S14) -> 0
A15: 9 | B15: GRC-LF | C15: Trailer | D15: Scf | E15: 490000 | F15: 490000 | G15: 490000 | H15: 490000 | I15: 490000 | J15: 0 | K15: 0 | L15: 0 | M15: 0 | N15: 0 | O15: =E15*J15 -> 0 | P15: =F15*K15 -> 0 | Q15: =G15*L15 -> 0 | R15: =H15*M15 -> 0 | S15: =I15*N15 -> 0 | T15: =SUM(O15:S15) -> 0
A16: 10 | B16: GRC-ATF | C16: Trailer | D16: Scf | E16: 440000 | F16: 770000 | G16: 440000 | H16: 440000 | I16: 440000 | J16: 0 | K16: 0 | L16: 0 | M16: 0 | N16: 0 | O16: =E16*J16 -> 0 | P16: =F16*K16 -> 0 | Q16: =G16*L16 -> 0 | R16: =H16*M16 -> 0 | S16: =I16*N16 -> 0 | T16: =SUM(O16:S16) -> 0
A17: 11 | B17: GSFC | C17: Dewar | D17: Liter | E17: 7000 | F17: 7000 | G17: 7000 | H17: 7000 | I17: 7000 | J17: 0 | K17: 0 | L17: 0 | M17: 0 | N17: 0 | O17: =E17*J17 -> 0 | P17: =F17*K17 -> 0 | Q17: =G17*L17 -> 0 | R17: =H17*M17 -> 0 | S17: =I17*N17 -> 0 | T17: =SUM(O17:S17) -> 0
A18: 12 | B18: JPL | C18: Trailer | D18: Scf | E18: 0 | F18: 0 | G18: 40000 | H18: 0 | I18: 0 | J18: 0 | K18: 0 | L18: 0 | M18: 0 | N18: 0 | O18: =E18*J18 -> 0 | P18: =F18*K18 -> 0 | Q18: =G18*L18 -> 0 | R18: =H18*M18 -> 0 | S18: =I18*N18 -> 0 | T18: =SUM(O18:S18) -> 0
... A28: 22 | B28: WSTF | C28: Trailer | D28: Scf | E28: 1140000 | F28: 1140000 | G28: 1140000 | H28: 1140000 | I28: 1140000 | J28: 0 | K28: 0 | L28: 0 | M28: 0 | N28: 0 | O28: =E28*J28 -> 0 | P28: =F28*K28 -> 0 | Q28: =G28*L28 -> 0 | R28: =H28*M28 -> 0 | S28: =I28*N28 -> 0 | T28: =SUM(O28:S28) -> 0

Sheet Delivery Charge 
A1: SOLICITATION 80KSC024R0010
A2: Gaseous and Liquid Helium Delivery Charge
I3: Prices proposed in Bracket 5 ($3.76-$4.25) will be utilized for evaluation purposes
A4: Offeror | B4: ='Helium Price'!B4 -> 0 | I4: Delivery Charge by Diesel Fuel Threshold
A5: Offerors shall review Instructions Tab in this Price Proposal Template. The Columns A- R will be incorporated into Contract Delivery Charges Contract Section 2.3 - Delivery Charge upon award. | I5: 1 | J5: 2 | K5: 3 | L5: 4 | M5: 5 | N5: 6 | O5: 7 | P5: 8 | Q5: 9 | R5: 10
A6: CLIN Base = 00X Option 1 = 10X | B6: Delivery Location | C6: Unit of Measure | D6: Base Period 1 Government Provided BEQ (10/01/25 - 09/30/26) CLIN 00X | E6: Base Period 2 Government Provided BEQ (10/01/26 - 09/30/27) CLIN 00X | F6: Option Period 1 Government Provided BEQ (10/01/27 - 09/30/28) CLIN 10X | G6: Option Period 2 Government Provided BEQ (10/01/28 - 09/30/29) CLIN 20X | H6: Option Period 3 Government Provided BEQ (10/01/29 - 09/30/30) CLIN 30X | I6: $0.00-$2.25 | J6: $2.26-$2.75 | K6: $2.76-$3.25 | L6: $3.26-$3.75 | M6: $3.76-$4.25 | N6: $4.26-$4.75 | O6: $4.76-$5.25 | P6: $5.26-$5.75 | Q6: $5.76-$6.25 | R6: $6.26-$6.75 | S6: Base Period 1 Estimated Total Price to the Government (10/01/25 - 09/30/26) CLIN 00X | T6: Base Period 2 Estimated Total Price to the Government (10/01/26 - 09/30/27) CLIN 00X | U6: Option Period 1 Estimated Total Price to the Government (10/01/27 - 09/30/28) CLIN 10X | V6: Option Period 2 Estimated Total Price to the Government (10/01/28 - 09/30/29) CLIN 20X | W6: Option Period 3 Estimated Total Price to the Government (10/01/29 - 09/30/30) CLIN 20X | X6: Total Estimated Price to the Government (10/01/25 - 09/30/30)
A7: 1 | B7: CSBF TX | C7: Trailer | D7: 4 | E7: 4 | F7: 4 | G7: 4 | H7: 4 | I7: 0 | J7: 0 | K7: 0 | L7: 0 | M7: 0 | N7: 0 | O7: 0 | P7: 0 | Q7: 0 | R7: 0 | S7: =D7*M7 -> 0 | T7: =E7*M7 -> 0 | U7: =F7*M7 -> 0 | V7: =G7*M7 -> 0 | W7: =H7*M7 -> 0 | X7: =SUM(S7:W7) -> 0
A8: 2 | B8: CSBF TX | C8: Dewar | D8: 3 | E8: 3 | F8: 3 | G8: 3 | H8: 3 | I8: 0 | J8: 0 | K8: 0 | L8: 0 | M8: 0 | N8: 0 | O8: 0 | P8: 0 | Q8: 0 | R8: 0 | S8: =D8*M8 -> 0 | T8: =E8*M8 -> 0 | U8: =F8*M8 -> 0 | V8: =G8*M8 -> 0 | W8: =H8*M8 -> 0 | X8: =SUM(S8:W8) -> 0
A9: 3 | B9: CSBF NM | C9: Trailer | D9: 15 | E9: 12 | F9: 8 | G9: 8 | H9: 8 | I9: 0 | J9: 0 | K9: 0 | L9: 0 | M9: 0 | N9: 0 | O9: 0 | P9: 0 | Q9: 0 | R9: 0 | S9: =D9*M9 -> 0 | T9: =E9*M9 -> 0 | U9: =F9*M9 -> 0 | V9: =G9*M9 -> 0 | W9: =H9*M9 -> 0 | X9: =SUM(S9:W9) -> 0
A10: 4 | B10: CSBF NM | C10: Dewar | D10: 3 | E10: 3 | F10: 3 | G10: 3 | H10: 3 | I10: 0 | J10: 0 | K10: 0 | L10: 0 | M10: 0 | N10: 0 | O10: 0 | P10: 0 | Q10: 0 | R10: 0 | S10: =D10*M10 -> 0 | T10: =E10*M10 -> 0 | U10: =F10*M10 -> 0 | V10: =G10*M10 -> 0 | W10: =H10*M10 -> 0 | X10: =SUM(S10:W10) -> 0
A11: 5 | B11: CSBF CA | C11: ISO | D11: 6 | E11: 6 | F11: 6 | G11: 6 | H11: 6 | I11: 0 | J11: 0 | K11: 0 | L11: 0 | M11: 0 | N11: 0 | O11: 0 | P11: 0 | Q11: 0 | R11: 0 | S11: =D11*M11 -> 0 | T11: =E11*M11 -> 0 | U11: =F11*M11 -> 0 | V11: =G11*M11 -> 0 | W11: =H11*M11 -> 0 | X11: =SUM(S11:W11) -> 0
A12: 6 | B12: CSBF OR | C12: Trailer | D12: 1 | E12: 3 | F12: 7 | G12: 7 | H12: 7 | I12: 0 | J12: 0 | K12: 0 | L12: 0 | M12: 0 | N12: 0 | O12: 0 | P12: 0 | Q12: 0 | R12: 0 | S12: =D12*M12 -> 0 | T12: =E12*M12 -> 0 | U12: =F12*M12 -> 0 | V12: =G12*M12 -> 0 | W12: =H12*M12 -> 0 | X12: =SUM(S12:W12) -> 0
A13: 7 | B13: CSBF OR | C13: Dewar | D13: 0 | E13: 0 | F13: 2 | G13: 2 | H13: 3 | I13: 0 | J13: 0 | K13: 0 | L13: 0 | M13: 0 | N13: 0 | O13: 0 | P13: 0 | Q13: 0 | R13: 0 | S13: =D13*M13 -> 0 | T13: =E13*M13 -> 0 | U13: =F13*M13 -> 0 | V13: =G13*M13 -> 0 | W13: =H13*M13 -> 0 | X13: =SUM(S13:W13) -> 0
A14: 8 | B14: CCSFS (SLC-41) | C14: Tanker | D14: 11 | E14: 11 | F14: 11 | G14: 11 | H14: 11 | I14: 0 | J14: 0 | K14: 0 | L14: 0 | M14: 0 | N14: 0 | O14: 0 | P14: 0 | Q14: 0 | R14: 0 | S14: =D14*M14 -> 0 | T14: =E14*M14 -> 0 | U14: =F14*M14 -> 0 | V14: =G14*M14 -> 0 | W14: =H14*M14 -> 0 | X14: =SUM(S14:W14) -> 0
A15: 9 | B15: GRC-LF | C15: Trailer | D15: 1 | E15: 1 | F15: 1 | G15: 1 | H15: 1 | I15: 0 | J15: 0 | K15: 0 | L15: 0 | M15: 0 | N15: 0 | O15: 0 | P15: 0 | Q15: 0 | R15: 0 | S15: =D15*M15 -> 0 | T15: =E15*M15 -> 0 | U15: =F15*M15 -> 0 | V15: =G15*M15 -> 0 | W15: =H15*M15 -> 0 | X15: =SUM(S15:W15) -> 0
A16: 10 | B16: GRC-ATF | C16: Trailer | D16: 2 | E16: 4 | F16: 2 | G16: 2 | H16: 2 | I16: 0 | J16: 0 | K16: 0 | L16: 0 | M16: 0 | N16: 0 | O16: 0 | P16: 0 | Q16: 0 | R16: 0 | S16: =D16*M16 -> 0 | T16: =E16*M16 -> 0 | U16: =F16*M16 -> 0 | V16: =G16*M16 -> 0 | W16: =H16*M16 -> 0 | X16: =SUM(S16:W16) -> 0
A17: 11 | B17: GSFC | C17: Dewar | D17: 25 | E17: 25 | F17: 25 | G17: 25 | H17: 25 | I17: 0 | J17: 0 | K17: 0 | L17: 0 | M17: 0 | N17: 0 | O17: 0 | P17: 0 | Q17: 0 | R17: 0 | S17: =D17*M17 -> 0 | T17: =E17*M17 -> 0 | U17: =F17*M17 -> 0 | V17: =G17*M17 -> 0 | W17: =H17*M17 -> 0 | X17: =SUM(S17:W17) -> 0
A18: 12 | B18: JPL | C18: Trailer | D18: 0 | E18: 0 | F18: 1 | G18: 0 | H18: 0 | I18: 0 | J18: 0 | K18: 0 | L18: 0 | M18: 0 | N18: 0 | O18: 0 | P18: 0 | Q18: 0 | R18: 0 | S18: =D18*M18 -> 0 | T18: =E18*M18 -> 0 | U18: =F18*M18 -> 0 | V18: =G18*M18 -> 0 | W18: =H18*M18 -> 0 | X18: =SUM(S18:W18) -> 0
... A28: 22 | B28: WSTF | C28: Trailer | D28: 13 | E28: 13 | F28: 13 | G28: 13 | H28: 13 | I28: 0 | J28: 0 | K28: 0 | L28: 0 | M28: 0 | N28: 0 | O28: 0 | P28: 0 | Q28: 0 | R28: 0 | S28: =D28*M28 -> 0 | T28: =E28*M28 -> 0 | U28: =F28*M28 -> 0 | V28: =G28*M28 -> 0 | W28: =H28*M28 -> 0 | X28: =SUM(S28:W28) -> 0

Sheet Other Pricing 
A1: SOLICITATION 80KSC024R00010
A2: Other Pricing
A4: Offeror | B4: ='Helium Price'!B4 -> 0
A5: Offerors shall reveiw the Instructions Tab in this Price Proposal Template. Columns A-E and Columns F-J will be incorporated into Contract Section 4 upon award.
A6: CLIN Base = 00X Option 1 = 10X | B6: Delivery Location | C6: Description | D6: Unit of Measure | E6: Government Provided BEQ Each Period | F6: Base Period 1 Government Provided BEQ (10/01/25 - 09/30/26) CLIN 00X | G6: Base Period 2 Government Provided BEQ (10/01/26 - 09/30/27) CLIN 00X | H6: Option Period 1 Government Provided BEQ (10/01/27 - 09/30/28) CLIN 10X | I6: Option Period 2 Government Provided BEQ (10/01/28 - 09/30/29) CLIN 20X | J6: Option Period 3 Government Provided BEQ (10/01/29 - 09/30/30) CLIN 20X | K6: Base Period 1 Estimated Total Price to the Government (10/01/25 - 09/30/26) CLIN 00X | L6: Base Period 2 Estimated Total Price to the Government (10/01/26 - 09/30/27) CLIN 00X | M6: Option Period 1 Estimated Total Price to the Government (10/01/27 - 09/30/28) CLIN 10X | N6: Option Period 2 Estimated Total Price to the Government (10/01/28 - 09/30/29) CLIN 20X | O6: Option Period 3 Estimated Total Price to the Government (10/01/29 - 09/30/30) CLIN 30X | P6: Estimated Total Price to the Government (10/01/29 - 09/30/30)
A7: 1 | B7: CSBF TX | C7: Jumbo (160+ msfc) Trailer Rental | D7: Price Per day | E7: 28 | F7: 0 | G7: 0 | H7: 0 | I7: 0 | J7: 0 | K7: =F7*E7 -> 0 | L7: =G7*E7 -> 0 | M7: =H7*E7 -> 0 | N7: =I7*E7 -> 0 | O7: =J7*E7 -> 0 | P7: =SUM(K7:O7) -> 0
A8: 1 | B8: CSBF TX | C8: Inability to Accept Delivery | D8: Price Per Mile | E8: =1*650 -> 650 | F8: 0 | G8: 0 | H8: 0 | I8: 0 | J8: 0 | K8: =F8*E8 -> 0 | L8: =G8*E8 -> 0 | M8: =H8*E8 -> 0 | N8: =I8*E8 -> 0 | O8: =J8*E8 -> 0 | P8: =SUM(K8:O8) -> 0
A9: 1 | B9: CSBF TX | C9: One Way Mileage | D9: Price Per Mile | E9: 1300 | F9: 0 | G9: 0 | H9: 0 | I9: 0 | J9: 0 | K9: =F9*E9 -> 0 | L9: =G9*E9 -> 0 | M9: =H9*E9 -> 0 | N9: =I9*E9 -> 0 | O9: =J9*E9 -> 0 | P9: =SUM(K9:O9) -> 0
A10: 1 | B10: CSBF TX | C10: Emergency Delivery | D10: Price Per Occurrence | E10: 1 | F10: 0 | G10: 0 | H10: 0 | I10: 0 | J10: 0 | K10: =F10*E10 -> 0 | L10: =G10*E10 -> 0 | M10: =H10*E10 -> 0 | N10: =I10*E10 -> 0 | O10: =J10*E10 -> 0 | P10: =SUM(K10:O10) -> 0
A11: 1 | B11: CSBF TX | C11: Trailer Purge | D11: Price Per Occurrence | E11: 1 | F11: 0 | G11: 0 | H11: 0 | I11: 0 | J11: 0 | K11: =F11*E11 -> 0 | L11: =G11*E11 -> 0 | M11: =H11*E11 -> 0 | N11: =I11*E11 -> 0 | O11: =J11*E11 -> 0 | P11: =SUM(K11:O11) -> 0
A12: 1 | B12: CSBF TX | C12: Demurrage | D12: Price Per Hr | E12: 4 | F12: 0 | G12: 0 | H12: 0 | I12: 0 | J12: 0 | K12: =F12*E12 -> 0 | L12: =G12*E12 -> 0 | M12: =H12*E12 -> 0 | N12: =I12*E12 -> 0 | O12: =J12*E12 -> 0 | P12: =SUM(K12:O12) -> 0
I13: Total CSBF TX | K13: =SUM(K7:K12) -> 0 | L13: =SUM(L7:L12) -> 0 | M13: =SUM(M7:M12) -> 0 | N13: =SUM(N7:N12) -> 0 | O13: =SUM(O7:O12) -> 0 | P13: =SUM(P7:P12) -> 0
A14: 2 | B14: CSBF TX | C14: 500 Liter Dewar Rental | D14: Price Per day | E14: =7*15 -> 105 | F14: 0 | G14: 0 | H14: 0 | I14: 0 | J14: 0 | K14: =F14*E14 -> 0 | L14: =G14*E14 -> 0 | M14: =H14*E14 -> 0 | N14: =I14*E14 -> 0 | O14: =J14*E14 -> 0 | P14: =SUM(K14:O14) -> 0
A15: 2 | B15: CSBF TX | C15: Inability to Accept Delivery | D15: Price Per Mile | E15: 650 | F15: 0 | G15: 0 | H15: 0 | I15: 0 | J15: 0 | K15: =F15*E15 -> 0 | L15: =G15*E15 -> 0 | M15: =H15*E15 -> 0 | N15: =I15*E15 -> 0 | O15: =J15*E15 -> 0 | P15: =SUM(K15:O15) -> 0
A16: 2 | B16: CSBF TX | C16: One Way Mileage | D16: Price Per Mile | E16: =1*650 -> 650 | F16: 0 | G16: 0 | H16: 0 | I16: 0 | J16: 0 | K16: =F16*E16 -> 0 | L16: =G16*E16 -> 0 | M16: =H16*E16 -> 0 | N16: =I16*E16 -> 0 | O16: =J16*E16 -> 0 | P16: =SUM(K16:O16) -> 0
A17: 2 | B17: CSBF TX | C17: Emergency Delivery | D17: Price Per Occurrence | E17: 1 | F17: 0 | G17: 0 | H17: 0 | I17: 0 | J17: 0 | K17: =F17*E17 -> 0 | L17: =G17*E17 -> 0 | M17: =H17*E17 -> 0 | N17: =I17*E17 -> 0 | O17: =J17*E17 -> 0 | P17: =SUM(K17:O17) -> 0
A18: 2 | B18: CSBF TX | C18: 500 Liter Dewar Cool Down | D18: Price Per Occurrence | E18: 3 | F18: 0 | G18: 0 | H18: 0 | I18: 0 | J18: 0 | K18: =F18*E18 -> 0 | L18: =G18*E18 -> 0 | M18: =H18*E18 -> 0 | N18: =I18*E18 -> 0 | O18: =J18*E18 -> 0 | P18: =SUM(K18:O18) -> 0
A19: 2 | B19: CSBF TX | C19: Demurrage | D19: Price Per Hr | E19: 3 | F19: 0 | G19: 0 | H19: 0 | I19: 0 | J19: 0 | K19: =F19*E19 -> 0 | L19: =G19*E19 -> 0 | M19: =H19*E19 -> 0 | N19: =I19*E19 -> 0 | O19: =J19*E19 -> 0 | P19: =SUM(K19:O19) -> 0
I20: Total CSBF TX | K20: =SUM(K14:K19) -> 0 | L20: =SUM(L14:L19) -> 0 | M20: =SUM(M14:M19) -> 0 | N20: =SUM(N14:N19) -> 0 | O20: =SUM(O14:O19) -> 0 | P20: =SUM(P14:P19) -> 0
A21: 3 | B21: CSBF NM | C21: Jumbo (160+msfc) Trailer Rental | D21: Price Per day | E21: =7*10 -> 70 | F21: 0 | G21: 0 | H21: 0 | I21: 0 | J21: 0 | K21: =F21*E21 -> 0 | L21: =G21*E21 -> 0 | M21: =H21*E21 -> 0 | N21: =I21*E21 -> 0 | O21: =J21*E21 -> 0 | P21: =SUM(K21:O21) -> 0
A22: 3 | B22: CSBF NM | C22: Inability to Accept Delivery | D22: Price Per Mile | E22: 1450 | F22: 0 | G22: 0 | H22: 0 | I22: 0 | J22: 0 | K22: =F22*E22 -> 0 | L22: =G22*E22 -> 0 | M22: =H22*E22 -> 0 | N22: =I22*E22 -> 0 | O22: =J22*E22 -> 0 | P22: =SUM(K22:O22) -> 0
A23: 3 | B23: CSBF NM | C23: One Way Mileage | D23: Price Per Mile | E23: 1450 | F23: 0 | G23: 0 | H23: 0 | I23: 0 | J23: 0 | K23: =F23*E23 -> 0 | L23: =G23*E23 -> 0 | M23: =H23*E23 -> 0 | N23: =I23*E23 -> 0 | O23: =J23*E23 -> 0 | P23: =SUM(K23:O23) -> 0
A24: 3 | B24: CSBF NM | C24: Emergency Delivery | D24: Price Per Occurrence | E24: 1 | F24: 0 | G24: 0 | H24: 0 | I24: 0 | J24: 0 | K24: =F24*E24 -> 0 | L24: =G24*E24 -> 0 | M24: =H24*E24 -> 0 | N24: =I24*E24 -> 0 | O24: =J24*E24 -> 0 | P24: =SUM(K24:O24) -> 0
A25: 3 | B25: CSBF NM | C25: Trailer Purge | D25: Price Per Occurrence | E25: 3 | F25: 0 | G25: 0 | H25: 0 | I25: 0 | J25: 0 | K25: =F25*E25 -> 0 | L25: =G25*E25 -> 0 | M25: =H25*E25 -> 0 | N25: =I25*E25 -> 0 | O25: =J25*E25 -> 0 | P25: =SUM(K25:O25) -> 0
A26: 3 | B26: CSBF NM | C26: Demurrage | D26: Price Per Hr | E26: 10 | F26: 0 | G26: 0 | H26: 0 | I26: 0 | J26: 0 | K26: =F26*E26 -> 0 | L26: =G26*E26 -> 0 | M26: =H26*E26 -> 0 | N26: =I26*E26 -> 0 | O26: =J26*E26 -> 0 | P26: =SUM(K26:O26) -> 0
I27: Total CSBF NM | K27: =SUM(K21:K26) -> 0 | L27: =SUM(L21:L26) -> 0 | M27: =SUM(M21:M26) -> 0 | N27: =SUM(N21:N26) -> 0 | O27: =SUM(O21:O26) -> 0 | P27: =SUM(P21:P26) -> 0
A28: 4 | B28: CSBF NM | C28: 500 Liter Dewar Rental | D28: Price Per day | E28: =7*24 -> 168 | F28: 0 | G28: 0 | H28: 0 | I28: 0 | J28: 0 | K28: =F28*E28 -> 0 | L28: =G28*E28 -> 0 | M28: =H28*E28 -> 0 | N28: =I28*E28 -> 0 | O28: =J28*E28 -> 0 | P28: =SUM(K28:O28) -> 0
A29: 4 | B29: CSBF NM | C29: Inability to Accept Delivery | D29: Price Per Mile | E29: 725 | F29: 0 | G29: 0 | H29: 0 | I29: 0 | J29: 0 | K29: =F29*E29 -> 0 | L29: =G29*E29 -> 0 | M29: =H29*E29 -> 0 | N29: =I29*E29 -> 0 | O29: =J29*E29 -> 0 | P29: =SUM(K29:O29) -> 0
A30: 4 | B30: CSBF NM | C30: One Way Mileage | D30: Price Per Mile | E30: =2*362.5 -> 725 | F30: 0 | G30: 0 | H30: 0 | I30: 0 | J30: 0 | K30: =F30*E30 -> 0 | L30: =G30*E30 -> 0 | M30: =H30*E30 -> 0 | N30: =I30*E30 -> 0 | O30: =J30*E30 -> 0 | P30: =SUM(K30:O30) -> 0
A31: 4 | B31: CSBF NM | C31: Emergency Delivery | D31: Price Per Occurrence | E31: 1 | F31: 0 | G31: 0 | H31: 0 | I31: 0 | J31: 0 | K31: =F31*E31 -> 0 | L31: =G31*E31 -> 0 | M31: =H31*E31 -> 0 | N31: =I31*E31 -> 0 | O31: =J31*E31 -> 0 | P31: =SUM(K31:O31) -> 0
A32: 4 | B32: CSBF NM | C32: 160/500 Liter Dewar Cool Down | D32: Price Per Occurrence | E32: 5 | F32: 0 | G32: 0 | H32: 0 | I32: 0 | J32: 0 | K32: =F32*E32 -> 0 | L32: =G32*E32 -> 0 | M32: =H32*E32 -> 0 | N32: =I32*E32 -> 0 | O32: =J32*E32 -> 0 | P32: =SUM(K32:O32) -> 0
A33: 4 | B33: CSBF NM | C33: Demurrage | D33: Price Per Hr | E33: 3 | F33: 0 | G33: 0 | H33: 0 | I33: 0 | J33: 0 | K33: =F33*E33 -> 0 | L33: =G33*E33 -> 0 | M33: =H33*E33 -> 0 | N33: =I33*E33 -> 0 | O33: =J33*E33 -> 0 | P33: =SUM(K33:O33) -> 0
J34: Total CSBF NM | K34: =SUM(K28:K33) -> 0 | L34: =SUM(L28:L33) -> 0 | M34: =SUM(M28:M33) -> 0 | N34: =SUM(N28:N33) -> 0 | O34: =SUM(O28:O33) -> 0 | P34: =SUM(P28:P33) -> 0
A35: 5 | B35: CSBF CA | C35: ISO Container Rental | D35: Price Per day | E35: 4380 | F35: 0 | G35: 0 | H35: 0 | I35: 0 | J35: 0 | K35: =F35*E35 -> 0 | L35: =G35*E35 -> 0 | M35: =H35*E35 -> 0 | N35: =I35*E35 -> 0 | O35: =J35*E35 -> 0 | P35: =SUM(K35:O35) -> 0
A36: 5 | B36: CSBF CA | C36: ISO Trailer Rental | D36: Price Per day | E36: =6*7 -> 42 | F36: 0 | G36: 0 | H36: 0 | I36: 0 | J36: 0 | K36: =F36*E36 -> 0 | L36: =G36*E36 -> 0 | M36: =H36*E36 -> 0 | N36: =I36*E36 -> 0 | O36: =J36*E36 -> 0 | P36: =SUM(K36:O36) -> 0
A37: 5 | B37: CSBF CA | C37: ISO Purge | D37: Price Per Occurrence | E37: 1 | F37: 0 | G37: 0 | H37: 0 | I37: 0 | J37: 0 | K37: =F37*E37 -> 0 | L37: =G37*E37 -> 0 | M37: =H37*E37 -> 0 | N37: =I37*E37 -> 0 | O37: =J37*E37 -> 0 | P37: =SUM(K37:O37) -> 0
A38: 5 | B38: CSBF CA | C38: Inability to Accept Delivery | D38: Price Per Mile | E38: 1200 | F38: 0 | G38: 0 | H38: 0 | I38: 0 | J38: 0 | K38: =F38*E38 -> 0 | L38: =G38*E38 -> 0 | M38: =H38*E38 -> 0 | N38: =I38*E38 -> 0 | O38: =J38*E38 -> 0 | P38: =SUM(K38:O38) -> 0
A39: 5 | B39: CSBF CA | C39: One Way Mileage | D39: Price Per Mile | E39: 1200 | F39: 0 | G39: 0 | H39: 0 | I39: 0 | J39: 0 | K39: =F39*E39 -> 0 | L39: =G39*E39 -> 0 | M39: =H39*E39 -> 0 | N39: =I39*E39 -> 0 | O39: =J39*E39 -> 0 | P39: =SUM(K39:O39) -> 0
A40: 5 | B40: CSBF CA | C40: Tube removal/replace | D40: Price Per Tube | E40: 6 | F40: 0 | G40: 0 | H40: 0 | I40: 0 | J40: 0 | K40: =F40*E40 -> 0 | L40: =G40*E40 -> 0 | M40: =H40*E40 -> 0 | N40: =I40*E40 -> 0 | O40: =J40*E40 -> 0 | P40: =SUM(K40:O40) -> 0
A41: 5 | B41: CSBF CA | C41: ISO Module Mobilization | D41: Price Per event | E41: 1 | F41: 0 | G41: 0 | H41: 0 | I41: 0 | J41: 0 | K41: =F41*E41 -> 0 | L41: =G41*E41 -> 0 | M41: =H41*E41 -> 0 | N41: =I41*E41 -> 0 | O41: =J41*E41 -> 0 | P41: =SUM(K41:O41) -> 0
...

Sheet Total Evaluated Price Summary
A1: SOLICITATION 80KSC024R0010
A2: Total Evaluated Price Summary
A4: Offeror | B4: ='Helium Price'!B4 -> 0
A5: Offeror shall review Instructions tab in this proposal template. This tab is for evaluation purposes only and will not be incorporated into the contract upon award.
A6: CLIN | B6: Delivery Location | C6: Period of Performance | D6: Total Estimated Price For Evaluation Purposes
A7: 1 | B7: CSBF TX | C7: Base Period 1 10/01/25 - 09/30/26 | D7: ='Helium Price'!O7+'Delivery Charge '!S7+'Other Pricing '!K13 -> 0
A8: 1 | B8: CSBF TX | C8: Base Period 2 10/01/26 - 09/30/27 | D8: ='Helium Price'!P7+'Delivery Charge '!T7+'Other Pricing '!L13 -> 0
A9: 1 | B9: CSBF TX | C9: Option Period 1 10/01/27 - 09/30/28 | D9: ='Helium Price'!Q7+'Delivery Charge '!U7+'Other Pricing '!M13 -> 0
A10: 1 | B10: CSBF TX | C10: Option Period 2 10/01/28 - 09/30/29 | D10: ='Helium Price'!R7+'Delivery Charge '!V7+'Other Pricing '!N13 -> 0
A11: 1 | B11: CSBF TX | C11: Option Period 3 10/01/29 - 09/30/30 | D11: ='Helium Price'!S7+'Delivery Charge '!W7+'Other Pricing '!O13 -> 0
C12: Total CSBF TX | D12: =SUM(D7:D11) -> 0 | E12: 13
A13: 2 | B13: CSBF TX | C13: Base Period 1 10/01/25 - 09/30/26 | D13: ='Helium Price'!O8+'Delivery Charge '!S8+'Other Pricing '!K20 -> 0
A14: 2 | B14: CSBF TX | C14: Base Period 2 10/01/26 - 09/30/27 | D14: ='Helium Price'!P8+'Delivery Charge '!T8+'Other Pricing '!L20 -> 0
A15: 2 | B15: CSBF TX | C15: Option Period 1 10/01/27 - 09/30/28 | D15: ='Helium Price'!Q8+'Delivery Charge '!U8+'Other Pricing '!M20 -> 0
A16: 2 | B16: CSBF TX | C16: Option Period 2 10/01/28 - 09/30/29 | D16: ='Helium Price'!R8+'Delivery Charge '!V8+'Other Pricing '!N20 -> 0
A17: 2 | B17: CSBF TX | C17: Option Period 3 10/01/29 - 09/30/30 | D17: ='Helium Price'!S8+'Delivery Charge '!W8+'Other Pricing '!O20 -> 0
C18: Total CSBF TX | D18: =SUM(D13:D17) -> 0 | E18: 20
A19: 3 | B19: CSBF NM | C19: Base Period 1 10/01/25 - 09/30/26 | D19: ='Helium Price'!O9+'Delivery Charge '!S9+'Other Pricing '!K27 -> 0
A20: 3 | B20: CSBF NM | C20: Base Period 2 10/01/26 - 09/30/27 | D20: ='Helium Price'!P9+'Delivery Charge '!T9+'Other Pricing '!L27 -> 0
A21: 3 | B21: CSBF NM | C21: Option Period 1 10/01/27 - 09/30/28 | D21: ='Helium Price'!Q9+'Delivery Charge '!U9+'Other Pricing '!M27 -> 0
A22: 3 | B22: CSBF NM | C22: Option Period 2 10/01/28 - 09/30/29 | D22: ='Helium Price'!R9+'Delivery Charge '!V9+'Other Pricing '!N27 -> 0
A23: 3 | B23: CSBF NM | C23: Option Period 3 10/01/29 - 09/30/30 | D23: ='Helium Price'!S9+'Delivery Charge '!W9+'Other Pricing '!O27 -> 0
A24: Total CSBF NM | D24: =SUM(D19:D23) -> 0 | E24: 27
A25: 4 | B25: CSBF NM | C25: Base Period 1 10/01/25 - 09/30/26 | D25: ='Helium Price'!O10+'Delivery Charge '!S10+'Other Pricing '!K34 -> 0
A26: 4 | B26: CSBF NM | C26: Base Period 2 10/01/26 - 09/30/27 | D26: ='Helium Price'!P10+'Delivery Charge '!T10+'Other Pricing '!L34 -> 0
A27: 4 | B27: CSBF NM | C27: Option Period 1 10/01/27 - 09/30/28 | D27: ='Helium Price'!Q10+'Delivery Charge '!U10+'Other Pricing '!K34 -> 0
A28: 4 | B28: CSBF NM | C28: Option Period 2 10/01/28 - 09/30/29 | D28: ='Helium Price'!R10+'Delivery Charge '!V10+'Other Pricing '!K34 -> 0
A29: 4 | B29: CSBF NM | C29: Option Period 3 10/01/29 - 09/30/30 | D29: ='Helium Price'!S10+'Delivery Charge '!W10+'Other Pricing '!K34 -> 0 | H29: DC
A30: Total CSBF NM | D30: =SUM(D25:D29) -> 0 | E30: 34 | F30: O | G30: I | H30: S | I30: K
A31: 5 | B31: CSBF CA | C31: Base Period 1 10/01/25 - 09/30/26 | D31: ='Helium Price'!O11+'Delivery Charge '!S11+'Other Pricing '!K43 -> 0 | F31: P | G31: J | H31: T | I31: L
A32: 5 | B32: CSBF CA | C32: Base Period 2 10/01/26 - 09/30/27 | D32: ='Helium Price'!P11+'Delivery Charge '!T11+'Other Pricing '!K43 -> 0 | F32: Q | G32: K | H32: U | I32: M
A33: 5 | B33: CSBF CA | C33: Option Period 1 10/01/27 - 09/30/28 | D33: ='Helium Price'!Q11+'Delivery Charge '!U11+'Other Pricing '!K43 -> 0 | F33: R | G33: L | H33: V | I33: N
A34: 5 | B34: CSBF CA | C34: Option Period 2 10/01/28 - 09/30/29 | D34: ='Helium Price'!R11+'Delivery Charge '!V11+'Other Pricing '!K43 -> 0 | F34: S | G34: M | H34: W | I34: O
A35: 5 | B35: CSBF CA | C35: Option Period 3 10/01/29 - 09/30/30 | D35: ='Helium Price'!S11+'Delivery Charge '!W11+'Other Pricing '!K43 -> 0
A36: Total CSBF CA | D36: =SUM(D31:D35) -> 0 | E36: 43
A37: 6 | B37: CSBF OR | C37: Base Period 1 10/01/25 - 09/30/26 | D37: ='Helium Price'!O12+'Delivery Charge '!S12+'Other Pricing '!K50 -> 0
A38: 6 | B38: CSBF OR | C38: Base Period 2 10/01/26 - 09/30/27 | D38: ='Helium Price'!P12+'Delivery Charge '!T12+'Other Pricing '!L50 -> 0
A39: 6 | B39: CSBF OR | C39: Option Period 1 10/01/27 - 09/30/28 | D39: ='Helium Price'!Q12+'Delivery Charge '!U12+'Other Pricing '!M50 -> 0
A40: 6 | B40: CSBF OR | C40: Option Period 2 10/01/28 - 09/30/29 | D40: ='Helium Price'!R12+'Delivery Charge '!V12+'Other Pricing '!N50 -> 0
A41: 6 | B41: CSBF OR | C41: Option Period 3 10/01/29 - 09/30/30 | D41: ='Helium Price'!S12+'Delivery Charge '!W123+'Other Pricing '!O50 -> 0
...
