Workbook
Name ___YR1: '[1]Cost Form B -Yr1'!$B$20:$L$95
Name ___YR10: '[1]Cost Form B -Yr9'!$B$20:$L$95
Name ___YR11: '[1]Cost Form B -Yr10A'!$B$20:$L$95
Name ___Yr12: '[1]Cost Form B -Yr10B'!$B$20:$L$95
Name ___YR2: '[1]Cost Form B -Yr2'!$B$9:$L$88
Name ___YR3: '[1]Cost Form B -Yr3'!$B$9:$L$95
Name ___YR4: '[1]Cost Form B -Yr4'!$B$20:$L$95
Name ___YR5: '[1]Cost Form B -Yr5'!$B$20:$L$95
Name ___YR6: '[1]Cost Form B -Yr6A'!$B$20:$L$95
Name ___YR7: '[1]Cost Form B -Yr6B'!$B$20:$L$88
Name ___YR8: '[1]Cost Form B -Yr7'!$B$20:$L$95
Name ___YR9: '[1]Cost Form B -Yr8'!$B$20:$L$95
Name __YR1: '[1]Cost Form B -Yr1'!$B$20:$L$95
Name __YR10: '[1]Cost Form B -Yr9'!$B$20:$L$95
Name __YR11: '[1]Cost Form B -Yr10A'!$B$20:$L$95
Name __Yr12: '[1]Cost Form B -Yr10B'!$B$20:$L$95
Name __YR2: '[1]Cost Form B -Yr2'!$B$9:$L$88
Name __YR3: '[1]Cost Form B -Yr3'!$B$9:$L$95
Name __YR4: '[1]Cost Form B -Yr4'!$B$20:$L$95
Name __YR5: '[1]Cost Form B -Yr5'!$B$20:$L$95
Name __YR6: '[1]Cost Form B -Yr6A'!$B$20:$L$95
Name __YR7: '[1]Cost Form B -Yr6B'!$B$20:$L$88
Name __YR8: '[1]Cost Form B -Yr7'!$B$20:$L$95
Name __YR9: '[1]Cost Form B -Yr8'!$B$20:$L$95
Name _YR1: '[1]Cost Form B -Yr1'!$B$20:$L$95
Name _YR10: '[1]Cost Form B -Yr9'!$B$20:$L$95
Name _YR11: '[1]Cost Form B -Yr10A'!$B$20:$L$95
Name _Yr12: '[1]Cost Form B -Yr10B'!$B$20:$L$95
Name _YR2: '[1]Cost Form B -Yr2'!$B$9:$L$88
Name _YR3: '[1]Cost Form B -Yr3'!$B$9:$L$95
Name _YR4: '[1]Cost Form B -Yr4'!$B$20:$L$95
Name _YR5: '[1]Cost Form B -Yr5'!$B$20:$L$95
Name _YR6: '[1]Cost Form B -Yr6A'!$B$20:$L$95
Name _YR7: '[1]Cost Form B -Yr6B'!$B$20:$L$88
Name _YR8: '[1]Cost Form B -Yr7'!$B$20:$L$95
Name _YR9: '[1]Cost Form B -Yr8'!$B$20:$L$95
Name Contractor_Type: '[2]Subcontractor Lists'!$E$32:$E$52
Name fa: '[3]WBS Structure'!$K$4:$K$1004
Name fa: '[4]WBS Structure'!$K$4:$K$1004
Name GA: [5]Rates!$B$9:$G$21
Name LaborClassifications: '[2]Labor Class & Escalation'!$Q$5:$Q$33
Name LC_Status: '[2]Labor Class & Escalation'!$R$4:$R$20
Name Lowest_WBSs: '[2]WBS Structure'!$K$4:$K$1008
Name NASA_SLC: #REF!
Name NASA_SLC: #REF!
Name Subcontractor_size: '[2]Subcontractor Lists'!$G$32:$G$34
Name Subcontractor_small_business_class: '[2]Subcontractor Lists'!$I$32:$I$52
Name Subcontractors: '[2]Subcontractor Lists'!$C$5:$C$24
Name SubContractorSize: '[6]Subcontractor Lists'!$G$32:$G$33

Sheet Cover Sheet

Sheet Instructions
A2: NASA Agency-wide Supply of Gaseous and Liquid Helium Pricing Template Instructions:
A4: General Instructions:
A6: 1. | B6: The price template instructions listed below are provided to assist the Offeror in completing each worksheet tab. The Offeror will be responsible for submitting a complete and mathematically accurate file submission to the Government.
A9: 2. | B9: The Offeror shall complete Attachment 2 Gaseous and Liquid Helium Price Proposal Template in the native format. The Offeror shall comply with the instructions contained within the pricing template “Instruction” tab. The pricing template Unit Prices shall include all fixed, variable, and incremental costs to refine and prepare product for Government inspection and acceptance.
A13: 3. | B13: The potential Gaseous and Liquid Helium Ordering Periods are Five years, which consists of two base period years and three one-year option periods as follows: Base Period 1: 10/01/25 - 09/30/26; Base Period 2: 10/01/26 - 09/30/27; Option Period 1: 10/01/27-09/30/28; Option Period 2: 10/01/28-09/30/29: and Option Period 3: 10/01/29-09/30/30
A18: 4. | B18: The Excel workbook provided by the Government contains formulas (cells with white background) to accurately summarize the Offeror inputs for evaluation purposes.
A21: 5 | B21: For the complete name and location (city and state) for each delivery location acronymn listed in this template see Section 2.8 of the SF 1449 - Terms and Conditions.
A24: Pricing Template Preparation by Worksheet Tab: (Green font denotes worksheet tab Offeror input is required)
C25: Cover Sheet
C26: Instructions
C27: Helium Price
C28: Delivery Charge
C29: Other Pricing
C30: Total Evaluated Price Summary
A32: Each Offeror shall develop and complete the following worksheet tabs [Helium Price, Delivery Charge and Other Pricing]. Keep all added data within the table so that the summary table will populate all of the proposed information.
A35: 1. | B35: Helium Price
B36: The Offeror shall provide the Helium Unit Product Price to the Government for each contract year [Base Period 1, Base Period 2, and Option Period 1, 2, and 3] for each CLIN proposed in rows highlighted in green. The CLIN is where "X" represents the location. Total Estimated Product Price (white rows) will automatically populate and no Offeror input or modifications are required.
A41: 2. | B41: Delivery Charge
B42: The Offeror shall provide the proposed price for Delivery Charge per truck/tanker/trailer for Brackets 1-10 for each proposed CLIN highlighted in green. The Offeror’s proposed price shall include all fixed, variable, and incremental costs to deliver the product to the location specified. For the purposes of proposal evaluation, the Government will utilize the proposed price for Bracket 5 across all five contract years. The Government is utilizing Bracket 5 for evaluation purposes based on the Government’s analysis of historical retail on-highway diesel fuel prices. The Government will multiply the Best Estimated Delivery Quantity per Year by the proposed price for Bracket 5 ($3.76-$4.25) to arrive at the Total Estimated Annual Delivery Price.
A46: 3. | B46: Other Pricing:
B47: The Offeror shall provide the Helium Unit Product Price to the Government for each contract year [Base Period 1, Base Period 2, and Option Period 1, 2, and 3] for each CLIN proposed in rows highlighted in green. The CLIN is where "X" represents the location. Total Estimated Product Price (white rows) will automatically populate and no Offeror input or modifications are required.
A51: 4. | B51: Total Evaluated Price Summary:
B52: No Offeror input or modifications are required for this tab. This tab summarizes the Offerors proposed unit prices by Location for Base Period 1, Base Period 2 and Option Period 1, 2, and 3. The summarized data that populates the summary table on this tab will be pulled from each of the green highlighted rows from: [Helium Price, Delivery Charge and Other Pricing].

Sheet Helium Price
A1: SOLICITATION 80KSC024R0010
A2: Gaseous and Liquid Helium Price
A4: Offeror
A5: Offerors shall review Instructions Tab in this Price Proposal Template. Columns A- N will be incorporated into Contract Section 2.2 upon award.
A6: CLIN Base = 00X Option 1 = 10X | B6: Delivery Location | C6: Container | D6: Unit of Measure | E6: Base Period 1 Government Provided BEQ (10/01/25 - 09/30/26) CLIN 00X | F6: Base Period 2 Government Provided BEQ (10/01/26 - 09/30/27) CLIN 00X | G6: Option 1 Government Provided BEQ (10/01/27 - 09/30/28) CLIN 10X | H6: Option 2 Government Provided BEQ (10/01/28 - 09/30/29) CLIN 10X | I6: Option 3 Government Provided BEQ (10/01/29 - 09/30/30) CLIN 10X | J6: Base Period 1 Product Unit Price to the Government (10/01/25 - 09/30/26) CLIN 00X | K6: Base Period 2 Product Unit Price to the Government (10/01/26 - 09/30/27) CLIN 00X | L6: Option Period 1 Product Unit Price to the Government (10/01/27 - 09/30/28) CLIN 10X | M6: Option Period 2 Product Unit Price to the Government (10/01/28 - 09/30/29) CLIN 20X | N6: Option Period 3 Product Unit Price to the Government (10/01/29 - 09/30/30) CLIN 30X | O6: Base Period 1 Estimated Total Price to the Government (10/01/25 - 09/30/26) CLIN 00X | P6: Base Period 2 Estimated Total Price to the Government (10/01/26 - 09/30/27) CLIN 00X | Q6: Option Period 1 Estimated Total Price to the Government (10/01/27 - 09/30/28) CLIN 10X | R6: Option Period 2 Estimated Total Price to the Government (10/01/28 - 09/30/29) CLIN 20X | S6: Option Period 3 Estimated Total Price to the Government (10/01/29 - 09/30/30) CLIN 30X | T6: Total Estimated Price to the Government (10/01/25 - 09/30/30)
A7: 1 | B7: CSBF TX | C7: Trailer | D7: Scf | E7: 640000 | F7: 640000 | G7: 640000 | H7: 640000 | I7: 640000 | J7: 0 | K7: 0 | L7: 0 | M7: 0 | N7: 0 | O7: =E7*J7 -> 0 | P7: =F7*K7 -> 0 | Q7: =G7*L7 -> 0 | R7: =H7*M7 -> 0 | S7: =I7*N7 -> 0 | T7: =SUM(O7:S7) -> 0
A8: 2 | B8: CSBF TX | C8: Dewar | D8: Liter | E8: 7500 | F8: 7500 | G8: 7500 | H8: 7500 | I8: 7500 | J8: 0 | K8: 0 | L8: 0 | M8: 0 | N8: 0 | O8: =E8*J8 -> 0 | P8: =F8*K8 -> 0 | Q8: =G8*L8 -> 0 | R8: =H8*M8 -> 0 | S8: =I8*N8 -> 0 | T8: =SUM(O8:S8) -> 0
A9: 3 | B9: CSBF NM | C9: Trailer | D9: Scf | E9: 2400000 | F9: 1920000 | G9: 1280000 | H9: 1280000 | I9: 1280000 | J9: 0 | K9: 0 | L9: 0 | M9: 0 | N9: 0 | O9: =E9*J9 -> 0 | P9: =F9*K9 -> 0 | Q9: =G9*L9 -> 0 | R9: =H9*M9 -> 0 | S9: =I9*N9 -> 0 | T9: =SUM(O9:S9) -> 0
A10: 4 | B10: CSBF NM | C10: Dewar | D10: Liter | E10: 12000 | F10: 12000 | G10: 12000 | H10: 12000 | I10: 12000 | J10: 0 | K10: 0 | L10: 0 | M10: 0 | N10: 0 | O10: =E10*J10 -> 0 | P10: =F10*K10 -> 0 | Q10: =G10*L10 -> 0 | R10: =H10*M10 -> 0 | S10: =I10*N10 -> 0 | T10: =SUM(O10:S10) -> 0
A11: 5 | B11: CSBF CA | C11: ISO | D11: Scf | E11: 960000 | F11: 960000 | G11: 960000 | H11: 960000 | I11: 960000 | J11: 0 | K11: 0 | L11: 0 | M11: 0 | N11: 0 | O11: =E11*J11 -> 0 | P11: =F11*K11 -> 0 | Q11: =G11*L11 -> 0 | R11: =H11*M11 -> 0 | S11: =I11*N11 -> 0 | T11: =SUM(O11:S11) -> 0
A12: 6 | B12: CSBF OR | C12: Trailer | D12: scf | E12: 160000 | F12: 480000 | G12: 1120000 | H12: 1120000 | I12: 1120000 | J12: 0 | K12: 0 | L12: 0 | M12: 0 | N12: 0 | O12: =E12*J12 -> 0 | P12: =F12*K12 -> 0 | Q12: =G12*L12 -> 0 | R12: =H12*M12 -> 0 | S12: =I12*N12 -> 0 | T12: =SUM(O12:S12) -> 0
A13: 7 | B13: CSBF OR | C13: Dewar | D13: Liter | E13: 0 | F13: 0 | G13: 3000 | H13: 3000 | I13: 6000 | J13: 0 | K13: 0 | L13: 0 | M13: 0 | N13: 0 | O13: =E13*J13 -> 0 | P13: =F13*K13 -> 0 | Q13: =G13*L13 -> 0 | R13: =H13*M13 -> 0 | S13: =I13*N13 -> 0 | T13: =SUM(O13:S13) -> 0
A14: 8 | B14: CCSFS (SLC-41) | C14: Tanker | D14: Liter | E14: 440000 | F14: 440000 | G14: 440000 | H14: 440000 | I14: 440000 | J14: 0 | K14: 0 | L14: 0 | M14: 0 | N14: 0 | O14: =E14*J14 -> 0 | P14: =F14*K14 -> 0 | Q14: =G14*L14 -> 0 | R14: =H14*M14 -> 0 | S14: =I14*N14 -> 0 | T14: =SUM(O14:S14) -> 0
A15: 9 | B15: GRC-LF | C15: Trailer | D15: Scf | E15: 490000 | F15: 490000 | G15: 490000 | H15: 490000 | I15: 490000 | J15: 0 | K15: 0 | L15: 0 | M15: 0 | N15: 0 | O15: =E15*J15 -> 0 | P15: =F15*K15 -> 0 | Q15: =G15*L15 -> 0 | R15: =H15*M15 -> 0 | S15: =I15*N15 -> 0 | T15: =SUM(O15:S15) -> 0
A16: 10 | B16: GRC-ATF | C16: Trailer | D16: Scf | E16: 440000 | F16: 770000 | G16: 440000 | H16: 440000 | I16: 440000 | J16: 0 | K16: 0 | L16: 0 | M16: 0 | N16: 0 | O16: =E16*J16 -> 0 | P16: =F16*K16 -> 0 | Q16: =G16*L16 -> 0 | R16: =H16*M16 -> 0 | S16: =I16*N16 -> 0 | T16: =SUM(O16:S16) -> 0
A17: 11 | B17: GSFC | C17: Dewar | D17: Liter | E17: 7000 | F17: 7000 | G17: 7000 | H17: 7000 | I17: 7000 | J17: 0 | K17: 0 | L17: 0 | M17: 0 | N17: 0 | O17: =E17*J17 -> 0 | P17: =F17*K17 -> 0 | Q17: =G17*L17 -> 0 | R17: =H17*M17 -> 0 | S17: =I17*N17 -> 0 | T17: =SUM(O17:S17) -> 0
A18: 12 | B18: JPL | C18: Trailer | D18: Scf | E18: 0 | F18: 0 | G18: 40000 | H18: 0 | I18: 0 | J18: 0 | K18: 0 | L18: 0 | M18: 0 | N18: 0 | O18: =E18*J18 -> 0 | P18: =F18*K18 -> 0 | Q18: =G18*L18 -> 0 | R18: =H18*M18 -> 0 | S18: =I18*N18 -> 0 | T18: =SUM(O18:S18) -> 0
... A28: 22 | B28: WSTF | C28: Trailer | D28: Scf | E28: 1140000 | F28: 1140000 | G28: 1140000 | H28: 1140000 | I28: 1140000 | J28: 0 | K28: 0 | L28: 0 | M28: 0 | N28: 0 | O28: =E28*J28 -> 0 | P28: =F28*K28 -> 0 | Q28: =G28*L28 -> 0 | R28: =H28*M28 -> 0 | S28: =I28*N28 -> 0 | T28: =SUM(O28:S28) -> 0

Sheet Delivery Charge 
A1: SOLICITATION 80KSC024R0010
A2: Gaseous and Liquid Helium Delivery Charge
I3: Prices proposed in Bracket 5 ($3.76-$4.25) will be utilized for evaluation purposes
A4: Offeror | B4: ='Helium Price'!B4 -> 0 | I4: Delivery Charge by Diesel Fuel Threshold
A5: Offerors shall review Instructions Tab in this Price Proposal Template. The Columns A- R will be incorporated into Contract Delivery Charges Contract Section 2.3 - Delivery Charge upon award. | I5: 1 | J5: 2 | K5: 3 | L5: 4 | M5: 5 | N5: 6 | O5: 7 | P5: 8 | Q5: 9 | R5: 10
A6: CLIN Base = 00X Option 1 = 10X | B6: Delivery Location | C6: Unit of Measure | D6: Base Period 1 Government Provided BEQ (10/01/25 - 09/30/26) CLIN 00X | E6: Base Period 2 Government Provided BEQ (10/01/26 - 09/30/27) CLIN 00X | F6: Option Period 1 Government Provided BEQ (10/01/27 - 09/30/28) CLIN 10X | G6: Option Period 2 Government Provided BEQ (10/01/28 - 09/30/29) CLIN 20X | H6: Option Period 3 Government Provided BEQ (10/01/29 - 09/30/30) CLIN 30X | I6: $0.00-$2.25 | J6: $2.26-$2.75 | K6: $2.76-$3.25 | L6: $3.26-$3.75 | M6: $3.76-$4.25 | N6: $4.26-$4.75 | O6: $4.76-$5.25 | P6: $5.26-$5.75 | Q6: $5.76-$6.25 | R6: $6.26-$6.75 | S6: Base Period 1 Estimated Total Price to the Government (10/01/25 - 09/30/26) CLIN 00X | T6: Base Period 2 Estimated Total Price to the Government (10/01/26 - 09/30/27) CLIN 00X | U6: Option Period 1 Estimated Total Price to the Government (10/01/27 - 09/30/28) CLIN 10X | V6: Option Period 2 Estimated Total Price to the Government (10/01/28 - 09/30/29) CLIN 20X | W6: Option Period 3 Estimated Total Price to the Government (10/01/29 - 09/30/30) CLIN 20X | X6: Total Estimated Price to the Government (10/01/25 - 09/30/30)
A7: 1 | B7: CSBF TX | C7: Trailer | D7: 4 | E7: 4 | F7: 4 | G7: 4 | H7: 4 | I7: 0 | J7: 0 | K7: 0 | L7: 0 | M7: 0 | N7: 0 | O7: 0 | P7: 0 | Q7: 0 | R7: 0 | S7: =D7*M7 -> 0 | T7: =E7*M7 -> 0 | U7: =F7*M7 -> 0 | V7: =G7*M7 -> 0 | W7: =H7*M7 -> 0 | X7: =SUM(S7:W7) -> 0
A8: 2 | B8: CSBF TX | C8: Dewar | D8: 3 | E8: 3 | F8: 3 | G8: 3 | H8: 3 | I8: 0 | J8: 0 | K8: 0 | L8: 0 | M8: 0 | N8: 0 | O8: 0 | P8: 0 | Q8: 0 | R8: 0 | S8: =D8*M8 -> 0 | T8: =E8*M8 -> 0 | U8: =F8*M8 -> 0 | V8: =G8*M8 -> 0 | W8: =H8*M8 -> 0 | X8: =SUM(S8:W8) -> 0
A9: 3 | B9: CSBF NM | C9: Trailer | D9: 15 | E9: 12 | F9: 8 | G9: 8 | H9: 8 | I9: 0 | J9: 0 | K9: 0 | L9: 0 | M9: 0 | N9: 0 | O9: 0 | P9: 0 | Q9: 0 | R9: 0 | S9: =D9*M9 -> 0 | T9: =E9*M9 -> 0 | U9: =F9*M9 -> 0 | V9: =G9*M9 -> 0 | W9: =H9*M9 -> 0 | X9: =SUM(S9:W9) -> 0
A10: 4 | B10: CSBF NM | C10: Dewar | D10: 3 | E10: 3 | F10: 3 | G10: 3 | H10: 3 | I10: 0 | J10: 0 | K10: 0 | L10: 0 | M10: 0 | N10: 0 | O10: 0 | P10: 0 | Q10: 0 | R10: 0 | S10: =D10*M10 -> 0 | T10: =E10*M10 -> 0 | U10: =F10*M10 -> 0 | V10: =G10*M10 -> 0 | W10: =H10*M10 -> 0 | X10: =SUM(S10:W10) -> 0
A11: 5 | B11: CSBF CA | C11: ISO | D11: 6 | E11: 6 | F11: 6 | G11: 6 | H11: 6 | I11: 0 | J11: 0 | K11: 0 | L11: 0 | M11: 0 | N11: 0 | O11: 0 | P11: 0 | Q11: 0 | R11: 0 | S11: =D11*M11 -> 0 | T11: =E11*M11 -> 0 | U11: =F11*M11 -> 0 | V11: =G11*M11 -> 0 | W11: =H11*M11 -> 0 | X11: =SUM(S11:W11) -> 0
A12: 6 | B12: CSBF OR | C12: Trailer | D12: 1 | E12: 3 | F12: 7 | G12: 7 | H12: 7 | I12: 0 | J12: 0 | K12: 0 | L12: 0 | M12: 0 | N12: 0 | O12: 0 | P12: 0 | Q12: 0 | R12: 0 | S12: =D12*M12 -> 0 | T12: =E12*M12 -> 0 | U12: =F12*M12 -> 0 | V12: =G12*M12 -> 0 | W12: =H12*M12 -> 0 | X12: =SUM(S12:W12) -> 0
A13: 7 | B13: CSBF OR | C13: Dewar | D13: 0 | E13: 0 | F13: 2 | G13: 2 | H13: 3 | I13: 0 | J13: 0 | K13: 0 | L13: 0 | M13: 0 | N13: 0 | O13: 0 | P13: 0 | Q13: 0 | R13: 0 | S13: =D13*M13 -> 0 | T13: =E13*M13 -> 0 | U13: =F13*M13 -> 0 | V13: =G13*M13 -> 0 | W13: =H13*M13 -> 0 | X13: =SUM(S13:W13) -> 0
A14: 8 | B14: CCSFS (SLC-41) | C14: Tanker | D14: 11 | E14: 11 | F14: 11 | G14: 11 | H14: 11 | I14: 0 | J14: 0 | K14: 0 | L14: 0 | M14: 0 | N14: 0 | O14: 0 | P14: 0 | Q14: 0 | R14: 0 | S14: =D14*M14 -> 0 | T14: =E14*M14 -> 0 | U14: =F14*M14 -> 0 | V14: =G14*M14 -> 0 | W14: =H14*M14 -> 0 | X14: =SUM(S14:W14) -> 0
A15: 9 | B15: GRC-LF | C15: Trailer | D15: 1 | E15: 1 | F15: 1 | G15: 1 | H15: 1 | I15: 0 | J15: 0 | K15: 0 | L15: 0 | M15: 0 | N15: 0 | O15: 0 | P15: 0 | Q15: 0 | R15: 0 | S15: =D15*M15 -> 0 | T15: =E15*M15 -> 0 | U15: =F15*M15 -> 0 | V15: =G15*M15 -> 0 | W15: =H15*M15 -> 0 | X15: =SUM(S15:W15) -> 0
A16: 10 | B16: GRC-ATF | C16: Trailer | D16: 2 | E16: 4 | F16: 2 | G16: 2 | H16: 2 | I16: 0 | J16: 0 | K16: 0 | L16: 0 | M16: 0 | N16: 0 | O16: 0 | P16: 0 | Q16: 0 | R16: 0 | S16: =D16*M16 -> 0 | T16: =E16*M16 -> 0 | U16: =F16*M16 -> 0 | V16: =G16*M16 -> 0 | W16: =H16*M16 -> 0 | X16: =SUM(S16:W16) -> 0
A17: 11 | B17: GSFC | C17: Dewar | D17: 25 | E17: 25 | F17: 25 | G17: 25 | H17: 25 | I17: 0 | J17: 0 | K17: 0 | L17: 0 | M17: 0 | N17: 0 | O17: 0 | P17: 0 | Q17: 0 | R17: 0 | S17: =D17*M17 -> 0 | T17: =E17*M17 -> 0 | U17: =F17*M17 -> 0 | V17: =G17*M17 -> 0 | W17: =H17*M17 -> 0 | X17: =SUM(S17:W17) -> 0
A18: 12 | B18: JPL | C18: Trailer | D18: 0 | E18: 0 | F18: 1 | G18: 0 | H18: 0 | I18: 0 | J18: 0 | K18: 0 | L18: 0 | M18: 0 | N18: 0 | O18: 0 | P18: 0 | Q18: 0 | R18: 0 | S18: =D18*M18 -> 0 | T18: =E18*M18 -> 0 | U18: =F18*M18 -> 0 | V18: =G18*M18 -> 0 | W18: =H18*M18 -> 0 | X18: =SUM(S18:W18) -> 0
... A28: 22 | B28: WSTF | C28: Trailer | D28: 13 | E28: 13 | F28: 13 | G28: 13 | H28: 13 | I28: 0 | J28: 0 | K28: 0 | L28: 0 | M28: 0 | N28: 0 | O28: 0 | P28: 0 | Q28: 0 | R28: 0 | S28: =D28*M28 -> 0 | T28: =E28*M28 -> 0 | U28: =F28*M28 -> 0 | V28: =G28*M28 -> 0 | W28: =H28*M28 -> 0 | X28: =SUM(S28:W28) -> 0

Sheet Other Pricing 
A1: SOLICITATION 80KSC024R00010
A2: Other Pricing
A4: Offeror | B4: ='Helium Price'!B4 -> 0
A5: Offerors shall reveiw the Instructions Tab in this Price Proposal Template. Columns A-E and Columns F-J will be incorporated into Contract Section 4 upon award.
A6: CLIN Base = 00X Option 1 = 10X | B6: Delivery Location | C6: Description | D6: Unit of Measure | E6: Government Provided BEQ Each Period | F6: Base Period 1 Government Provided BEQ (10/01/25 - 09/30/26) CLIN 00X | G6: Base Period 2 Government Provided BEQ (10/01/26 - 09/30/27) CLIN 00X | H6: Option Period 1 Government Provided BEQ (10/01/27 - 09/30/28) CLIN 10X | I6: Option Period 2 Government Provided BEQ (10/01/28 - 09/30/29) CLIN 20X | J6: Option Period 3 Government Provided BEQ (10/01/29 - 09/30/30) CLIN 20X | K6: Base Period 1 Estimated Total Price to the Government (10/01/25 - 09/30/26) CLIN 00X | L6: Base Period 2 Estimated Total Price to the Government (10/01/26 - 09/30/27) CLIN 00X | M6: Option Period 1 Estimated Total Price to the Government (10/01/27 - 09/30/28) CLIN 10X | N6: Option Period 2 Estimated Total Price to the Government (10/01/28 - 09/30/29) CLIN 20X | O6: Option Period 3 Estimated Total Price to the Government (10/01/29 - 09/30/30) CLIN 30X | P6: Estimated Total Price to the Government (10/01/29 - 09/30/30)
A7: 1 | B7: CSBF TX | C7: Jumbo (160+ msfc) Trailer Rental | D7: Price Per day | E7: 28 | F7: 0 | G7: 0 | H7: 0 | I7: 0 | J7: 0 | K7: =F7*E7 -> 0 | L7: =G7*E7 -> 0 | M7: =H7*E7 -> 0 | N7: =I7*E7 -> 0 | O7: =J7*E7 -> 0 | P7: =SUM(K7:O7) -> 0
A8: 1 | B8: CSBF TX | C8: Inability to Accept Delivery | D8: Price Per Mile | E8: =1*650 -> 650 | F8: 0 | G8: 0 | H8: 0 | I8: 0 | J8: 0 | K8: =F8*E8 -> 0 | L8: =G8*E8 -> 0 | M8: =H8*E8 -> 0 | N8: =I8*E8 -> 0 | O8: =J8*E8 -> 0 | P8: =SUM(K8:O8) -> 0
A9: 1 | B9: CSBF TX | C9: One Way Mileage | D9: Price Per Mile | E9: 1300 | F9: 0 | G9: 0 | H9: 0 | I9: 0 | J9: 0 | K9: =F9*E9 -> 0 | L9: =G9*E9 -> 0 | M9: =H9*E9 -> 0 | N9: =I9*E9 -> 0 | O9: =J9*E9 -> 0 | P9: =SUM(K9:O9) -> 0
A10: 1 | B10: CSBF TX | C10: Emergency Delivery | D10: Price Per Occurrence | E10: 1 | F10: 0 | G10: 0 | H10: 0 | I10: 0 | J10: 0 | K10: =F10*E10 -> 0 | L10: =G10*E10 -> 0 | M10: =H10*E10 -> 0 | N10: =I10*E10 -> 0 | O10: =J10*E10 -> 0 | P10: =SUM(K10:O10) -> 0
A11: 1 | B11: CSBF TX | C11: Trailer Purge | D11: Price Per Occurrence | E11: 1 | F11: 0 | G11: 0 | H11: 0 | I11: 0 | J11: 0 | K11: =F11*E11 -> 0 | L11: =G11*E11 -> 0 | M11: =H11*E11 -> 0 | N11: =I11*E11 -> 0 | O11: =J11*E11 -> 0 | P11: =SUM(K11:O11) -> 0
A12: 1 | B12: CSBF TX | C12: Demurrage | D12: Price Per Hr | E12: 4 | F12: 0 | G12: 0 | H12: 0 | I12: 0 | J12: 0 | K12: =F12*E12 -> 0 | L12: =G12*E12 -> 0 | M12: =H12*E12 -> 0 | N12: =I12*E12 -> 0 | O12: =J12*E12 -> 0 | P12: =SUM(K12:O12) -> 0
I13: Total CSBF TX | K13: =SUM(K7:K12) -> 0 | L13: =SUM(L7:L12) -> 0 | M13: =SUM(M7:M12) -> 0 | N13: =SUM(N7:N12) -> 0 | O13: =SUM(O7:O12) -> 0 | P13: =SUM(P7:P12) -> 0
A14: 2 | B14: CSBF TX | C14: 500 Liter Dewar Rental | D14: Price Per day | E14: =7*15 -> 105 | F14: 0 | G14: 0 | H14: 0 | I14: 0 | J14: 0 | K14: =F14*E14 -> 0 | L14: =G14*E14 -> 0 | M14: =H14*E14 -> 0 | N14: =I14*E14 -> 0 | O14: =J14*E14 -> 0 | P14: =SUM(K14:O14) -> 0
A15: 2 | B15: CSBF TX | C15: Inability to Accept Delivery | D15: Price Per Mile | E15: 650 | F15: 0 | G15: 0 | H15: 0 | I15: 0 | J15: 0 | K15: =F15*E15 -> 0 | L15: =G15*E15 -> 0 | M15: =H15*E15 -> 0 | N15: =I15*E15 -> 0 | O15: =J15*E15 -> 0 | P15: =SUM(K15:O15) -> 0
A16: 2 | B16: CSBF TX | C16: One Way Mileage | D16: Price Per Mile | E16: =1*650 -> 650 | F16: 0 | G16: 0 | H16: 0 | I16: 0 | J16: 0 | K16: =F16*E16 -> 0 | L16: =G16*E16 -> 0 | M16: =H16*E16 -> 0 | N16: =I16*E16 -> 0 | O16: =J16*E16 -> 0 | P16: =SUM(K16:O16) -> 0
A17: 2 | B17: CSBF TX | C17: Emergency Delivery | D17: Price Per Occurrence | E17: 1 | F17: 0 | G17: 0 | H17: 0 | I17: 0 | J17: 0 | K17: =F17*E17 -> 0 | L17: =G17*E17 -> 0 | M17: =H17*E17 -> 0 | N17: =I17*E17 -> 0 | O17: =J17*E17 -> 0 | P17: =SUM(K17:O17) -> 0
A18: 2 | B18: CSBF TX | C18: 500 Liter Dewar Cool Down | D18: Price Per Occurrence | E18: 3 | F18: 0 | G18: 0 | H18: 0 | I18: 0 | J18: 0 | K18: =F18*E18 -> 0 | L18: =G18*E18 -> 0 | M18: =H18*E18 -> 0 | N18: =I18*E18 -> 0 | O18: =J18*E18 -> 0 | P18: =SUM(K18:O18) -> 0
A19: 2 | B19: CSBF TX | C19: Demurrage | D19: Price Per Hr | E19: 3 | F19: 0 | G19: 0 | H19: 0 | I19: 0 | J19: 0 | K19: =F19*E19 -> 0 | L19: =G19*E19 -> 0 | M19: =H19*E19 -> 0 | N19: =I19*E19 -> 0 | O19: =J19*E19 -> 0 | P19: =SUM(K19:O19) -> 0
I20: Total CSBF TX | K20: =SUM(K14:K19) -> 0 | L20: =SUM(L14:L19) -> 0 | M20: =SUM(M14:M19) -> 0 | N20: =SUM(N14:N19) -> 0 | O20: =SUM(O14:O19) -> 0 | P20: =SUM(P14:P19) -> 0
A21: 3 | B21: CSBF NM | C21: Jumbo (160+msfc) Trailer Rental | D21: Price Per day | E21: =7*10 -> 70 | F21: 0 | G21: 0 | H21: 0 | I21: 0 | J21: 0 | K21: =F21*E21 -> 0 | L21: =G21*E21 -> 0 | M21: =H21*E21 -> 0 | N21: =I21*E21 -> 0 | O21: =J21*E21 -> 0 | P21: =SUM(K21:O21) -> 0
A22: 3 | B22: CSBF NM | C22: Inability to Accept Delivery | D22: Price Per Mile | E22: 1450 | F22: 0 | G22: 0 | H22: 0 | I22: 0 | J22: 0 | K22: =F22*E22 -> 0 | L22: =G22*E22 -> 0 | M22: =H22*E22 -> 0 | N22: =I22*E22 -> 0 | O22: =J22*E22 -> 0 | P22: =SUM(K22:O22) -> 0
A23: 3 | B23: CSBF NM | C23: One Way Mileage | D23: Price Per Mile | E23: 1450 | F23: 0 | G23: 0 | H23: 0 | I23: 0 | J23: 0 | K23: =F23*E23 -> 0 | L23: =G23*E23 -> 0 | M23: =H23*E23 -> 0 | N23: =I23*E23 -> 0 | O23: =J23*E23 -> 0 | P23: =SUM(K23:O23) -> 0
A24: 3 | B24: CSBF NM | C24: Emergency Delivery | D24: Price Per Occurrence | E24: 1 | F24: 0 | G24: 0 | H24: 0 | I24: 0 | J24: 0 | K24: =F24*E24 -> 0 | L24: =G24*E24 -> 0 | M24: =H24*E24 -> 0 | N24: =I24*E24 -> 0 | O24: =J24*E24 -> 0 | P24: =SUM(K24:O24) -> 0
A25: 3 | B25: CSBF NM | C25: Trailer Purge | D25: Price Per Occurrence | E25: 3 | F25: 0 | G25: 0 | H25: 0 | I25: 0 | J25: 0 | K25: =F25*E25 -> 0 | L25: =G25*E25 -> 0 | M25: =H25*E25 -> 0 | N25: =I25*E25 -> 0 | O25: =J25*E25 -> 0 | P25: =SUM(K25:O25) -> 0
A26: 3 | B26: CSBF NM | C26: Demurrage | D26: Price Per Hr | E26: 10 | F26: 0 | G26: 0 | H26: 0 | I26: 0 | J26: 0 | K26: =F26*E26 -> 0 | L26: =G26*E26 -> 0 | M26: =H26*E26 -> 0 | N26: =I26*E26 -> 0 | O26: =J26*E26 -> 0 | P26: =SUM(K26:O26) -> 0
I27: Total CSBF NM | K27: =SUM(K21:K26) -> 0 | L27: =SUM(L21:L26) -> 0 | M27: =SUM(M21:M26) -> 0 | N27: =SUM(N21:N26) -> 0 | O27: =SUM(O21:O26) -> 0 | P27: =SUM(P21:P26) -> 0
A28: 4 | B28: CSBF NM | C28: 500 Liter Dewar Rental | D28: Price Per day | E28: =7*24 -> 168 | F28: 0 | G28: 0 | H28: 0 | I28: 0 | J28: 0 | K28: =F28*E28 -> 0 | L28: =G28*E28 -> 0 | M28: =H28*E28 -> 0 | N28: =I28*E28 -> 0 | O28: =J28*E28 -> 0 | P28: =SUM(K28:O28) -> 0
A29: 4 | B29: CSBF NM | C29: Inability to Accept Delivery | D29: Price Per Mile | E29: 725 | F29: 0 | G29: 0 | H29: 0 | I29: 0 | J29: 0 | K29: =F29*E29 -> 0 | L29: =G29*E29 -> 0 | M29: =H29*E29 -> 0 | N29: =I29*E29 -> 0 | O29: =J29*E29 -> 0 | P29: =SUM(K29:O29) -> 0
A30: 4 | B30: CSBF NM | C30: One Way Mileage | D30: Price Per Mile | E30: =2*362.5 -> 725 | F30: 0 | G30: 0 | H30: 0 | I30: 0 | J30: 0 | K30: =F30*E30 -> 0 | L30: =G30*E30 -> 0 | M30: =H30*E30 -> 0 | N30: =I30*E30 -> 0 | O30: =J30*E30 -> 0 | P30: =SUM(K30:O30) -> 0
A31: 4 | B31: CSBF NM | C31: Emergency Delivery | D31: Price Per Occurrence | E31: 1 | F31: 0 | G31: 0 | H31: 0 | I31: 0 | J31: 0 | K31: =F31*E31 -> 0 | L31: =G31*E31 -> 0 | M31: =H31*E31 -> 0 | N31: =I31*E31 -> 0 | O31: =J31*E31 -> 0 | P31: =SUM(K31:O31) -> 0
A32: 4 | B32: CSBF NM | C32: 160/500 Liter Dewar Cool Down | D32: Price Per Occurrence | E32: 5 | F32: 0 | G32: 0 | H32: 0 | I32: 0 | J32: 0 | K32: =F32*E32 -> 0 | L32: =G32*E32 -> 0 | M32: =H32*E32 -> 0 | N32: =I32*E32 -> 0 | O32: =J32*E32 -> 0 | P32: =SUM(K32:O32) -> 0
A33: 4 | B33: CSBF NM | C33: Demurrage | D33: Price Per Hr | E33: 3 | F33: 0 | G33: 0 | H33: 0 | I33: 0 | J33: 0 | K33: =F33*E33 -> 0 | L33: =G33*E33 -> 0 | M33: =H33*E33 -> 0 | N33: =I33*E33 -> 0 | O33: =J33*E33 -> 0 | P33: =SUM(K33:O33) -> 0
J34: Total CSBF NM | K34: =SUM(K28:K33) -> 0 | L34: =SUM(L28:L33) -> 0 | M34: =SUM(M28:M33) -> 0 | N34: =SUM(N28:N33) -> 0 | O34: =SUM(O28:O33) -> 0 | P34: =SUM(P28:P33) -> 0
A35: 5 | B35: CSBF CA | C35: ISO Container Rental | D35: Price Per day | E35: 4380 | F35: 0 | G35: 0 | H35: 0 | I35: 0 | J35: 0 | K35: =F35*E35 -> 0 | L35: =G35*E35 -> 0 | M35: =H35*E35 -> 0 | N35: =I35*E35 -> 0 | O35: =J35*E35 -> 0 | P35: =SUM(K35:O35) -> 0
A36: 5 | B36: CSBF CA | C36: ISO Trailer Rental | D36: Price Per day | E36: =6*7 -> 42 | F36: 0 | G36: 0 | H36: 0 | I36: 0 | J36: 0 | K36: =F36*E36 -> 0 | L36: =G36*E36 -> 0 | M36: =H36*E36 -> 0 | N36: =I36*E36 -> 0 | O36: =J36*E36 -> 0 | P36: =SUM(K36:O36) -> 0
A37: 5 | B37: CSBF CA | C37: ISO Purge | D37: Price Per Occurrence | E37: 1 | F37: 0 | G37: 0 | H37: 0 | I37: 0 | J37: 0 | K37: =F37*E37 -> 0 | L37: =G37*E37 -> 0 | M37: =H37*E37 -> 0 | N37: =I37*E37 -> 0 | O37: =J37*E37 -> 0 | P37: =SUM(K37:O37) -> 0
A38: 5 | B38: CSBF CA | C38: Inability to Accept Delivery | D38: Price Per Mile | E38: 1200 | F38: 0 | G38: 0 | H38: 0 | I38: 0 | J38: 0 | K38: =F38*E38 -> 0 | L38: =G38*E38 -> 0 | M38: =H38*E38 -> 0 | N38: =I38*E38 -> 0 | O38: =J38*E38 -> 0 | P38: =SUM(K38:O38) -> 0
A39: 5 | B39: CSBF CA | C39: One Way Mileage | D39: Price Per Mile | E39: 1200 | F39: 0 | G39: 0 | H39: 0 | I39: 0 | J39: 0 | K39: =F39*E39 -> 0 | L39: =G39*E39 -> 0 | M39: =H39*E39 -> 0 | N39: =I39*E39 -> 0 | O39: =J39*E39 -> 0 | P39: =SUM(K39:O39) -> 0
A40: 5 | B40: CSBF CA | C40: Tube removal/replace | D40: Price Per Tube | E40: 6 | F40: 0 | G40: 0 | H40: 0 | I40: 0 | J40: 0 | K40: =F40*E40 -> 0 | L40: =G40*E40 -> 0 | M40: =H40*E40 -> 0 | N40: =I40*E40 -> 0 | O40: =J40*E40 -> 0 | P40: =SUM(K40:O40) -> 0
A41: 5 | B41: CSBF CA | C41: ISO Module Mobilization | D41: Price Per event | E41: 1 | F41: 0 | G41: 0 | H41: 0 | I41: 0 | J41: 0 | K41: =F41*E41 -> 0 | L41: =G41*E41 -> 0 | M41: =H41*E41 -> 0 | N41: =I41*E41 -> 0 | O41: =J41*E41 -> 0 | P41: =SUM(K41:O41) -> 0
A42: 5 | B42: CSBF CA | C42: Demurrage | D42: Price Per Hr | E42: 6 | F42: 0 | G42: 0 | H42: 0 | I42: 0 | J42: 0 | K42: =F42*E42 -> 0 | L42: =G42*E42 -> 0 | M42: =H42*E42 -> 0 | N42: =I42*E42 -> 0 | O42: =J42*E42 -> 0 | P42: =SUM(K42:O42) -> 0
J43: Total CSBF CA | K43: =SUM(K37:K42) -> 0 | L43: =SUM(L37:L42) -> 0 | M43: =SUM(M37:M42) -> 0 | N43: =SUM(N37:N42) -> 0 | O43: =SUM(O37:O42) -> 0 | P43: =SUM(P35:P42) -> 0
A44: 6 | B44: CSBF OR | C44: Jumbo (160+msfc) Trailer Rental | D44: Price Per day | E44: =7*5 -> 35 | F44: 0 | G44: 0 | H44: 0 | I44: 0 | J44: 0 | K44: =F44*E44 -> 0 | L44: =G44*E44 -> 0 | M44: =H44*E44 -> 0 | N44: =I44*E44 -> 0 | O44: =J44*E44 -> 0 | P44: =SUM(K44:O44) -> 0
A45: 6 | B45: CSBF OR | C45: Inability to Accept Delivery | D45: Price Per Mile | E45: =1*2*200 -> 400 | F45: 0 | G45: 0 | H45: 0 | I45: 0 | J45: 0 | K45: =F45*E45 -> 0 | L45: =G45*E45 -> 0 | M45: =H45*E45 -> 0 | N45: =I45*E45 -> 0 | O45: =J45*E45 -> 0 | P45: =SUM(K45:O45) -> 0
A46: 6 | B46: CSBF OR | C46: One Way mileage | D46: Price Per Mile | E46: =4*200 -> 800 | F46: 0 | G46: 0 | H46: 0 | I46: 0 | J46: 0 | K46: =F46*E46 -> 0 | L46: =G46*E46 -> 0 | M46: =H46*E46 -> 0 | N46: =I46*E46 -> 0 | O46: =J46*E46 -> 0 | P46: =SUM(K46:O46) -> 0
A47: 6 | B47: CSBF OR | C47: Emergency Delivery | D47: Price Per Occurrence | E47: 1 | F47: 0 | G47: 0 | H47: 0 | I47: 0 | J47: 0 | K47: =F47*E47 -> 0 | L47: =G47*E47 -> 0 | M47: =H47*E47 -> 0 | N47: =I47*E47 -> 0 | O47: =J47*E47 -> 0 | P47: =SUM(K47:O47) -> 0
A48: 6 | B48: CSBF OR | C48: Trailer Purge | D48: Price Per Occurrence | E48: 1 | F48: 0 | G48: 0 | H48: 0 | I48: 0 | J48: 0 | K48: =F48*E48 -> 0 | L48: =G48*E48 -> 0 | M48: =H48*E48 -> 0 | N48: =I48*E48 -> 0 | O48: =J48*E48 -> 0 | P48: =SUM(K48:O48) -> 0
A49: 6 | B49: CSBF OR | C49: Demurrage | D49: Price Per Hr | E49: 5 | F49: 0 | G49: 0 | H49: 0 | I49: 0 | J49: 0 | K49: =F49*E49 -> 0 | L49: =G49*E49 -> 0 | M49: =H49*E49 -> 0 | N49: =I49*E49 -> 0 | O49: =J49*E49 -> 0 | P49: =SUM(K49:O49) -> 0
J50: Total CSBF OR | K50: =SUM(K44:K49) -> 0 | L50: =SUM(L44:L49) -> 0 | M50: =SUM(M44:M49) -> 0 | N50: =SUM(N44:N49) -> 0 | O50: =SUM(O44:O49) -> 0 | P50: =SUM(P44:P49) -> 0
A51: 7 | B51: CSBF OR | C51: 500 Liter Dewar Rental | D51: Price Per day | E51: =7*5 -> 35 | F51: 0 | G51: 0 | H51: 0 | I51: 0 | J51: 0 | K51: =F51*E51 -> 0 | L51: =G51*E51 -> 0 | M51: =H51*E51 -> 0 | N51: =I51*E51 -> 0 | O51: =J51*E51 -> 0 | P51: =SUM(K51:O51) -> 0
A52: 7 | B52: CSBF OR | C52: Inability to Accept Delivery | D52: Price Per Mile | E52: =2*200 -> 400 | F52: 0 | G52: 0 | H52: 0 | I52: 0 | J52: 0 | K52: =F52*E52 -> 0 | L52: =G52*E52 -> 0 | M52: =H52*E52 -> 0 | N52: =I52*E52 -> 0 | O52: =J52*E52 -> 0 | P52: =SUM(K52:O52) -> 0
A53: 7 | B53: CSBF OR | C53: One Way Mileage | D53: Price Per Mile | E53: =2*200 -> 400 | F53: 0 | G53: 0 | H53: 0 | I53: 0 | J53: 0 | K53: =F53*E53 -> 0 | L53: =G53*E53 -> 0 | M53: =H53*E53 -> 0 | N53: =I53*E53 -> 0 | O53: =J53*E53 -> 0 | P53: =SUM(K53:O53) -> 0
A54: 7 | B54: CSBF OR | C54: Emergency Delivery | D54: Price Per Occurrence | E54: 1 | F54: 0 | G54: 0 | H54: 0 | I54: 0 | J54: 0 | K54: =F54*E54 -> 0 | L54: =G54*E54 -> 0 | M54: =H54*E54 -> 0 | N54: =I54*E54 -> 0 | O54: =J54*E54 -> 0 | P54: =SUM(K54:O54) -> 0
A55: 7 | B55: CSBF OR | C55: 500 Liter Dewar Cool Down | D55: Price Per Occurrence | E55: 1 | F55: 0 | G55: 0 | H55: 0 | I55: 0 | J55: 0 | K55: =F55*E55 -> 0 | L55: =G55*E55 -> 0 | M55: =H55*E55 -> 0 | N55: =I55*E55 -> 0 | O55: =J55*E55 -> 0 | P55: =SUM(K55:O55) -> 0
A56: 7 | B56: CSBF OR | C56: Demurrage | D56: Price Per Hr | E56: 2 | F56: 0 | G56: 0 | H56: 0 | I56: 0 | J56: 0 | K56: =F56*E56 -> 0 | L56: =G56*E56 -> 0 | M56: =H56*E56 -> 0 | N56: =I56*E56 -> 0 | O56: =J56*E56 -> 0 | P56: =SUM(K56:O56) -> 0
J57: Total CSBF OR | K57: =SUM(K51:K56) -> 0 | L57: =SUM(L51:L56) -> 0 | M57: =SUM(M51:M56) -> 0 | N57: =SUM(N51:N56) -> 0 | O57: =SUM(O51:O56) -> 0 | P57: =SUM(P51:P56) -> 0
A58: 8 | B58: CCSFS (SLC-41) | C58: Driver Delay/Demurrage | D58: Hrs | E58: 11 | F58: 0 | G58: 0 | H58: 0 | I58: 0 | J58: 0 | K58: =F58*E58 -> 0 | L58: =G58*E58 -> 0 | M58: =H58*E58 -> 0 | N58: =I58*E58 -> 0 | O58: =J58*E58 -> 0 | P58: =SUM(K58:O58) -> 0
A59: 8 | B59: CCSFS (SLC-41) | C59: Tanker Rental | D59: Days | E59: 77 | F59: 0 | G59: 0 | H59: 0 | I59: 0 | J59: 0 | K59: =F59*E59 -> 0 | L59: =G59*E59 -> 0 | M59: =H59*E59 -> 0 | N59: =I59*E59 -> 0 | O59: =J59*E59 -> 0 | P59: =SUM(K59:O59) -> 0
A60: 8 | B60: CCSFS (SLC-41) | C60: Inability to Accept Delivery | D60: Occurances | E60: 3200 | F60: 0 | G60: 0 | H60: 0 | I60: 0 | J60: 0 | K60: =F60*E60 -> 0 | L60: =G60*E60 -> 0 | M60: =H60*E60 -> 0 | N60: =I60*E60 -> 0 | O60: =J60*E60 -> 0 | P60: =SUM(K60:O60) -> 0
A61: 8 | B61: CCSFS (SLC-41) | C61: One Way Mileage | D61: Miles | E61: 35200 | F61: 0 | G61: 0 | H61: 0 | I61: 0 | J61: 0 | K61: =F61*E61 -> 0 | L61: =G61*E61 -> 0 | M61: =H61*E61 -> 0 | N61: =I61*E61 -> 0 | O61: =J61*E61 -> 0 | P61: =SUM(K61:O61) -> 0
A62: 8 | B62: CCSFS (SLC-41) | C62: Emergency Delivery | D62: Occurances | E62: 2 | F62: 0 | G62: 0 | H62: 0 | I62: 0 | J62: 0 | K62: =F62*E62 -> 0 | L62: =G62*E62 -> 0 | M62: =H62*E62 -> 0 | N62: =I62*E62 -> 0 | O62: =J62*E62 -> 0 | P62: =SUM(K62:O62) -> 0
A63: 8 | B63: CCSFS (SLC-41) | C63: Tanker Cooldown | D63: Occurances | E63: 2 | F63: 0 | G63: 0 | H63: 0 | I63: 0 | J63: 0 | K63: =F63*E63 -> 0 | L63: =G63*E63 -> 0 | M63: =H63*E63 -> 0 | N63: =I63*E63 -> 0 | O63: =J63*E63 -> 0 | P63: =SUM(K63:O63) -> 0
J64: Total CCSFS (SLC- 41) | K64: =SUM(K58:K63) -> 0 | L64: =SUM(L58:L63) -> 0 | M64: =SUM(M58:M63) -> 0 | N64: =SUM(N58:N63) -> 0 | O64: =SUM(O58:O63) -> 0 | P64: =SUM(P58:P63) -> 0
A65: 9 | B65: GRC-LF | C65: Jumbo (160+msfc) Trailer Rental | D65: Price Per day | E65: 7 | F65: 0 | G65: 0 | H65: 0 | I65: 0 | J65: 0 | K65: =F65*E65 -> 0 | L65: =G65*E65 -> 0 | M65: =H65*E65 -> 0 | N65: =I65*E65 -> 0 | O65: =J65*E65 -> 0 | P65: =SUM(K65:O65) -> 0
A66: 9 | B66: GRC-LF | C66: Non-Jumbo (<160 msfc) Trailer Rental | D66: Price Per day | E66: 7 | F66: 0 | G66: 0 | H66: 0 | I66: 0 | J66: 0 | K66: =F66*E66 -> 0 | L66: =G66*E66 -> 0 | M66: =H66*E66 -> 0 | N66: =I66*E66 -> 0 | O66: =J66*E66 -> 0 | P66: =SUM(K66:O66) -> 0
A67: 9 | B67: GRC-LF | C67: Inability to Accept Delivery | D67: Price Per Mile | E67: 300 | F67: 0 | G67: 0 | H67: 0 | I67: 0 | J67: 0 | K67: =F67*E67 -> 0 | L67: =G67*E67 -> 0 | M67: =H67*E67 -> 0 | N67: =I67*E67 -> 0 | O67: =J67*E67 -> 0 | P67: =SUM(K67:O67) -> 0
A68: 9 | B68: GRC-LF | C68: One Way Mileage | D68: Price Per Mile | E68: 300 | F68: 0 | G68: 0 | H68: 0 | I68: 0 | J68: 0 | K68: =F68*E68 -> 0 | L68: =G68*E68 -> 0 | M68: =H68*E68 -> 0 | N68: =I68*E68 -> 0 | O68: =J68*E68 -> 0 | P68: =SUM(K68:O68) -> 0
A69: 9 | B69: GRC-LF | C69: Emergency Delivery | D69: Price Per Occurrence | E69: 1 | F69: 0 | G69: 0 | H69: 0 | I69: 0 | J69: 0 | K69: =F69*E69 -> 0 | L69: =G69*E69 -> 0 | M69: =H69*E69 -> 0 | N69: =I69*E69 -> 0 | O69: =J69*E69 -> 0 | P69: =SUM(K69:O69) -> 0
A70: 9 | B70: GRC-LF | C70: Trailer Purge | D70: Price Per Occurrence | E70: 1 | F70: 0 | G70: 0 | H70: 0 | I70: 0 | J70: 0 | K70: =F70*E70 -> 0 | L70: =G70*E70 -> 0 | M70: =H70*E70 -> 0 | N70: =I70*E70 -> 0 | O70: =J70*E70 -> 0 | P70: =SUM(K70:O70) -> 0
A71: 9 | B71: GRC-LF | C71: Demurrage | D71: Price Per Hr | E71: 5 | F71: 0 | G71: 0 | H71: 0 | I71: 0 | J71: 0 | K71: =F71*E71 -> 0 | L71: =G71*E71 -> 0 | M71: =H71*E71 -> 0 | N71: =I71*E71 -> 0 | O71: =J71*E71 -> 0 | P71: =SUM(K71:O71) -> 0
J72: Total GRC-LF | K72: =SUM(K66:K71) -> 0 | L72: =SUM(L66:L71) -> 0 | M72: =SUM(M66:M71) -> 0 | N72: =SUM(N66:N71) -> 0 | O72: =SUM(O66:O71) -> 0 | P72: =SUM(P65:P71) -> 0
A73: 10 | B73: GRC-ATF | C73: Jumbo (160+msfc) Trailer Rental | D73: Price Per day | E73: =2*60 -> 120 | F73: 0 | G73: 0 | H73: 0 | I73: 0 | J73: 0 | K73: =F73*E73 -> 0 | L73: =G73*E73 -> 0 | M73: =H73*E73 -> 0 | N73: =I73*E73 -> 0 | O73: =J73*E73 -> 0 | P73: =SUM(K73:O73) -> 0
A74: 10 | B74: GRC-ATF | C74: Non-Jumbo (<160 msfc) Trailer Rental | D74: Price Per day | E74: 7 | F74: 0 | G74: 0 | H74: 0 | I74: 0 | J74: 0 | K74: =F74*E74 -> 0 | L74: =G74*E74 -> 0 | M74: =H74*E74 -> 0 | N74: =I74*E74 -> 0 | O74: =J74*E74 -> 0 | P74: =SUM(K74:O74) -> 0
A75: 10 | B75: GRC-ATF | C75: Inability to Accept Delivery | D75: Price Per Mile | E75: 500 | F75: 0 | G75: 0 | H75: 0 | I75: 0 | J75: 0 | K75: =F75*E75 -> 0 | L75: =G75*E75 -> 0 | M75: =H75*E75 -> 0 | N75: =I75*E75 -> 0 | O75: =J75*E75 -> 0 | P75: =SUM(K75:O75) -> 0
A76: 10 | B76: GRC-ATF | C76: One Way Mileage | D76: Price Per Mile | E76: =4*250 -> 1000 | F76: 0 | G76: 0 | H76: 0 | I76: 0 | J76: 0 | K76: =F76*E76 -> 0 | L76: =G76*E76 -> 0 | M76: =H76*E76 -> 0 | N76: =I76*E76 -> 0 | O76: =J76*E76 -> 0 | P76: =SUM(K76:O76) -> 0
A77: 10 | B77: GRC-ATF | C77: Emergency Delivery | D77: Price Per Occurrence | E77: 1 | F77: 0 | G77: 0 | H77: 0 | I77: 0 | J77: 0 | K77: =F77*E77 -> 0 | L77: =G77*E77 -> 0 | M77: =H77*E77 -> 0 | N77: =I77*E77 -> 0 | O77: =J77*E77 -> 0 | P77: =SUM(K77:O77) -> 0
A78: 10 | B78: GRC-ATF | C78: Trailer Purge | D78: Price Per Occurrence | E78: 1 | F78: 0 | G78: 0 | H78: 0 | I78: 0 | J78: 0 | K78: =F78*E78 -> 0 | L78: =G78*E78 -> 0 | M78: =H78*E78 -> 0 | N78: =I78*E78 -> 0 | O78: =J78*E78 -> 0 | P78: =SUM(K78:O78) -> 0
A79: 10 | B79: GRC-ATF | C79: Demurrage | D79: Price Per Hr | E79: 5 | F79: 0 | G79: 0 | H79: 0 | I79: 0 | J79: 0 | K79: =F79*E79 -> 0 | L79: =G79*E79 -> 0 | M79: =H79*E79 -> 0 | N79: =I79*E79 -> 0 | O79: =J79*E79 -> 0 | P79: =SUM(K79:O79) -> 0
J80: Total GRC-ATF | K80: =SUM(K74:K79) -> 0 | L80: =SUM(L74:L79) -> 0 | M80: =SUM(M74:M79) -> 0 | N80: =SUM(N74:N79) -> 0 | O80: =SUM(O74:O79) -> 0 | P80: =SUM(P73:P79) -> 0
A81: 11 | B81: GSFC | C81: 60 Liter Dewar Rental | D81: Price Per day | E81: 14 | F81: 0 | G81: 0 | H81: 0 | I81: 0 | J81: 0 | K81: =F81*E81 -> 0 | L81: =G81*E81 -> 0 | M81: =H81*E81 -> 0 | N81: =I81*E81 -> 0 | O81: =J81*E81 -> 0 | P81: =SUM(K81:O81) -> 0
A82: 11 | B82: GSFC | C82: 100 Liter Dewar Rental | D82: Price Per day | E82: =60*14 -> 840 | F82: 0 | G82: 0 | H82: 0 | I82: 0 | J82: 0 | K82: =F82*E82 -> 0 | L82: =G82*E82 -> 0 | M82: =H82*E82 -> 0 | N82: =I82*E82 -> 0 | O82: =J82*E82 -> 0 | P82: =SUM(K82:O82) -> 0
A83: 11 | B83: GSFC | C83: 250 Liter Dewar Rental | D83: Price Per day | E83: 14 | F83: 0 | G83: 0 | H83: 0 | I83: 0 | J83: 0 | K83: =F83*E83 -> 0 | L83: =G83*E83 -> 0 | M83: =H83*E83 -> 0 | N83: =I83*E83 -> 0 | O83: =J83*E83 -> 0 | P83: =SUM(K83:O83) -> 0
A84: 11 | B84: GSFC | C84: 350 Liter Dewar Rental | D84: Price Per day | E84: 14 | F84: 0 | G84: 0 | H84: 0 | I84: 0 | J84: 0 | K84: =F84*E84 -> 0 | L84: =G84*E84 -> 0 | M84: =H84*E84 -> 0 | N84: =I84*E84 -> 0 | O84: =J84*E84 -> 0 | P84: =SUM(K84:O84) -> 0
A85: 11 | B85: GSFC | C85: 500 Lite Dewar Rental | D85: Price Per day | E85: =2*14 -> 28 | F85: 0 | G85: 0 | H85: 0 | I85: 0 | J85: 0 | K85: =F85*E85 -> 0 | L85: =G85*E85 -> 0 | M85: =H85*E85 -> 0 | N85: =I85*E85 -> 0 | O85: =J85*E85 -> 0 | P85: =SUM(K85:O85) -> 0
A86: 11 | B86: GSFC | C86: Inability to Accept Delivery | D86: Price Per Mile | E86: =2*180 -> 360 | F86: 0 | G86: 0 | H86: 0 | I86: 0 | J86: 0 | K86: =F86*E86 -> 0 | L86: =G86*E86 -> 0 | M86: =H86*E86 -> 0 | N86: =I86*E86 -> 0 | O86: =J86*E86 -> 0 | P86: =SUM(K86:O86) -> 0
A87: 11 | B87: GSFC | C87: One Way Mileage | D87: Price Per Mile | E87: =2*180 -> 360 | F87: 0 | G87: 0 | H87: 0 | I87: 0 | J87: 0 | K87: =F87*E87 -> 0 | L87: =G87*E87 -> 0 | M87: =H87*E87 -> 0 | N87: =I87*E87 -> 0 | O87: =J87*E87 -> 0 | P87: =SUM(K87:O87) -> 0
A88: 11 | B88: GSFC | C88: Emergency Delivery | D88: Price Per Occurrence | E88: 1 | F88: 0 | G88: 0 | H88: 0 | I88: 0 | J88: 0 | K88: =F88*E88 -> 0 | L88: =G88*E88 -> 0 | M88: =H88*E88 -> 0 | N88: =I88*E88 -> 0 | O88: =J88*E88 -> 0 | P88: =SUM(K88:O88) -> 0
A89: 11 | B89: GSFC | C89: Dewar Cool Down | D89: Price Per Occurrence | E89: 5 | F89: 0 | G89: 0 | H89: 0 | I89: 0 | J89: 0 | K89: =F89*E89 -> 0 | L89: =G89*E89 -> 0 | M89: =H89*E89 -> 0 | N89: =I89*E89 -> 0 | O89: =J89*E89 -> 0 | P89: =SUM(K89:O89) -> 0
A90: 11 | B90: GSFC | C90: Demurrage | D90: Price Per Hr | E90: 5 | F90: 0 | G90: 0 | H90: 0 | I90: 0 | J90: 0 | K90: =F90*E90 -> 0 | L90: =G90*E90 -> 0 | M90: =H90*E90 -> 0 | N90: =I90*E90 -> 0 | O90: =J90*E90 -> 0 | P90: =SUM(K90:O90) -> 0
J91: Total GSFC | K91: =SUM(K81:K90) -> 0 | L91: =SUM(L81:L90) -> 0 | M91: =SUM(M81:M90) -> 0 | N91: =SUM(N81:N90) -> 0 | O91: =SUM(O81:O90) -> 0 | P91: =SUM(P81:P90) -> 0
A92: 12 | B92: JPL | C92: Jumbo (160+msfc) Trailer Rental | D92: Price Per day | E92: 3 | F92: 0 | G92: 0 | H92: 0 | I92: 0 | J92: 0 | K92: =F92*E92 -> 0 | L92: =G92*E92 -> 0 | M92: =H92*E92 -> 0 | N92: =I92*E92 -> 0 | O92: =J92*E92 -> 0 | P92: =SUM(K92:O92) -> 0
A93: 12 | B93: JPL | C93: Inability to Accept Delivery | D93: Price Per Mile | E93: =2*30 -> 60 | F93: 0 | G93: 0 | H93: 0 | I93: 0 | J93: 0 | K93: =F93*E93 -> 0 | L93: =G93*E93 -> 0 | M93: =H93*E93 -> 0 | N93: =I93*E93 -> 0 | O93: =J93*E93 -> 0 | P93: =SUM(K93:O93) -> 0
A94: 12 | B94: JPL | C94: One Way Mileage | D94: Price Per Mile | E94: =2*30 -> 60 | F94: 0 | G94: 0 | H94: 0 | I94: 0 | J94: 0 | K94: =F94*E94 -> 0 | L94: =G94*E94 -> 0 | M94: =H94*E94 -> 0 | N94: =I94*E94 -> 0 | O94: =J94*E94 -> 0 | P94: =SUM(K94:O94) -> 0
A95: 12 | B95: JPL | C95: Emergency Delivery | D95: Price Per Occurrence | E95: 1 | F95: 0 | G95: 0 | H95: 0 | I95: 0 | J95: 0 | K95: =F95*E95 -> 0 | L95: =G95*E95 -> 0 | M95: =H95*E95 -> 0 | N95: =I95*E95 -> 0 | O95: =J95*E95 -> 0 | P95: =SUM(K95:O95) -> 0
A96: 12 | B96: JPL | C96: Trailer Purge | D96: Price Per Occurrence | E96: 1 | F96: 0 | G96: 0 | H96: 0 | I96: 0 | J96: 0 | K96: =F96*E96 -> 0 | L96: =G96*E96 -> 0 | M96: =H96*E96 -> 0 | N96: =I96*E96 -> 0 | O96: =J96*E96 -> 0 | P96: =SUM(K96:O96) -> 0
A97: 12 | B97: JPL | C97: Demurrage | D97: Price Per Hr | E97: 1 | F97: 0 | G97: 0 | H97: 0 | I97: 0 | J97: 0 | K97: =F97*E97 -> 0 | L97: =G97*E97 -> 0 | M97: =H97*E97 -> 0 | N97: =I97*E97 -> 0 | O97: =J97*E97 -> 0 | P97: =SUM(K97:O97) -> 0
J98: Total JPL | K98: =SUM(K92:K97) -> 0 | L98: =SUM(L92:L97) -> 0 | M98: =SUM(M92:M97) -> 0 | N98: =SUM(N92:N97) -> 0 | O98: =SUM(O92:O97) -> 0 | P98: =SUM(P92:P97) -> 0
A99: 13 | B99: JPL | C99: 30 Liter Dewar Rental | D99: Price Per day | E99: 14 | F99: 0 | G99: 0 | H99: 0 | I99: 0 | J99: 0 | K99: =F99*E99 -> 0 | L99: =G99*E99 -> 0 | M99: =H99*E99 -> 0 | N99: =I99*E99 -> 0 | O99: =J99*E99 -> 0 | P99: =SUM(K99:O99) -> 0
A100: 13 | B100: JPL | C100: 60 Liter Dewar Rental | D100: Price Per day | E100: 7 | F100: 0 | G100: 0 | H100: 0 | I100: 0 | J100: 0 | K100: =F100*E100 -> 0 | L100: =G100*E100 -> 0 | M100: =H100*E100 -> 0 | N100: =I100*E100 -> 0 | O100: =J100*E100 -> 0 | P100: =SUM(K100:O100) -> 0
A101: 13 | B101: JPL | C101: 100 Liter Dewar Rental | D101: Price Per day | E101: 7 | F101: 0 | G101: 0 | H101: 0 | I101: 0 | J101: 0 | K101: =F101*E101 -> 0 | L101: =G101*E101 -> 0 | M101: =H101*E101 -> 0 | N101: =I101*E101 -> 0 | O101: =J101*E101 -> 0 | P101: =SUM(K101:O101) -> 0
...

Sheet Total Evaluated Price Summary
A1: SOLICITATION 80KSC024R0010
A2: Total Evaluated Price Summary
A4: Offeror | B4: ='Helium Price'!B4 -> 0
A5: Offeror shall review Instructions tab in this proposal template. This tab is for evaluation purposes only and will not be incorporated into the contract upon award.
A6: CLIN | B6: Delivery Location | C6: Period of Performance | D6: Total Estimated Price For Evaluation Purposes
A7: 1 | B7: CSBF TX | C7: Base Period 1 10/01/25 - 09/30/26 | D7: ='Helium Price'!O7+'Delivery Charge '!S7+'Other Pricing '!K13 -> 0
A8: 1 | B8: CSBF TX | C8: Base Period 2 10/01/26 - 09/30/27 | D8: ='Helium Price'!P7+'Delivery Charge '!T7+'Other Pricing '!L13 -> 0
A9: 1 | B9: CSBF TX | C9: Option Period 1 10/01/27 - 09/30/28 | D9: ='Helium Price'!Q7+'Delivery Charge '!U7+'Other Pricing '!M13 -> 0
A10: 1 | B10: CSBF TX | C10: Option Period 2 10/01/28 - 09/30/29 | D10: ='Helium Price'!R7+'Delivery Charge '!V7+'Other Pricing '!N13 -> 0
A11: 1 | B11: CSBF TX | C11: Option Period 3 10/01/29 - 09/30/30 | D11: ='Helium Price'!S7+'Delivery Charge '!W7+'Other Pricing '!O13 -> 0
C12: Total CSBF TX | D12: =SUM(D7:D11) -> 0 | E12: 13
A13: 2 | B13: CSBF TX | C13: Base Period 1 10/01/25 - 09/30/26 | D13: ='Helium Price'!O8+'Delivery Charge '!S8+'Other Pricing '!K20 -> 0
A14: 2 | B14: CSBF TX | C14: Base Period 2 10/01/26 - 09/30/27 | D14: ='Helium Price'!P8+'Delivery Charge '!T8+'Other Pricing '!L20 -> 0
A15: 2 | B15: CSBF TX | C15: Option Period 1 10/01/27 - 09/30/28 | D15: ='Helium Price'!Q8+'Delivery Charge '!U8+'Other Pricing '!M20 -> 0
A16: 2 | B16: CSBF TX | C16: Option Period 2 10/01/28 - 09/30/29 | D16: ='Helium Price'!R8+'Delivery Charge '!V8+'Other Pricing '!N20 -> 0
A17: 2 | B17: CSBF TX | C17: Option Period 3 10/01/29 - 09/30/30 | D17: ='Helium Price'!S8+'Delivery Charge '!W8+'Other Pricing '!O20 -> 0
C18: Total CSBF TX | D18: =SUM(D13:D17) -> 0 | E18: 20
A19: 3 | B19: CSBF NM | C19: Base Period 1 10/01/25 - 09/30/26 | D19: ='Helium Price'!O9+'Delivery Charge '!S9+'Other Pricing '!K27 -> 0
A20: 3 | B20: CSBF NM | C20: Base Period 2 10/01/26 - 09/30/27 | D20: ='Helium Price'!P9+'Delivery Charge '!T9+'Other Pricing '!L27 -> 0
A21: 3 | B21: CSBF NM | C21: Option Period 1 10/01/27 - 09/30/28 | D21: ='Helium Price'!Q9+'Delivery Charge '!U9+'Other Pricing '!M27 -> 0
A22: 3 | B22: CSBF NM | C22: Option Period 2 10/01/28 - 09/30/29 | D22: ='Helium Price'!R9+'Delivery Charge '!V9+'Other Pricing '!N27 -> 0
A23: 3 | B23: CSBF NM | C23: Option Period 3 10/01/29 - 09/30/30 | D23: ='Helium Price'!S9+'Delivery Charge '!W9+'Other Pricing '!O27 -> 0
A24: Total CSBF NM | D24: =SUM(D19:D23) -> 0 | E24: 27
A25: 4 | B25: CSBF NM | C25: Base Period 1 10/01/25 - 09/30/26 | D25: ='Helium Price'!O10+'Delivery Charge '!S10+'Other Pricing '!K34 -> 0
A26: 4 | B26: CSBF NM | C26: Base Period 2 10/01/26 - 09/30/27 | D26: ='Helium Price'!P10+'Delivery Charge '!T10+'Other Pricing '!L34 -> 0
A27: 4 | B27: CSBF NM | C27: Option Period 1 10/01/27 - 09/30/28 | D27: ='Helium Price'!Q10+'Delivery Charge '!U10+'Other Pricing '!K34 -> 0
A28: 4 | B28: CSBF NM | C28: Option Period 2 10/01/28 - 09/30/29 | D28: ='Helium Price'!R10+'Delivery Charge '!V10+'Other Pricing '!K34 -> 0
A29: 4 | B29: CSBF NM | C29: Option Period 3 10/01/29 - 09/30/30 | D29: ='Helium Price'!S10+'Delivery Charge '!W10+'Other Pricing '!K34 -> 0 | H29: DC
A30: Total CSBF NM | D30: =SUM(D25:D29) -> 0 | E30: 34 | F30: O | G30: I | H30: S | I30: K
A31: 5 | B31: CSBF CA | C31: Base Period 1 10/01/25 - 09/30/26 | D31: ='Helium Price'!O11+'Delivery Charge '!S11+'Other Pricing '!K43 -> 0 | F31: P | G31: J | H31: T | I31: L
A32: 5 | B32: CSBF CA | C32: Base Period 2 10/01/26 - 09/30/27 | D32: ='Helium Price'!P11+'Delivery Charge '!T11+'Other Pricing '!K43 -> 0 | F32: Q | G32: K | H32: U | I32: M
A33: 5 | B33: CSBF CA | C33: Option Period 1 10/01/27 - 09/30/28 | D33: ='Helium Price'!Q11+'Delivery Charge '!U11+'Other Pricing '!K43 -> 0 | F33: R | G33: L | H33: V | I33: N
A34: 5 | B34: CSBF CA | C34: Option Period 2 10/01/28 - 09/30/29 | D34: ='Helium Price'!R11+'Delivery Charge '!V11+'Other Pricing '!K43 -> 0 | F34: S | G34: M | H34: W | I34: O
A35: 5 | B35: CSBF CA | C35: Option Period 3 10/01/29 - 09/30/30 | D35: ='Helium Price'!S11+'Delivery Charge '!W11+'Other Pricing '!K43 -> 0
A36: Total CSBF CA | D36: =SUM(D31:D35) -> 0 | E36: 43
A37: 6 | B37: CSBF OR | C37: Base Period 1 10/01/25 - 09/30/26 | D37: ='Helium Price'!O12+'Delivery Charge '!S12+'Other Pricing '!K50 -> 0
A38: 6 | B38: CSBF OR | C38: Base Period 2 10/01/26 - 09/30/27 | D38: ='Helium Price'!P12+'Delivery Charge '!T12+'Other Pricing '!L50 -> 0
A39: 6 | B39: CSBF OR | C39: Option Period 1 10/01/27 - 09/30/28 | D39: ='Helium Price'!Q12+'Delivery Charge '!U12+'Other Pricing '!M50 -> 0
A40: 6 | B40: CSBF OR | C40: Option Period 2 10/01/28 - 09/30/29 | D40: ='Helium Price'!R12+'Delivery Charge '!V12+'Other Pricing '!N50 -> 0
A41: 6 | B41: CSBF OR | C41: Option Period 3 10/01/29 - 09/30/30 | D41: ='Helium Price'!S12+'Delivery Charge '!W123+'Other Pricing '!O50 -> 0
A42: Total CSBF OR | D42: =SUM(D37:D41) -> 0 | E42: 50
A43: 7 | B43: CSBF OR | C43: Base Period 1 10/01/25 - 09/30/26 | D43: ='Helium Price'!O13+'Delivery Charge '!S13+'Other Pricing '!K57 -> 0
A44: 7 | B44: CSBF OR | C44: Base Period 2 10/01/26 - 09/30/27 | D44: ='Helium Price'!P13+'Delivery Charge '!T13+'Other Pricing '!L57 -> 0
A45: 7 | B45: CSBF OR | C45: Option Period 1 10/01/27 - 09/30/28 | D45: ='Helium Price'!Q13+'Delivery Charge '!U13+'Other Pricing '!M57 -> 0
A46: 7 | B46: CSBF OR | C46: Option Period 2 10/01/28 - 09/30/29 | D46: ='Helium Price'!R13+'Delivery Charge '!V13+'Other Pricing '!N57 -> 0
A47: 7 | B47: CSBF OR | C47: Option Period 3 10/01/29 - 09/30/30 | D47: ='Helium Price'!S13+'Delivery Charge '!W13+'Other Pricing '!O57 -> 0
A48: Total CSBF OR | D48: =SUM(D43:D47) -> 0 | E48: 57
A49: 8 | B49: CCSFS (SLC-41) | C49: Base Period 1 10/01/25 - 09/30/26 | D49: ='Helium Price'!O14+'Delivery Charge '!S14+'Other Pricing '!K64 -> 0
A50: 8 | B50: CCSFS (SLC-41) | C50: Base Period 2 10/01/26 - 09/30/27 | D50: ='Helium Price'!P14+'Delivery Charge '!T14+'Other Pricing '!L64 -> 0
A51: 8 | B51: CCSFS (SLC-41) | C51: Option Period 1 10/01/27 - 09/30/28 | D51: ='Helium Price'!Q14+ 'Delivery Charge '!U14+'Other Pricing '!M64 -> 0
A52: 8 | B52: CCSFS (SLC-41) | C52: Option Period 2 10/01/28 - 09/30/29 | D52: ='Helium Price'!R14+'Delivery Charge '!V14+'Other Pricing '!N64 -> 0
A53: 8 | B53: CCSFS (SLC-41) | C53: Option Period 3 10/01/29 - 09/30/30 | D53: ='Helium Price'!S14+'Delivery Charge '!W14+'Other Pricing '!O64 -> 0
A54: Total CCSFS (SLC-41) | D54: =SUM(D49:D53) -> 0 | E54: 64
A55: 9 | B55: GRC-LF | C55: Base Period 1 10/01/25 - 09/30/26 | D55: ='Helium Price'!O15+'Delivery Charge '!S15+'Other Pricing '!K72 -> 0
A56: 9 | B56: GRC-LF | C56: Base Period 2 10/01/26 - 09/30/27 | D56: ='Helium Price'!P15+'Delivery Charge '!T15+'Other Pricing '!L72 -> 0
A57: 9 | B57: GRC-LF | C57: Option Period 1 10/01/27 - 09/30/28 | D57: ='Helium Price'!Q15+'Delivery Charge '!U15+'Other Pricing '!M72 -> 0
A58: 9 | B58: GRC-LF | C58: Option Period 2 10/01/28 - 09/30/29 | D58: ='Helium Price'!R15+'Delivery Charge '!V15+'Other Pricing '!N72 -> 0
A59: 9 | B59: GRC-LF | C59: Option Period 3 10/01/29 - 09/30/30 | D59: ='Helium Price'!S15+'Delivery Charge '!W15+'Other Pricing '!O72 -> 0
A60: Total GRC-LF | D60: =SUM(D55:D59) -> 0 | E60: 72
A61: 10 | B61: GRC-ATF | C61: Base Period 1 10/01/25 - 09/30/26 | D61: ='Helium Price'!O16+'Delivery Charge '!S16+'Other Pricing '!K80 -> 0
A62: 10 | B62: GRC-ATF | C62: Base Period 2 10/01/26 - 09/30/27 | D62: ='Helium Price'!P16+'Delivery Charge '!T16+'Other Pricing '!L80 -> 0
A63: 10 | B63: GRC-ATF | C63: Option Period 1 10/01/27 - 09/30/28 | D63: ='Helium Price'!Q16+'Delivery Charge '!U16+'Other Pricing '!M80 -> 0
A64: 10 | B64: GRC-ATF | C64: Option Period 2 10/01/28 - 09/30/29 | D64: ='Helium Price'!R16+'Delivery Charge '!V16+'Other Pricing '!N80 -> 0
A65: 10 | B65: GRC-ATF | C65: Option Period 3 10/01/29 - 09/30/30 | D65: ='Helium Price'!S16+'Delivery Charge '!W16+'Other Pricing '!O80 -> 0
A66: Total GRC-ATF | D66: =SUM(D61:D65) -> 0 | E66: 80
A67: 11 | B67: GSFC | C67: Base Period 1 10/01/25 - 09/30/26 | D67: ='Helium Price'!O17+'Delivery Charge '!S17+'Other Pricing '!K91 -> 0
A68: 11 | B68: GSFC | C68: Base Period 2 10/01/26 - 09/30/27 | D68: ='Helium Price'!P17+'Delivery Charge '!T17+'Other Pricing '!L91 -> 0
A69: 11 | B69: GSFC | C69: Option Period 1 10/01/27 - 09/30/28 | D69: ='Helium Price'!Q17+'Delivery Charge '!U17+'Other Pricing '!M91 -> 0
A70: 11 | B70: GSFC | C70: Option Period 2 10/01/28 - 09/30/29 | D70: ='Helium Price'!R17+'Delivery Charge '!V17+'Other Pricing '!N91 -> 0
A71: 11 | B71: GSFC | C71: Option Period 3 10/01/29 - 09/30/30 | D71: ='Helium Price'!S17+'Delivery Charge '!W17+'Other Pricing '!O91 -> 0
A72: Total GSFC | D72: =SUM(D67:D71) -> 0 | E72: 91
A73: 12 | B73: JPL | C73: Base Period 1 10/01/25 - 09/30/26 | D73: ='Helium Price'!O18+'Delivery Charge '!S18+'Other Pricing '!K98 -> 0
A74: 12 | B74: JPL | C74: Base Period 2 10/01/26 - 09/30/27 | D74: ='Helium Price'!P18+'Delivery Charge '!T18+'Other Pricing '!L98 -> 0
A75: 12 | B75: JPL | C75: Option Period 1 10/01/27 - 09/30/28 | D75: ='Helium Price'!Q18+'Delivery Charge '!U18+'Other Pricing '!M98 -> 0
A76: 12 | B76: JPL | C76: Option Period 2 10/01/28 - 09/30/29 | D76: ='Helium Price'!R18+'Delivery Charge '!V18+'Other Pricing '!N98 -> 0
A77: 12 | B77: JPL | C77: Option Period 3 10/01/29 - 09/30/30 | D77: ='Helium Price'!S18+'Delivery Charge '!W18+'Other Pricing '!O98 -> 0
A78: Total JPL | D78: =SUM(D73:D77) -> 0 | E78: 98
A79: 13 | B79: JPL | C79: Base Period 1 10/01/25 - 09/30/26 | D79: ='Helium Price'!O19+'Delivery Charge '!S19+'Other Pricing '!K108 -> 0
A80: 13 | B80: JPL | C80: Base Period 2 10/01/26 - 09/30/27 | D80: ='Helium Price'!P19+'Delivery Charge '!T19+'Other Pricing '!L108 -> 0
A81: 13 | B81: JPL | C81: Option Period 1 10/01/27 - 09/30/28 | D81: ='Helium Price'!Q19+'Delivery Charge '!U19+'Other Pricing '!M108 -> 0
A82: 13 | B82: JPL | C82: Option Period 2 10/01/28 - 09/30/29 | D82: ='Helium Price'!R19+'Delivery Charge '!V19+'Other Pricing '!N108 -> 0
A83: 13 | B83: JPL | C83: Option Period 3 10/01/29 - 09/30/30 | D83: ='Helium Price'!S19+'Delivery Charge '!W19+'Other Pricing '!O108 -> 0
A84: Total JPL | D84: =SUM(D79:D83) -> 0 | E84: 108
A85: 14 | B85: JSC | C85: Base Period 1 10/01/25 - 09/30/26 | D85: ='Helium Price'!O20+'Delivery Charge '!S20+'Other Pricing '!K116 -> 0
A86: 14 | B86: JSC | C86: Base Period 2 10/01/26 - 09/30/27 | D86: ='Helium Price'!P20+'Delivery Charge '!T20+'Other Pricing '!L116 -> 0
A87: 14 | B87: JSC | C87: Option Period 1 10/01/27 - 09/30/28 | D87: ='Helium Price'!Q20+'Delivery Charge '!U20+'Other Pricing '!M116 -> 0
A88: 14 | B88: JSC | C88: Option Period 2 10/01/28 - 09/30/29 | D88: ='Helium Price'!R20+'Delivery Charge '!V20+'Other Pricing '!N116 -> 0
A89: 14 | B89: JSC | C89: Option Period 3 10/01/29 - 09/30/30 | D89: ='Helium Price'!S20+'Delivery Charge '!W20+'Other Pricing '!O116 -> 0
A90: Total JSC | D90: =SUM(D85:D89) -> 0 | E90: 116
A91: 15 | B91: KSC | C91: Base Period 1 10/01/25 - 09/30/26 | D91: ='Helium Price'!O21+'Delivery Charge '!S21+'Other Pricing '!K124 -> 0
A92: 15 | B92: KSC | C92: Base Period 2 10/01/26 - 09/30/27 | D92: ='Helium Price'!P21+'Delivery Charge '!T21+'Other Pricing '!L124 -> 0
A93: 15 | B93: KSC | C93: Option Period 1 10/01/27 - 09/30/28 | D93: ='Helium Price'!Q21+'Delivery Charge '!U21+'Other Pricing '!M124 -> 0
A94: 15 | B94: KSC | C94: Option Period 2 10/01/28 - 09/30/29 | D94: ='Helium Price'!R21+'Delivery Charge '!V21+'Other Pricing '!N124 -> 0
A95: 15 | B95: KSC | C95: Option Period 3 10/01/29 - 09/30/30 | D95: ='Helium Price'!S21+'Delivery Charge '!W21+'Other Pricing '!O124 -> 0
A96: Total KSC | D96: =SUM(D91:D95) -> 0 | E96: 124
A97: 16 | B97: LaRC | C97: Base Period 1 10/01/25 - 09/30/26 | D97: ='Helium Price'!O22+'Delivery Charge '!S22+'Other Pricing '!K131 -> 0
A98: 16 | B98: LaRC | C98: Base Period 2 10/01/26 - 09/30/27 | D98: ='Helium Price'!P22+'Delivery Charge '!T22+'Other Pricing '!L131 -> 0
A99: 16 | B99: LaRC | C99: Option Period 1 10/01/27 - 09/30/28 | D99: ='Helium Price'!Q22+'Delivery Charge '!U22+'Other Pricing '!M131 -> 0
A100: 16 | B100: LaRC | C100: Option Period 2 10/01/28 - 09/30/29 | D100: ='Helium Price'!R22+'Delivery Charge '!V22+'Other Pricing '!N131 -> 0
A101: 16 | B101: LaRC | C101: Option Period 3 10/01/29 - 09/30/30 | D101: ='Helium Price'!S22+'Delivery Charge '!W22+'Other Pricing '!O131 -> 0
...
