Workbook
Name OLE_LINK1: 'Base Yr (CY27)'!$A$5

Sheet Base Yr (CY27)
A1: FACILITY SERVICES BY LOCATION -BASE (CY27) - January 1, 2027- December 31, 2027
A2: Facility Name | C2: Facility Address | E2: Treatment Pricing | J2: COST TOTAL FACILITY**
B3: Facility Type | C3: Address | D3: City, ST Zip | E3: Initial Treatment | F3: Second Treatment | G3: Touch-up 1 | H3: Touch-up 2 | I3: Touch-up 3
A4: ICT | B4: SSC | C4: 1801 Airport Rd | D4: Wichita, KS 67209 | J4: =SUM(E4:I4) -> 0
A5: SLN | B5: SSC | C5: 2010A Rogers CT | D5: Salina, KS 67501 | J5: =SUM(E5:I5) -> 0
A6: IXD | B6: SSC | C6: One New Century Parkway - Suite 126 | D6: New Century, KS 66031 | J6: =SUM(E6:I6) -> 0
A7: MKC | B7: SSC | C7: 651 NW Lou Holland Dr | D7: Kansas City, MO 64116 | J7: =SUM(E7:I7) -> 0
A8: Ozark | B8: SSC | C8: 2365 N FAA Ave. | D8: Springfield, MO 65802 | J8: =SUM(E8:I8) -> 0
A9: TUL | B9: SSC | C9: 10830 E 45th St Suite 100 | D9: Tulsa, OK 74146 | J9: =SUM(E9:I9) -> 0
A10: MCI | B10: SSC | C10: 4 International Square | D10: Kansas City, MO 64153 | J10: =SUM(E10:I10) -> 0
C11: TOTALS
F12: Base Year TOTAL: | M12: =SUM(J4:J10) -> 0

Sheet Op Yr 1 (CY28)
A1: FACILITY SERVICES BY LOCATION - OP YR 1 (CY28) - January 1, 2028- December 31, 2028
A2: Facility Name | C2: Facility Address | E2: Treatment Pricing | J2: COST TOTAL FACILITY**
B3: Facility Type | C3: Address | D3: City, ST Zip | E3: Initial Treatment | F3: Second Treatment | G3: Touch-up 1 | H3: Touch-up 2 | I3: Touch-up 3
A4: ICT | B4: SSC | C4: 1801 Airport Rd | D4: Wichita, KS 67209 | J4: =SUM(E4:I4) -> 0
A5: SLN | B5: SSC | C5: 2010A Rogers CT | D5: Salina, KS 67501 | J5: =SUM(E5:I5) -> 0
A6: IXD | B6: SSC | C6: One New Century Parkway - Suite 126 | D6: New Century, KS 66031 | J6: =SUM(E6:I6) -> 0
A7: MKC | B7: SSC | C7: 651 NW Lou Holland Dr | D7: Kansas City, MO 64116 | J7: =SUM(E7:I7) -> 0
A8: Ozark | B8: SSC | C8: 2365 N FAA Ave. | D8: Springfield, MO 65802 | J8: =SUM(E8:I8) -> 0
A9: TUL | B9: SSC | C9: 10830 E 45th St Suite 100 | D9: Tulsa, OK 74146 | J9: =SUM(E9:I9) -> 0
A10: MCI | B10: SSC | C10: 4 International Square | D10: Kansas City, MO 64153 | J10: =SUM(E10:I10) -> 0
C11: TOTALS
F12: OPT 1 (CY 28) TOTAL: | M12: =SUM(J4:J10) -> 0

Sheet Op Yr 2 (CY29)
A1: FACILITY SERVICES BY LOCATION - OP YR 2 (CY29) - January 1, 2029- December 31, 2029
A2: Facility Name | C2: Facility Address | E2: Treatment Pricing | J2: COST TOTAL FACILITY**
B3: Facility Type | C3: Address | D3: City, ST Zip | E3: Initial Treatment | F3: Second Treatment | G3: Touch-up 1 | H3: Touch-up 2 | I3: Touch-up 3
A4: ICT | B4: SSC | C4: 1801 Airport Rd | D4: Wichita, KS 67209 | J4: =SUM(E4:I4) -> 0
A5: SLN | B5: SSC | C5: 2010A Rogers CT | D5: Salina, KS 67501 | J5: =SUM(E5:I5) -> 0
A6: IXD | B6: SSC | C6: One New Century Parkway - Suite 126 | D6: New Century, KS 66031 | J6: =SUM(E6:I6) -> 0
A7: MKC | B7: SSC | C7: 651 NW Lou Holland Dr | D7: Kansas City, MO 64116 | J7: =SUM(E7:I7) -> 0
A8: Ozark | B8: SSC | C8: 2365 N FAA Ave. | D8: Springfield, MO 65802 | J8: =SUM(E8:I8) -> 0
A9: TUL | B9: SSC | C9: 10830 E 45th St Suite 100 | D9: Tulsa, OK 74146 | J9: =SUM(E9:I9) -> 0
A10: MCI | B10: SSC | C10: 4 International Square | D10: Kansas City, MO 64153 | J10: =SUM(E10:I10) -> 0
C11: TOTALS
F12: OPT 2 (CY 29) TOTAL: | M12: =SUM(J4:J10) -> 0

Sheet Op Yr 3 (CY30)
A1: FACILITY SERVICES BY LOCATION - OP YR 3 (CY30) - January 1, 2030- December 31, 2030
A2: Facility Name | C2: Facility Address | E2: Treatment Pricing | J2: COST TOTAL FACILITY**
B3: Facility Type | C3: Address | D3: City, ST Zip | E3: Initial Treatment | F3: Second Treatment | G3: Touch-up 1 | H3: Touch-up 2 | I3: Touch-up 3
A4: ICT | B4: SSC | C4: 1801 Airport Rd | D4: Wichita, KS 67209 | J4: =SUM(E4:I4) -> 0
A5: SLN | B5: SSC | C5: 2010A Rogers CT | D5: Salina, KS 67501 | J5: =SUM(E5:I5) -> 0
A6: IXD | B6: SSC | C6: One New Century Parkway - Suite 126 | D6: New Century, KS 66031 | J6: =SUM(E6:I6) -> 0
A7: MKC | B7: SSC | C7: 651 NW Lou Holland Dr | D7: Kansas City, MO 64116 | J7: =SUM(E7:I7) -> 0
A8: Ozark | B8: SSC | C8: 2365 N FAA Ave. | D8: Springfield, MO 65802 | J8: =SUM(E8:I8) -> 0
A9: TUL | B9: SSC | C9: 10830 E 45th St Suite 100 | D9: Tulsa, OK 74146 | J9: =SUM(E9:I9) -> 0
A10: MCI | B10: SSC | C10: 4 International Square | D10: Kansas City, MO 64153 | J10: =SUM(E10:I10) -> 0
C11: TOTALS
F12: OPT 3 (CY 30)TOTAL: | M12: =SUM(J4:J10) -> 0

Sheet OPT Yr 4 (CY31)
A1: FACILITY SERVICES BY LOCATION - OP YR 4 (CY31) - January 1, 2031- December 31, 2031
A2: Facility Name | C2: Facility Address | E2: Treatment Pricing | J2: COST TOTAL FACILITY**
B3: Facility Type | C3: Address | D3: City, ST Zip | E3: Initial Treatment | F3: Second Treatment | G3: Touch-up 1 | H3: Touch-up 2 | I3: Touch-up 3
A4: ICT | B4: SSC | C4: 1801 Airport Rd | D4: Wichita, KS 67209 | J4: =SUM(E4:I4) -> 0
A5: SLN | B5: SSC | C5: 2010A Rogers CT | D5: Salina, KS 67501 | J5: =SUM(E5:I5) -> 0
A6: IXD | B6: SSC | C6: One New Century Parkway - Suite 126 | D6: New Century, KS 66031 | J6: =SUM(E6:I6) -> 0
A7: MKC | B7: SSC | C7: 651 NW Lou Holland Dr | D7: Kansas City, MO 64116 | J7: =SUM(E7:I7) -> 0
A8: Ozark | B8: SSC | C8: 2365 N FAA Ave. | D8: Springfield, MO 65802 | J8: =SUM(E8:I8) -> 0
A9: TUL | B9: SSC | C9: 10830 E 45th St Suite 100 | D9: Tulsa, OK 74146 | J9: =SUM(E9:I9) -> 0
A10: MCI | B10: SSC | C10: 4 International Square | D10: Kansas City, MO 64153 | J10: =SUM(E10:I10) -> 0
C11: TOTALS
F12: OPT 4 (CY 31) TOTAL: | M12: =SUM(J4:J10) -> 0

Sheet Total of Base +4 Op Yrs
A1: Contract Year | B1: Total Amount
A2: Base Yr (CY 27) | B2: ='Base Yr (CY27)'!M12 -> 0
A3: Op Yr 1 (CY 28) | B3: ='Op Yr 1 (CY28)'!M12 -> 0
A4: Op Yr 2 (CY 29) | B4: ='Op Yr 2 (CY29)'!M12 -> 0
A5: Op Yr 3 (CY 30) | B5: ='Op Yr 3 (CY30)'!M12 -> 0
A6: Op Yr4 (CY 31) | B6: ='OPT Yr 4 (CY31)'!M12 -> 0
A7: Total Value: | B7: =SUM(B2:B6) -> 0
