Workbook

Sheet BPA
B2: UF BPA NDC Price List for the November 2026 DoW P&T Meeting
B3: DoW Uniform Formulary Class: | D3: WHITE BLOOD CELL STIMULANTS | F3: P&T Committee Meeting: | G3: November 4-5, 2026
B4: DoW Uniform Formulary Subclass: | D4: PEGFILGRASTIMS | F4: Quotes due: | G4: 46321
B5: Formulary Notes
B6: Class Note(s): Prior Authorization (PA) may apply. Agents may be identified as possible candidates for special reimbursement methods, amounts, and procedures to encourage use of high-value products and discourage use of low-value products. The P&T Committee may recommend consideration of preferential status to any non-generic pharmaceutical agent by treating it for purposes of cost sharing as a generic product (Tier 1). Similarly, the P&T Committee may identify candidates to recommend for complete or partial exclusion from the TRICARE pharmacy benefit program. Step Therapy Addendum: Grandfathering: a prior authorization process requires new patients to complete an adequate trial of the step-preferred agent(s) before a non-step-preferred agent is provided to the patient at any MTF, Retail, or Mail point of service. Agents with RFQ not submitted or selected may be designated non-step preferred
B14: Notes to Manufacturers: Do not forget to submit the Quote Review Checklist and fully executed signature pages, along with quote information. The price per unit of measure for a given dosage form and strength (each, gram, mL, etc.) of the pharmaceutical agent will be the same for all available package sizes (e.g., 30s, 100s, 1000s) within a given dispensing venue.
B16: Blanket Purchase Agreement Appendix – Newly Approved Drug
B18: #1 | C18: DoW Uniform Formulary Class: | D18: =$D$3 -> WHITE BLOOD CELL STIMULANTS | F18: P&T Committee Meeting: | G18: =$G$3 -> November 4-5, 2026
C19: DoW Uniform Formulary Subclass: | D19: =$D$4 -> PEGFILGRASTIMS | F19: Quotes due: | G19: =$G$4 -> 46321
C20: NDC Number | D20: Drug Name | E20: Strength | F20: Dosage Form | G20: Package Size | H20: Military Treatment Facility & Mail Order
B22: Formulary Scenarios | C22: Condition Set # | D22: Formulary Category Description | E22: One of (x) Number of Brand Agents | F22: Price per NDC | G22: Package Size | H22: Price per Unit
B23: One or more agents may be placed UF before the step.
B24: Scenario 1 | C24: 234WBPGG1UFBS1M | D24: Uniform Formulary Before Step Therapy | E24: 1 or more | H24: =IF(ISBLANK(F24),"NO QUOTE", IF(F24=0,"NO QUOTE",IF(NOT(ISBLANK(F24)),F24/G24, ""))) -> NO QUOTE
C25: 234WBPGG1UFAS1M | D25: Uniform Formulary After Step Therapy | E25: 1 or more | G25: =IF(NOT(ISBLANK($G21)),$G21,"") | H25: =IF(ISBLANK(F25),"NO QUOTE", IF(F25=0,"NO QUOTE",IF(NOT(ISBLANK(F25)),F25/G25, ""))) -> NO QUOTE
C26: 234WBPGG1NFAS1M | D26: Non-Formulary After Step Therapy | E26: 1 or more | G26: =IF(NOT(ISBLANK($G21)),$G21,"") | H26: =IF(ISBLANK(F26),"NO QUOTE", IF(F26=0,"NO QUOTE",IF(NOT(ISBLANK(F26)),F26/G26, ""))) -> NO QUOTE
F27: If cell highlights red, please confirm intent not to submit a quote
B29: =$B$16 -> Blanket Purchase Agreement Appendix – Newly Approved Drug
B31: #2 | C31: DoW Uniform Formulary Class: | D31: =$D$3 -> WHITE BLOOD CELL STIMULANTS | F31: P&T Committee Meeting: | G31: =$G$3 -> November 4-5, 2026
C32: DoW Uniform Formulary Subclass: | D32: =$D$4 -> PEGFILGRASTIMS | F32: Quotes due: | G32: =$G$4 -> 46321
C33: NDC Number | D33: Drug Name | E33: Strength | F33: Dosage Form | G33: Package Size | H33: Military Treatment Facility & Mail Order
B35: Formulary Scenarios | C35: Condition Set # | D35: Formulary Category Description | E35: One of (x) Number of Brand Agents | F35: Price per NDC | G35: Package Size | H35: Price per Unit
B36: =$B$23 -> One or more agents may be placed UF before the step.
B37: Scenario 1 | C37: =C$24 -> 234WBPGG1UFBS1M | D37: =D$24 -> Uniform Formulary Before Step Therapy | E37: =E$24 -> 1 or more | G37: =IF(NOT(ISBLANK($G34)),$G34,"") | H37: =IF(ISBLANK(F37),"NO QUOTE", IF(F37=0,"NO QUOTE",IF(NOT(ISBLANK(F37)),F37/G37, ""))) -> NO QUOTE
C38: =C$25 -> 234WBPGG1UFAS1M | D38: =D$25 -> Uniform Formulary After Step Therapy | E38: =E$25 -> 1 or more | G38: =IF(NOT(ISBLANK($G34)),$G34,"") | H38: =IF(ISBLANK(F38),"NO QUOTE", IF(F38=0,"NO QUOTE",IF(NOT(ISBLANK(F38)),F38/G38, ""))) -> NO QUOTE
C39: =C$26 -> 234WBPGG1NFAS1M | D39: =D$26 -> Non-Formulary After Step Therapy | E39: =E$26 -> 1 or more | G39: =IF(NOT(ISBLANK($G34)),$G34,"") | H39: =IF(ISBLANK(F39),"NO QUOTE", IF(F39=0,"NO QUOTE",IF(NOT(ISBLANK(F39)),F39/G39, ""))) -> NO QUOTE
F40: If cell highlights red, please confirm intent not to submit a quote
B42: =$B$16 -> Blanket Purchase Agreement Appendix – Newly Approved Drug
B44: #3 | C44: DoW Uniform Formulary Class: | D44: =$D$3 -> WHITE BLOOD CELL STIMULANTS | F44: P&T Committee Meeting: | G44: =$G$3 -> November 4-5, 2026
C45: DoW Uniform Formulary Subclass: | D45: =$D$4 -> PEGFILGRASTIMS | F45: Quotes due: | G45: =$G$4 -> 46321
C46: NDC Number | D46: Drug Name | E46: Strength | F46: Dosage Form | G46: Package Size | H46: Military Treatment Facility & Mail Order
B48: Formulary Scenarios | C48: Condition Set # | D48: Formulary Category Description | E48: One of (x) Number of Brand Agents | F48: Price per NDC | G48: Package Size | H48: Price per Unit
B49: =$B$23 -> One or more agents may be placed UF before the step.
B50: Scenario 1 | C50: =C$24 -> 234WBPGG1UFBS1M | D50: =D$24 -> Uniform Formulary Before Step Therapy | E50: =E$24 -> 1 or more | G50: =IF(NOT(ISBLANK($G47)),$G47,"") | H50: =IF(ISBLANK(F50),"NO QUOTE", IF(F50=0,"NO QUOTE",IF(NOT(ISBLANK(F50)),F50/G50, ""))) -> NO QUOTE
C51: =C$25 -> 234WBPGG1UFAS1M | D51: =D$25 -> Uniform Formulary After Step Therapy | E51: =E$25 -> 1 or more | G51: =IF(NOT(ISBLANK($G47)),$G47,"") | H51: =IF(ISBLANK(F51),"NO QUOTE", IF(F51=0,"NO QUOTE",IF(NOT(ISBLANK(F51)),F51/G51, ""))) -> NO QUOTE
C52: =C$26 -> 234WBPGG1NFAS1M | D52: =D$26 -> Non-Formulary After Step Therapy | E52: =E$26 -> 1 or more | G52: =IF(NOT(ISBLANK($G47)),$G47,"") | H52: =IF(ISBLANK(F52),"NO QUOTE", IF(F52=0,"NO QUOTE",IF(NOT(ISBLANK(F52)),F52/G52, ""))) -> NO QUOTE
F53: If cell highlights red, please confirm intent not to submit a quote
B55: =$B$16 -> Blanket Purchase Agreement Appendix – Newly Approved Drug
B57: #4 | C57: DoW Uniform Formulary Class: | D57: =$D$3 -> WHITE BLOOD CELL STIMULANTS | F57: P&T Committee Meeting: | G57: =$G$3 -> November 4-5, 2026
C58: DoW Uniform Formulary Subclass: | D58: =$D$4 -> PEGFILGRASTIMS | F58: Quotes due: | G58: =$G$4 -> 46321
C59: NDC Number | D59: Drug Name | E59: Strength | F59: Dosage Form | G59: Package Size | H59: Military Treatment Facility & Mail Order
...

Sheet ADP (non-FAMP Discount)
B2: UF ADP Appendix for the November 2026 DoW P&T Meeting
B3: DoW Uniform Formulary Class: | D3: =BPA!$D$3 -> WHITE BLOOD CELL STIMULANTS | G3: P&T Committee Meeting: | H3: =BPA!$G$3 -> November 4-5, 2026
B4: DoW Uniform Formulary Subclass: | D4: =BPA!$D$4 -> PEGFILGRASTIMS | G4: Quotes due: | H4: =BPA!$G$4 -> 46321
B5: Formulary Notes
B6: Class Note(s): Prior Authorization (PA) may apply. Agents may be identified as possible candidates for special reimbursement methods, amounts, and procedures to encourage use of high-value products and discourage use of low-value products. The P&T Committee may recommend consideration of preferential status to any non-generic pharmaceutical agent by treating it for purposes of cost sharing as a generic product (Tier 1). Similarly, the P&T Committee may identify candidates to recommend for complete or partial exclusion from the TRICARE pharmacy benefit program. Step Therapy Addendum: Grandfathering: a prior authorization process requires new patients to complete an adequate trial of the step-preferred agent(s) before a non-step-preferred agent is provided to the patient at any MTF, Retail, or Mail point of service. Agents with RFQ not submitted or selected may be designated non-step preferred.
B14: Notes to Manufacturers: Do not forget to submit the Quote Review Checklist and fully executed signature pages, along with quote information. * Total Calculated Refund Per FCP is calculated as: ((non-FAMP-FCP)+(non-FAMP*Y%)) = Total Calculated Refund **Based on the most recent annual non-FAMP (reported to the Department of Veterans Affairs) from which the current annual Federal Ceiling Price (FCP) calculated ceiling is derived. The current annual FCP and the annual non-FAMP from which it is derived will be applicable to all prescriptions filled during a calendar year. The quoted additional refund percentage will remain static during the life of the agreement but the most recent annual non-FAMP, and thus the calculated refund, may change each calendar year.
B16: Additional Discount Program Appendix – Newly Approved Drug
B18: #1 | C18: DoW Uniform Formulary Class: | E18: =$D$3 -> WHITE BLOOD CELL STIMULANTS | G18: P&T Committee Meeting: | I18: =$H$3 -> November 4-5, 2026
C19: DoW Uniform Formulary Subclass: | E19: =$D$4 -> PEGFILGRASTIMS | G19: Quotes due: | I19: =$H$4 -> 46321
C20: NDC Number | D20: Drug Name | E20: Strength | F20: Dosage Form | G20: Package Size | H20: TRICARE RETAIL REFUND
B22: Formulary Scenarios | C22: Condition Set # | D22: Formulary Category Description | E22: One of (x) Number of Brand Agents | F22: Non-FAMP Price of Drug Per FCP Package** | G22: Additional Offered Refund Per FCP Package** | H22: Current Annual Federal Ceiling Price Per FCP Package** | I22: Standard Refund Per FCP | J22: Total Calculated Retail Refund Per FCP Package*
B23: One or more agents may be placed T2 before the step.
B24: Scenario 1 | C24: 234WBPGG1T2BS1M | D24: Tier 2 Before Step Therapy | E24: 1 or more | I24: =IF(NOT(ISBLANK(H24)),F24-H24,"") | J24: =IF(NOT(ISBLANK(H24)),((1+G24)*F24-H24), "")
C25: 234WBPGG1T2AS1M | D25: Tier 2 After Step Therapy | E25: 1 or more | F25: =IF(NOT(ISBLANK(F24)),F24,"") | H25: =IF(NOT(ISBLANK(H24)),H24,"") | I25: =IFERROR(F25-H25, "") | J25: =IFERROR(((1+G25)*F25-H25), "")
C26: 234WBPGG1T3AS1M | D26: Tier 3 After Step Therapy | E26: 1 or more | F26: =IF(NOT(ISBLANK(F25)),F25,"") | H26: =IF(NOT(ISBLANK(H25)),H25,"") | I26: =IFERROR(F26-H26, "") | J26: =IFERROR(((1+G26)*F26-H26), "")
G27: If cell highlights red, please confirm intent not to submit a quote
B29: =$B$16 -> Additional Discount Program Appendix – Newly Approved Drug
B31: #2 | C31: DoW Uniform Formulary Class: | E31: =$D$3 -> WHITE BLOOD CELL STIMULANTS | G31: P&T Committee Meeting: | I31: =$H$3 -> November 4-5, 2026
C32: DoW Uniform Formulary Subclass: | E32: =$D$4 -> PEGFILGRASTIMS | G32: Quotes due: | I32: =$H$4 -> 46321
C33: NDC Number | D33: Drug Name | E33: Strength | F33: Dosage Form | G33: =$G$20 -> Package Size | H33: TRICARE RETAIL REFUND
B35: Formulary Scenarios | C35: Condition Set # | D35: Formulary Category Description | E35: One of (x) Number of Brand Agents | F35: Non-FAMP Price of Drug Per FCP Package** | G35: Additional Offered Refund Per FCP Package** | H35: Current Annual Federal Ceiling Price Per FCP Package** | I35: Standard Refund Per FCP | J35: Total Calculated Retail Refund Per FCP Package*
B36: =$B$23 -> One or more agents may be placed T2 before the step.
B37: Scenario 1 | C37: =C$24 -> 234WBPGG1T2BS1M | D37: =D$24 -> Tier 2 Before Step Therapy | E37: =E$24 -> 1 or more | I37: =IF(NOT(ISBLANK(H37)),F37-H37,"") | J37: =IF(NOT(ISBLANK(H37)),((1+G37)*F37-H37), "")
C38: =C$25 -> 234WBPGG1T2AS1M | D38: =D$25 -> Tier 2 After Step Therapy | E38: =E$25 -> 1 or more | F38: =IF(NOT(ISBLANK(F37)),F37,"") | H38: =IF(NOT(ISBLANK(H37)),H37,"") | I38: =IFERROR(F38-H38, "") | J38: =IFERROR(((1+G38)*F38-H38), "")
C39: =C$26 -> 234WBPGG1T3AS1M | D39: =D$26 -> Tier 3 After Step Therapy | E39: =E$26 -> 1 or more | F39: =IF(NOT(ISBLANK(F38)),F38,"") | H39: =IF(NOT(ISBLANK(H38)),H38,"") | I39: =IFERROR(F39-H39, "") | J39: =IFERROR(((1+G39)*F39-H39), "")
G40: If cell highlights red, please confirm intent not to submit a quote
B42: =$B$16 -> Additional Discount Program Appendix – Newly Approved Drug
B44: #3 | C44: DoW Uniform Formulary Class: | E44: =$D$3 -> WHITE BLOOD CELL STIMULANTS | G44: P&T Committee Meeting: | I44: =$H$3 -> November 4-5, 2026
C45: DoW Uniform Formulary Subclass: | E45: =$D$4 -> PEGFILGRASTIMS | G45: Quotes due: | I45: =$H$4 -> 46321
C46: NDC Number | D46: Drug Name | E46: Strength | F46: Dosage Form | G46: =$G$20 -> Package Size | H46: TRICARE RETAIL REFUND
B48: Formulary Scenarios | C48: Condition Set # | D48: Formulary Category Description | E48: One of (x) Number of Brand Agents | F48: Non-FAMP Price of Drug Per FCP Package** | G48: Additional Offered Refund Per FCP Package** | H48: Current Annual Federal Ceiling Price Per FCP Package** | I48: Standard Refund Per FCP | J48: Total Calculated Retail Refund Per FCP Package*
B49: =$B$23 -> One or more agents may be placed T2 before the step.
B50: Scenario 1 | C50: =C$24 -> 234WBPGG1T2BS1M | D50: =D$24 -> Tier 2 Before Step Therapy | E50: =E$24 -> 1 or more | I50: =IF(NOT(ISBLANK(H50)),F50-H50,"") | J50: =IF(NOT(ISBLANK(H50)),((1+G50)*F50-H50), "")
C51: =C$25 -> 234WBPGG1T2AS1M | D51: =D$25 -> Tier 2 After Step Therapy | E51: =E$25 -> 1 or more | F51: =IF(NOT(ISBLANK(F50)),F50,"") | H51: =IF(NOT(ISBLANK(H50)),H50,"") | I51: =IFERROR(F51-H51, "") | J51: =IFERROR(((1+G51)*F51-H51), "")
C52: =C$26 -> 234WBPGG1T3AS1M | D52: =D$26 -> Tier 3 After Step Therapy | E52: =E$26 -> 1 or more | F52: =IF(NOT(ISBLANK(F51)),F51,"") | H52: =IF(NOT(ISBLANK(H51)),H51,"") | I52: =IFERROR(F52-H52, "") | J52: =IFERROR(((1+G52)*F52-H52), "")
G53: If cell highlights red, please confirm intent not to submit a quote
B55: =$B$16 -> Additional Discount Program Appendix – Newly Approved Drug
B57: #4 | C57: DoW Uniform Formulary Class: | E57: =$D$3 -> WHITE BLOOD CELL STIMULANTS | G57: P&T Committee Meeting: | I57: =$H$3 -> November 4-5, 2026
C58: DoW Uniform Formulary Subclass: | E58: =$D$4 -> PEGFILGRASTIMS | G58: Quotes due: | I58: =$H$4 -> 46321
C59: NDC Number | D59: Drug Name | E59: Strength | F59: Dosage Form | G59: =$G$20 -> Package Size | H59: TRICARE RETAIL REFUND
...

Sheet ADP (WAC Discount)
B2: UF ADP Appendix for the November 2026 DoW P&T Meeting
B3: DoW Uniform Formulary Class: | D3: =BPA!D3 -> WHITE BLOOD CELL STIMULANTS | F3: P&T Committee Meeting: | G3: =BPA!G3 -> November 4-5, 2026
B4: DoW Uniform Formulary Subclass: | D4: =BPA!D4 -> PEGFILGRASTIMS | F4: Quotes due: | G4: =BPA!G4 -> 46321
B5: Formulary Notes
B6: Class Note(s): Prior Authorization (PA) may apply. Agents may be identified as possible candidates for special reimbursement methods, amounts, and procedures to encourage use of high-value products and discourage use of low-value products. The P&T Committee may recommend consideration of preferential status to any non-generic pharmaceutical agent by treating it for purposes of cost sharing as a generic product (Tier 1). Similarly, the P&T Committee may identify candidates to recommend for complete or partial exclusion from the TRICARE pharmacy benefit program. Step Therapy Addendum: Grandfathering: a prior authorization process requires new patients to complete an adequate trial of the step-preferred agent(s) before a non-step-preferred agent is provided to the patient at any MTF, Retail, or Mail point of service. Agents with RFQ not submitted or selected may be designated non-step preferred.
B14: Notes to Manufacturers: Do not forget to submit the Quote Review Checklist and fully executed signature pages, along with quote information. The Wholesale Acquisition Cost (WAC) is obtained from First Databank via daily price updates; it is maintained at the dispensing unit level to five (5) decimal places. If the WAC changes during a calendar quarter, an average WAC will be calculated on a daily weighted basis (per unit only). WAC is ONLY used for products that do not have a FCP, such as diabetic supplies (i.e., test strips), and can also be applied to covered drugs. *The quoted WAC Discount percentage will remain static during the life of the agreement.
B16: Additional Discount Program Appendix – Newly Approved Drug
B18: #1 | C18: DoW Uniform Formulary Class: | D18: =$D$3 -> WHITE BLOOD CELL STIMULANTS | F18: P&T Committee Meeting: | G18: =$G$3 -> November 4-5, 2026
C19: DoW Uniform Formulary Subclass: | D19: =$D$4 -> PEGFILGRASTIMS | F19: Quotes due: | G19: =$G$4 -> 46321
C20: NDC Number | D20: Drug Name | E20: Strength | F20: Dosage Form | G20: Package Size | H20: TRICARE RETAIL REFUND
B22: Formulary Scenarios | C22: Condition Set # | D22: Formulary Category | E22: One of (x) Number of Brand Agents | F22: WAC Price of Drug | G22: WAC Discount* | H22: Total Calculated Retail Refund per Package
B23: One or more agents may be placed T2 before the step.
B24: Scenario 1 | C24: 234WBPGG1T2BS1M | D24: Tier 2 Before Step Therapy | E24: 1 or more | H24: =IF(NOT(ISBLANK(G24)),F24*(G24),"")
C25: 234WBPGG1T2AS1M | D25: Tier 2 After Step Therapy | E25: 1 or more | F25: =IF(NOT(ISBLANK(F24)),F24,"") | H25: =IF(NOT(ISBLANK(G25)),F25*(G25),"")
C26: 234WBPGG1T3AS1M | D26: Tier 3 After Step Therapy | E26: 1 or more | F26: =IF(NOT(ISBLANK(F25)),F25,"") | H26: =IF(NOT(ISBLANK(G26)),F26*(G26),"")
G27: If cell highlights red, please confirm intent not to submit a quote
B29: =$B$16 -> Additional Discount Program Appendix – Newly Approved Drug
B31: #2 | C31: DoW Uniform Formulary Class: | D31: =$D$3 -> WHITE BLOOD CELL STIMULANTS | F31: P&T Committee Meeting: | G31: =$G$3 -> November 4-5, 2026
C32: DoW Uniform Formulary Subclass: | D32: =$D$4 -> PEGFILGRASTIMS | F32: Quotes due: | G32: =$G$4 -> 46321
C33: NDC Number | D33: Drug Name | E33: Strength | F33: Dosage Form | G33: =$G$20 -> Package Size | H33: TRICARE RETAIL REFUND
B35: Formulary Scenarios | C35: Condition Set # | D35: Formulary Category | E35: One of (x) Number of Brand Agents | F35: WAC Price of Drug | G35: WAC Discount* | H35: Total Calculated Retail Refund per Package
B36: =$B$23 -> One or more agents may be placed T2 before the step.
B37: Scenario 1 | C37: =C$24 -> 234WBPGG1T2BS1M | D37: =D$24 -> Tier 2 Before Step Therapy | E37: =E$24 -> 1 or more | H37: =IF(NOT(ISBLANK(G37)),F37*(G37),"")
C38: =C$25 -> 234WBPGG1T2AS1M | D38: =D$25 -> Tier 2 After Step Therapy | E38: =E$25 -> 1 or more | F38: =IF(NOT(ISBLANK(F37)),F37,"") | H38: =IF(NOT(ISBLANK(G38)),F38*(G38),"")
C39: =C$26 -> 234WBPGG1T3AS1M | D39: =D$26 -> Tier 3 After Step Therapy | E39: =E$26 -> 1 or more | F39: =IF(NOT(ISBLANK(F38)),F38,"") | H39: =IF(NOT(ISBLANK(G39)),F39*(G39),"")
G40: If cell highlights red, please confirm intent not to submit a quote
B42: =$B$16 -> Additional Discount Program Appendix – Newly Approved Drug
B44: #3 | C44: DoW Uniform Formulary Class: | D44: =$D$3 -> WHITE BLOOD CELL STIMULANTS | F44: P&T Committee Meeting: | G44: =$G$3 -> November 4-5, 2026
C45: DoW Uniform Formulary Subclass: | D45: =$D$4 -> PEGFILGRASTIMS | F45: Quotes due: | G45: =$G$4 -> 46321
C46: NDC Number | D46: Drug Name | E46: Strength | F46: Dosage Form | G46: =$G$20 -> Package Size | H46: TRICARE RETAIL REFUND
B48: Formulary Scenarios | C48: Condition Set # | D48: Formulary Category | E48: One of (x) Number of Brand Agents | F48: WAC Price of Drug | G48: WAC Discount* | H48: Total Calculated Retail Refund per Package
B49: =$B$23 -> One or more agents may be placed T2 before the step.
B50: Scenario 1 | C50: =C$24 -> 234WBPGG1T2BS1M | D50: =D$24 -> Tier 2 Before Step Therapy | E50: =E$24 -> 1 or more | H50: =IF(NOT(ISBLANK(G50)),F50*(G50),"")
C51: =C$25 -> 234WBPGG1T2AS1M | D51: =D$25 -> Tier 2 After Step Therapy | E51: =E$25 -> 1 or more | F51: =IF(NOT(ISBLANK(F50)),F50,"") | H51: =IF(NOT(ISBLANK(G51)),F51*(G51),"")
C52: =C$26 -> 234WBPGG1T3AS1M | D52: =D$26 -> Tier 3 After Step Therapy | E52: =E$26 -> 1 or more | F52: =IF(NOT(ISBLANK(F51)),F51,"") | H52: =IF(NOT(ISBLANK(G52)),F52*(G52),"")
G53: If cell highlights red, please confirm intent not to submit a quote
B55: =$B$16 -> Additional Discount Program Appendix – Newly Approved Drug
B57: #4 | C57: DoW Uniform Formulary Class: | D57: =$D$3 -> WHITE BLOOD CELL STIMULANTS | F57: P&T Committee Meeting: | G57: =$G$3 -> November 4-5, 2026
C58: DoW Uniform Formulary Subclass: | D58: =$D$4 -> PEGFILGRASTIMS | F58: Quotes due: | G58: =$G$4 -> 46321
C59: NDC Number | D59: Drug Name | E59: Strength | F59: Dosage Form | G59: =$G$20 -> Package Size | H59: TRICARE RETAIL REFUND
...
