Workbook

Sheet BPA
B2: UF BPA NDC Price List for the November 2026 DoW P&T Meeting
B3: DoW Uniform Formulary Class: | D3: WHITE BLOOD CELL STIMULANTS | F3: P&T Committee Meeting: | G3: November 4-5, 2026
B4: DoW Uniform Formulary Subclass: | D4: PEGFILGRASTIMS | F4: Quotes due: | G4: 46321
B5: Formulary Notes
B6: Class Note(s): Prior Authorization (PA) may apply. Agents may be identified as possible candidates for special reimbursement methods, amounts, and procedures to encourage use of high-value products and discourage use of low-value products. The P&T Committee may recommend consideration of preferential status to any non-generic pharmaceutical agent by treating it for purposes of cost sharing as a generic product (Tier 1). Similarly, the P&T Committee may identify candidates to recommend for complete or partial exclusion from the TRICARE pharmacy benefit program. Step Therapy Addendum: Grandfathering: a prior authorization process requires new patients to complete an adequate trial of the step-preferred agent(s) before a non-step-preferred agent is provided to the patient at any MTF, Retail, or Mail point of service. Agents with RFQ not submitted or selected may be designated non-step preferred
B14: Notes to Manufacturers: Do not forget to submit the Quote Review Checklist and fully executed signature pages, along with quote information. The price per unit of measure for a given dosage form and strength (each, gram, mL, etc.) of the pharmaceutical agent will be the same for all available package sizes (e.g., 30s, 100s, 1000s) within a given dispensing venue.
B16: Blanket Purchase Agreement Appendix – Newly Approved Drug
B18: #1 | C18: DoW Uniform Formulary Class: | D18: =$D$3 -> WHITE BLOOD CELL STIMULANTS | F18: P&T Committee Meeting: | G18: =$G$3 -> November 4-5, 2026
C19: DoW Uniform Formulary Subclass: | D19: =$D$4 -> PEGFILGRASTIMS | F19: Quotes due: | G19: =$G$4 -> 46321
C20: NDC Number | D20: Drug Name | E20: Strength | F20: Dosage Form | G20: Package Size | H20: Military Treatment Facility & Mail Order
B22: Formulary Scenarios | C22: Condition Set # | D22: Formulary Category Description | E22: One of (x) Number of Brand Agents | F22: Price per NDC | G22: Package Size | H22: Price per Unit
B23: One or more agents may be placed UF before the step.
B24: Scenario 1 | C24: 234WBPGG1UFBS1M | D24: Uniform Formulary Before Step Therapy | E24: 1 or more | H24: =IF(ISBLANK(F24),"NO QUOTE", IF(F24=0,"NO QUOTE",IF(NOT(ISBLANK(F24)),F24/G24, ""))) -> NO QUOTE
C25: 234WBPGG1UFAS1M | D25: Uniform Formulary After Step Therapy | E25: 1 or more | G25: =IF(NOT(ISBLANK($G21)),$G21,"") | H25: =IF(ISBLANK(F25),"NO QUOTE", IF(F25=0,"NO QUOTE",IF(NOT(ISBLANK(F25)),F25/G25, ""))) -> NO QUOTE
C26: 234WBPGG1NFAS1M | D26: Non-Formulary After Step Therapy | E26: 1 or more | G26: =IF(NOT(ISBLANK($G21)),$G21,"") | H26: =IF(ISBLANK(F26),"NO QUOTE", IF(F26=0,"NO QUOTE",IF(NOT(ISBLANK(F26)),F26/G26, ""))) -> NO QUOTE
F27: If cell highlights red, please confirm intent not to submit a quote
B29: =$B$16 -> Blanket Purchase Agreement Appendix – Newly Approved Drug
B31: #2 | C31: DoW Uniform Formulary Class: | D31: =$D$3 -> WHITE BLOOD CELL STIMULANTS | F31: P&T Committee Meeting: | G31: =$G$3 -> November 4-5, 2026
C32: DoW Uniform Formulary Subclass: | D32: =$D$4 -> PEGFILGRASTIMS | F32: Quotes due: | G32: =$G$4 -> 46321
C33: NDC Number | D33: Drug Name | E33: Strength | F33: Dosage Form | G33: Package Size | H33: Military Treatment Facility & Mail Order
B35: Formulary Scenarios | C35: Condition Set # | D35: Formulary Category Description | E35: One of (x) Number of Brand Agents | F35: Price per NDC | G35: Package Size | H35: Price per Unit
B36: =$B$23 -> One or more agents may be placed UF before the step.
B37: Scenario 1 | C37: =C$24 -> 234WBPGG1UFBS1M | D37: =D$24 -> Uniform Formulary Before Step Therapy | E37: =E$24 -> 1 or more | G37: =IF(NOT(ISBLANK($G34)),$G34,"") | H37: =IF(ISBLANK(F37),"NO QUOTE", IF(F37=0,"NO QUOTE",IF(NOT(ISBLANK(F37)),F37/G37, ""))) -> NO QUOTE
C38: =C$25 -> 234WBPGG1UFAS1M | D38: =D$25 -> Uniform Formulary After Step Therapy | E38: =E$25 -> 1 or more | G38: =IF(NOT(ISBLANK($G34)),$G34,"") | H38: =IF(ISBLANK(F38),"NO QUOTE", IF(F38=0,"NO QUOTE",IF(NOT(ISBLANK(F38)),F38/G38, ""))) -> NO QUOTE
C39: =C$26 -> 234WBPGG1NFAS1M | D39: =D$26 -> Non-Formulary After Step Therapy | E39: =E$26 -> 1 or more | G39: =IF(NOT(ISBLANK($G34)),$G34,"") | H39: =IF(ISBLANK(F39),"NO QUOTE", IF(F39=0,"NO QUOTE",IF(NOT(ISBLANK(F39)),F39/G39, ""))) -> NO QUOTE
F40: If cell highlights red, please confirm intent not to submit a quote
B42: =$B$16 -> Blanket Purchase Agreement Appendix – Newly Approved Drug
B44: #3 | C44: DoW Uniform Formulary Class: | D44: =$D$3 -> WHITE BLOOD CELL STIMULANTS | F44: P&T Committee Meeting: | G44: =$G$3 -> November 4-5, 2026
C45: DoW Uniform Formulary Subclass: | D45: =$D$4 -> PEGFILGRASTIMS | F45: Quotes due: | G45: =$G$4 -> 46321
C46: NDC Number | D46: Drug Name | E46: Strength | F46: Dosage Form | G46: Package Size | H46: Military Treatment Facility & Mail Order
B48: Formulary Scenarios | C48: Condition Set # | D48: Formulary Category Description | E48: One of (x) Number of Brand Agents | F48: Price per NDC | G48: Package Size | H48: Price per Unit
B49: =$B$23 -> One or more agents may be placed UF before the step.
B50: Scenario 1 | C50: =C$24 -> 234WBPGG1UFBS1M | D50: =D$24 -> Uniform Formulary Before Step Therapy | E50: =E$24 -> 1 or more | G50: =IF(NOT(ISBLANK($G47)),$G47,"") | H50: =IF(ISBLANK(F50),"NO QUOTE", IF(F50=0,"NO QUOTE",IF(NOT(ISBLANK(F50)),F50/G50, ""))) -> NO QUOTE
C51: =C$25 -> 234WBPGG1UFAS1M | D51: =D$25 -> Uniform Formulary After Step Therapy | E51: =E$25 -> 1 or more | G51: =IF(NOT(ISBLANK($G47)),$G47,"") | H51: =IF(ISBLANK(F51),"NO QUOTE", IF(F51=0,"NO QUOTE",IF(NOT(ISBLANK(F51)),F51/G51, ""))) -> NO QUOTE
C52: =C$26 -> 234WBPGG1NFAS1M | D52: =D$26 -> Non-Formulary After Step Therapy | E52: =E$26 -> 1 or more | G52: =IF(NOT(ISBLANK($G47)),$G47,"") | H52: =IF(ISBLANK(F52),"NO QUOTE", IF(F52=0,"NO QUOTE",IF(NOT(ISBLANK(F52)),F52/G52, ""))) -> NO QUOTE
F53: If cell highlights red, please confirm intent not to submit a quote
B55: =$B$16 -> Blanket Purchase Agreement Appendix – Newly Approved Drug
B57: #4 | C57: DoW Uniform Formulary Class: | D57: =$D$3 -> WHITE BLOOD CELL STIMULANTS | F57: P&T Committee Meeting: | G57: =$G$3 -> November 4-5, 2026
C58: DoW Uniform Formulary Subclass: | D58: =$D$4 -> PEGFILGRASTIMS | F58: Quotes due: | G58: =$G$4 -> 46321
C59: NDC Number | D59: Drug Name | E59: Strength | F59: Dosage Form | G59: Package Size | H59: Military Treatment Facility & Mail Order
B61: Formulary Scenarios | C61: Condition Set # | D61: Formulary Category Description | E61: One of (x) Number of Brand Agents | F61: Price per NDC | G61: Package Size | H61: Price per Unit
B62: =$B$23 -> One or more agents may be placed UF before the step.
B63: Scenario 1 | C63: =C$24 -> 234WBPGG1UFBS1M | D63: =D$24 -> Uniform Formulary Before Step Therapy | E63: =E$24 -> 1 or more | G63: =IF(NOT(ISBLANK($G60)),$G60,"") | H63: =IF(ISBLANK(F63),"NO QUOTE", IF(F63=0,"NO QUOTE",IF(NOT(ISBLANK(F63)),F63/G63, ""))) -> NO QUOTE
C64: =C$25 -> 234WBPGG1UFAS1M | D64: =D$25 -> Uniform Formulary After Step Therapy | E64: =E$25 -> 1 or more | G64: =IF(NOT(ISBLANK($G60)),$G60,"") | H64: =IF(ISBLANK(F64),"NO QUOTE", IF(F64=0,"NO QUOTE",IF(NOT(ISBLANK(F64)),F64/G64, ""))) -> NO QUOTE
C65: =C$26 -> 234WBPGG1NFAS1M | D65: =D$26 -> Non-Formulary After Step Therapy | E65: =E$26 -> 1 or more | G65: =IF(NOT(ISBLANK($G60)),$G60,"") | H65: =IF(ISBLANK(F65),"NO QUOTE", IF(F65=0,"NO QUOTE",IF(NOT(ISBLANK(F65)),F65/G65, ""))) -> NO QUOTE
F66: If cell highlights red, please confirm intent not to submit a quote
B68: =$B$16 -> Blanket Purchase Agreement Appendix – Newly Approved Drug
B70: #5 | C70: DoW Uniform Formulary Class: | D70: =$D$3 -> WHITE BLOOD CELL STIMULANTS | F70: P&T Committee Meeting: | G70: =$G$3 -> November 4-5, 2026
C71: DoW Uniform Formulary Subclass: | D71: =$D$4 -> PEGFILGRASTIMS | F71: Quotes due: | G71: =$G$4 -> 46321
C72: NDC Number | D72: Drug Name | E72: Strength | F72: Dosage Form | G72: Package Size | H72: Military Treatment Facility & Mail Order
B74: Formulary Scenarios | C74: Condition Set # | D74: Formulary Category Description | E74: One of (x) Number of Brand Agents | F74: Price per NDC | G74: Package Size | H74: Price per Unit
B75: =$B$23 -> One or more agents may be placed UF before the step.
B76: Scenario 1 | C76: =C$24 -> 234WBPGG1UFBS1M | D76: =D$24 -> Uniform Formulary Before Step Therapy | E76: =E$24 -> 1 or more | G76: =IF(NOT(ISBLANK($G73)),$G73,"") | H76: =IF(ISBLANK(F76),"NO QUOTE", IF(F76=0,"NO QUOTE",IF(NOT(ISBLANK(F76)),F76/G76, ""))) -> NO QUOTE
C77: =C$25 -> 234WBPGG1UFAS1M | D77: =D$25 -> Uniform Formulary After Step Therapy | E77: =E$25 -> 1 or more | G77: =IF(NOT(ISBLANK($G73)),$G73,"") | H77: =IF(ISBLANK(F77),"NO QUOTE", IF(F77=0,"NO QUOTE",IF(NOT(ISBLANK(F77)),F77/G77, ""))) -> NO QUOTE
C78: =C$26 -> 234WBPGG1NFAS1M | D78: =D$26 -> Non-Formulary After Step Therapy | E78: =E$26 -> 1 or more | G78: =IF(NOT(ISBLANK($G73)),$G73,"") | H78: =IF(ISBLANK(F78),"NO QUOTE", IF(F78=0,"NO QUOTE",IF(NOT(ISBLANK(F78)),F78/G78, ""))) -> NO QUOTE
F79: If cell highlights red, please confirm intent not to submit a quote
B81: =$B$16 -> Blanket Purchase Agreement Appendix – Newly Approved Drug
B83: #6 | C83: DoW Uniform Formulary Class: | D83: =$D$3 -> WHITE BLOOD CELL STIMULANTS | F83: P&T Committee Meeting: | G83: =$G$3 -> November 4-5, 2026
C84: DoW Uniform Formulary Subclass: | D84: =$D$4 -> PEGFILGRASTIMS | F84: Quotes due: | G84: =$G$4 -> 46321
C85: NDC Number | D85: Drug Name | E85: Strength | F85: Dosage Form | G85: Package Size | H85: Military Treatment Facility & Mail Order
B87: Formulary Scenarios | C87: Condition Set # | D87: Formulary Category Description | E87: One of (x) Number of Brand Agents | F87: Price per NDC | G87: Package Size | H87: Price per Unit
B88: =$B$23 -> One or more agents may be placed UF before the step.
B89: Scenario 1 | C89: =C$24 -> 234WBPGG1UFBS1M | D89: =D$24 -> Uniform Formulary Before Step Therapy | E89: =E$24 -> 1 or more | G89: =IF(NOT(ISBLANK($G86)),$G86,"") | H89: =IF(ISBLANK(F89),"NO QUOTE", IF(F89=0,"NO QUOTE",IF(NOT(ISBLANK(F89)),F89/G89, ""))) -> NO QUOTE
C90: =C$25 -> 234WBPGG1UFAS1M | D90: =D$25 -> Uniform Formulary After Step Therapy | E90: =E$25 -> 1 or more | G90: =IF(NOT(ISBLANK($G86)),$G86,"") | H90: =IF(ISBLANK(F90),"NO QUOTE", IF(F90=0,"NO QUOTE",IF(NOT(ISBLANK(F90)),F90/G90, ""))) -> NO QUOTE
C91: =C$26 -> 234WBPGG1NFAS1M | D91: =D$26 -> Non-Formulary After Step Therapy | E91: =E$26 -> 1 or more | G91: =IF(NOT(ISBLANK($G86)),$G86,"") | H91: =IF(ISBLANK(F91),"NO QUOTE", IF(F91=0,"NO QUOTE",IF(NOT(ISBLANK(F91)),F91/G91, ""))) -> NO QUOTE
F92: If cell highlights red, please confirm intent not to submit a quote
B94: =$B$16 -> Blanket Purchase Agreement Appendix – Newly Approved Drug
B96: #7 | C96: DoW Uniform Formulary Class: | D96: =$D$3 -> WHITE BLOOD CELL STIMULANTS | F96: P&T Committee Meeting: | G96: =$G$3 -> November 4-5, 2026
C97: DoW Uniform Formulary Subclass: | D97: =$D$4 -> PEGFILGRASTIMS | F97: Quotes due: | G97: =$G$4 -> 46321
C98: NDC Number | D98: Drug Name | E98: Strength | F98: Dosage Form | G98: Package Size | H98: Military Treatment Facility & Mail Order
B100: Formulary Scenarios | C100: Condition Set # | D100: Formulary Category Description | E100: One of (x) Number of Brand Agents | F100: Price per NDC | G100: Package Size | H100: Price per Unit
B101: =$B$23 -> One or more agents may be placed UF before the step.
B102: Scenario 1 | C102: =C$24 -> 234WBPGG1UFBS1M | D102: =D$24 -> Uniform Formulary Before Step Therapy | E102: =E$24 -> 1 or more | G102: =IF(NOT(ISBLANK($G99)),$G99,"") | H102: =IF(ISBLANK(F102),"NO QUOTE", IF(F102=0,"NO QUOTE",IF(NOT(ISBLANK(F102)),F102/G102, ""))) -> NO QUOTE
C103: =C$25 -> 234WBPGG1UFAS1M | D103: =D$25 -> Uniform Formulary After Step Therapy | E103: =E$25 -> 1 or more | G103: =IF(NOT(ISBLANK($G99)),$G99,"") | H103: =IF(ISBLANK(F103),"NO QUOTE", IF(F103=0,"NO QUOTE",IF(NOT(ISBLANK(F103)),F103/G103, ""))) -> NO QUOTE
C104: =C$26 -> 234WBPGG1NFAS1M | D104: =D$26 -> Non-Formulary After Step Therapy | E104: =E$26 -> 1 or more | G104: =IF(NOT(ISBLANK($G99)),$G99,"") | H104: =IF(ISBLANK(F104),"NO QUOTE", IF(F104=0,"NO QUOTE",IF(NOT(ISBLANK(F104)),F104/G104, ""))) -> NO QUOTE
F105: If cell highlights red, please confirm intent not to submit a quote
B107: =$B$16 -> Blanket Purchase Agreement Appendix – Newly Approved Drug
B109: #8 | C109: DoW Uniform Formulary Class: | D109: =$D$3 -> WHITE BLOOD CELL STIMULANTS | F109: P&T Committee Meeting: | G109: =$G$3 -> November 4-5, 2026
C110: DoW Uniform Formulary Subclass: | D110: =$D$4 -> PEGFILGRASTIMS | F110: Quotes due: | G110: =$G$4 -> 46321
C111: NDC Number | D111: Drug Name | E111: Strength | F111: Dosage Form | G111: Package Size | H111: Military Treatment Facility & Mail Order
B113: Formulary Scenarios | C113: Condition Set # | D113: Formulary Category Description | E113: One of (x) Number of Brand Agents | F113: Price per NDC | G113: Package Size | H113: Price per Unit
B114: =$B$23 -> One or more agents may be placed UF before the step.
B115: Scenario 1 | C115: =C$24 -> 234WBPGG1UFBS1M | D115: =D$24 -> Uniform Formulary Before Step Therapy | E115: =E$24 -> 1 or more | G115: =IF(NOT(ISBLANK($G112)),$G112,"") | H115: =IF(ISBLANK(F115),"NO QUOTE", IF(F115=0,"NO QUOTE",IF(NOT(ISBLANK(F115)),F115/G115, ""))) -> NO QUOTE
C116: =C$25 -> 234WBPGG1UFAS1M | D116: =D$25 -> Uniform Formulary After Step Therapy | E116: =E$25 -> 1 or more | G116: =IF(NOT(ISBLANK($G112)),$G112,"") | H116: =IF(ISBLANK(F116),"NO QUOTE", IF(F116=0,"NO QUOTE",IF(NOT(ISBLANK(F116)),F116/G116, ""))) -> NO QUOTE
C117: =C$26 -> 234WBPGG1NFAS1M | D117: =D$26 -> Non-Formulary After Step Therapy | E117: =E$26 -> 1 or more | G117: =IF(NOT(ISBLANK($G112)),$G112,"") | H117: =IF(ISBLANK(F117),"NO QUOTE", IF(F117=0,"NO QUOTE",IF(NOT(ISBLANK(F117)),F117/G117, ""))) -> NO QUOTE
F118: If cell highlights red, please confirm intent not to submit a quote
B120: =$B$16 -> Blanket Purchase Agreement Appendix – Newly Approved Drug
B122: #9 | C122: DoW Uniform Formulary Class: | D122: =$D$3 -> WHITE BLOOD CELL STIMULANTS | F122: P&T Committee Meeting: | G122: =$G$3 -> November 4-5, 2026
C123: DoW Uniform Formulary Subclass: | D123: =$D$4 -> PEGFILGRASTIMS | F123: Quotes due: | G123: =$G$4 -> 46321
C124: NDC Number | D124: Drug Name | E124: Strength | F124: Dosage Form | G124: Package Size | H124: Military Treatment Facility & Mail Order
B126: Formulary Scenarios | C126: Condition Set # | D126: Formulary Category Description | E126: One of (x) Number of Brand Agents | F126: Price per NDC | G126: Package Size | H126: Price per Unit
B127: =$B$23 -> One or more agents may be placed UF before the step.
B128: Scenario 1 | C128: =C$24 -> 234WBPGG1UFBS1M | D128: =D$24 -> Uniform Formulary Before Step Therapy | E128: =E$24 -> 1 or more | G128: =IF(NOT(ISBLANK($G125)),$G125,"") | H128: =IF(ISBLANK(F128),"NO QUOTE", IF(F128=0,"NO QUOTE",IF(NOT(ISBLANK(F128)),F128/G128, ""))) -> NO QUOTE
C129: =C$25 -> 234WBPGG1UFAS1M | D129: =D$25 -> Uniform Formulary After Step Therapy | E129: =E$25 -> 1 or more | G129: =IF(NOT(ISBLANK($G125)),$G125,"") | H129: =IF(ISBLANK(F129),"NO QUOTE", IF(F129=0,"NO QUOTE",IF(NOT(ISBLANK(F129)),F129/G129, ""))) -> NO QUOTE
C130: =C$26 -> 234WBPGG1NFAS1M | D130: =D$26 -> Non-Formulary After Step Therapy | E130: =E$26 -> 1 or more | G130: =IF(NOT(ISBLANK($G125)),$G125,"") | H130: =IF(ISBLANK(F130),"NO QUOTE", IF(F130=0,"NO QUOTE",IF(NOT(ISBLANK(F130)),F130/G130, ""))) -> NO QUOTE
F131: If cell highlights red, please confirm intent not to submit a quote
B133: =$B$16 -> Blanket Purchase Agreement Appendix – Newly Approved Drug
B135: #10 | C135: DoW Uniform Formulary Class: | D135: =$D$3 -> WHITE BLOOD CELL STIMULANTS | F135: P&T Committee Meeting: | G135: =$G$3 -> November 4-5, 2026
C136: DoW Uniform Formulary Subclass: | D136: =$D$4 -> PEGFILGRASTIMS | F136: Quotes due: | G136: =$G$4 -> 46321
C137: NDC Number | D137: Drug Name | E137: Strength | F137: Dosage Form | G137: Package Size | H137: Military Treatment Facility & Mail Order
...

Sheet ADP (non-FAMP Discount)
B2: UF ADP Appendix for the November 2026 DoW P&T Meeting
B3: DoW Uniform Formulary Class: | D3: =BPA!$D$3 -> WHITE BLOOD CELL STIMULANTS | G3: P&T Committee Meeting: | H3: =BPA!$G$3 -> November 4-5, 2026
B4: DoW Uniform Formulary Subclass: | D4: =BPA!$D$4 -> PEGFILGRASTIMS | G4: Quotes due: | H4: =BPA!$G$4 -> 46321
B5: Formulary Notes
B6: Class Note(s): Prior Authorization (PA) may apply. Agents may be identified as possible candidates for special reimbursement methods, amounts, and procedures to encourage use of high-value products and discourage use of low-value products. The P&T Committee may recommend consideration of preferential status to any non-generic pharmaceutical agent by treating it for purposes of cost sharing as a generic product (Tier 1). Similarly, the P&T Committee may identify candidates to recommend for complete or partial exclusion from the TRICARE pharmacy benefit program. Step Therapy Addendum: Grandfathering: a prior authorization process requires new patients to complete an adequate trial of the step-preferred agent(s) before a non-step-preferred agent is provided to the patient at any MTF, Retail, or Mail point of service. Agents with RFQ not submitted or selected may be designated non-step preferred.
B14: Notes to Manufacturers: Do not forget to submit the Quote Review Checklist and fully executed signature pages, along with quote information. * Total Calculated Refund Per FCP is calculated as: ((non-FAMP-FCP)+(non-FAMP*Y%)) = Total Calculated Refund **Based on the most recent annual non-FAMP (reported to the Department of Veterans Affairs) from which the current annual Federal Ceiling Price (FCP) calculated ceiling is derived. The current annual FCP and the annual non-FAMP from which it is derived will be applicable to all prescriptions filled during a calendar year. The quoted additional refund percentage will remain static during the life of the agreement but the most recent annual non-FAMP, and thus the calculated refund, may change each calendar year.
B16: Additional Discount Program Appendix – Newly Approved Drug
B18: #1 | C18: DoW Uniform Formulary Class: | E18: =$D$3 -> WHITE BLOOD CELL STIMULANTS | G18: P&T Committee Meeting: | I18: =$H$3 -> November 4-5, 2026
C19: DoW Uniform Formulary Subclass: | E19: =$D$4 -> PEGFILGRASTIMS | G19: Quotes due: | I19: =$H$4 -> 46321
C20: NDC Number | D20: Drug Name | E20: Strength | F20: Dosage Form | G20: Package Size | H20: TRICARE RETAIL REFUND
B22: Formulary Scenarios | C22: Condition Set # | D22: Formulary Category Description | E22: One of (x) Number of Brand Agents | F22: Non-FAMP Price of Drug Per FCP Package** | G22: Additional Offered Refund Per FCP Package** | H22: Current Annual Federal Ceiling Price Per FCP Package** | I22: Standard Refund Per FCP | J22: Total Calculated Retail Refund Per FCP Package*
B23: One or more agents may be placed T2 before the step.
B24: Scenario 1 | C24: 234WBPGG1T2BS1M | D24: Tier 2 Before Step Therapy | E24: 1 or more | I24: =IF(NOT(ISBLANK(H24)),F24-H24,"") | J24: =IF(NOT(ISBLANK(H24)),((1+G24)*F24-H24), "")
C25: 234WBPGG1T2AS1M | D25: Tier 2 After Step Therapy | E25: 1 or more | F25: =IF(NOT(ISBLANK(F24)),F24,"") | H25: =IF(NOT(ISBLANK(H24)),H24,"") | I25: =IFERROR(F25-H25, "") | J25: =IFERROR(((1+G25)*F25-H25), "")
C26: 234WBPGG1T3AS1M | D26: Tier 3 After Step Therapy | E26: 1 or more | F26: =IF(NOT(ISBLANK(F25)),F25,"") | H26: =IF(NOT(ISBLANK(H25)),H25,"") | I26: =IFERROR(F26-H26, "") | J26: =IFERROR(((1+G26)*F26-H26), "")
G27: If cell highlights red, please confirm intent not to submit a quote
B29: =$B$16 -> Additional Discount Program Appendix – Newly Approved Drug
B31: #2 | C31: DoW Uniform Formulary Class: | E31: =$D$3 -> WHITE BLOOD CELL STIMULANTS | G31: P&T Committee Meeting: | I31: =$H$3 -> November 4-5, 2026
C32: DoW Uniform Formulary Subclass: | E32: =$D$4 -> PEGFILGRASTIMS | G32: Quotes due: | I32: =$H$4 -> 46321
C33: NDC Number | D33: Drug Name | E33: Strength | F33: Dosage Form | G33: =$G$20 -> Package Size | H33: TRICARE RETAIL REFUND
B35: Formulary Scenarios | C35: Condition Set # | D35: Formulary Category Description | E35: One of (x) Number of Brand Agents | F35: Non-FAMP Price of Drug Per FCP Package** | G35: Additional Offered Refund Per FCP Package** | H35: Current Annual Federal Ceiling Price Per FCP Package** | I35: Standard Refund Per FCP | J35: Total Calculated Retail Refund Per FCP Package*
B36: =$B$23 -> One or more agents may be placed T2 before the step.
B37: Scenario 1 | C37: =C$24 -> 234WBPGG1T2BS1M | D37: =D$24 -> Tier 2 Before Step Therapy | E37: =E$24 -> 1 or more | I37: =IF(NOT(ISBLANK(H37)),F37-H37,"") | J37: =IF(NOT(ISBLANK(H37)),((1+G37)*F37-H37), "")
C38: =C$25 -> 234WBPGG1T2AS1M | D38: =D$25 -> Tier 2 After Step Therapy | E38: =E$25 -> 1 or more | F38: =IF(NOT(ISBLANK(F37)),F37,"") | H38: =IF(NOT(ISBLANK(H37)),H37,"") | I38: =IFERROR(F38-H38, "") | J38: =IFERROR(((1+G38)*F38-H38), "")
C39: =C$26 -> 234WBPGG1T3AS1M | D39: =D$26 -> Tier 3 After Step Therapy | E39: =E$26 -> 1 or more | F39: =IF(NOT(ISBLANK(F38)),F38,"") | H39: =IF(NOT(ISBLANK(H38)),H38,"") | I39: =IFERROR(F39-H39, "") | J39: =IFERROR(((1+G39)*F39-H39), "")
G40: If cell highlights red, please confirm intent not to submit a quote
B42: =$B$16 -> Additional Discount Program Appendix – Newly Approved Drug
B44: #3 | C44: DoW Uniform Formulary Class: | E44: =$D$3 -> WHITE BLOOD CELL STIMULANTS | G44: P&T Committee Meeting: | I44: =$H$3 -> November 4-5, 2026
C45: DoW Uniform Formulary Subclass: | E45: =$D$4 -> PEGFILGRASTIMS | G45: Quotes due: | I45: =$H$4 -> 46321
C46: NDC Number | D46: Drug Name | E46: Strength | F46: Dosage Form | G46: =$G$20 -> Package Size | H46: TRICARE RETAIL REFUND
B48: Formulary Scenarios | C48: Condition Set # | D48: Formulary Category Description | E48: One of (x) Number of Brand Agents | F48: Non-FAMP Price of Drug Per FCP Package** | G48: Additional Offered Refund Per FCP Package** | H48: Current Annual Federal Ceiling Price Per FCP Package** | I48: Standard Refund Per FCP | J48: Total Calculated Retail Refund Per FCP Package*
B49: =$B$23 -> One or more agents may be placed T2 before the step.
B50: Scenario 1 | C50: =C$24 -> 234WBPGG1T2BS1M | D50: =D$24 -> Tier 2 Before Step Therapy | E50: =E$24 -> 1 or more | I50: =IF(NOT(ISBLANK(H50)),F50-H50,"") | J50: =IF(NOT(ISBLANK(H50)),((1+G50)*F50-H50), "")
C51: =C$25 -> 234WBPGG1T2AS1M | D51: =D$25 -> Tier 2 After Step Therapy | E51: =E$25 -> 1 or more | F51: =IF(NOT(ISBLANK(F50)),F50,"") | H51: =IF(NOT(ISBLANK(H50)),H50,"") | I51: =IFERROR(F51-H51, "") | J51: =IFERROR(((1+G51)*F51-H51), "")
C52: =C$26 -> 234WBPGG1T3AS1M | D52: =D$26 -> Tier 3 After Step Therapy | E52: =E$26 -> 1 or more | F52: =IF(NOT(ISBLANK(F51)),F51,"") | H52: =IF(NOT(ISBLANK(H51)),H51,"") | I52: =IFERROR(F52-H52, "") | J52: =IFERROR(((1+G52)*F52-H52), "")
G53: If cell highlights red, please confirm intent not to submit a quote
B55: =$B$16 -> Additional Discount Program Appendix – Newly Approved Drug
B57: #4 | C57: DoW Uniform Formulary Class: | E57: =$D$3 -> WHITE BLOOD CELL STIMULANTS | G57: P&T Committee Meeting: | I57: =$H$3 -> November 4-5, 2026
C58: DoW Uniform Formulary Subclass: | E58: =$D$4 -> PEGFILGRASTIMS | G58: Quotes due: | I58: =$H$4 -> 46321
C59: NDC Number | D59: Drug Name | E59: Strength | F59: Dosage Form | G59: =$G$20 -> Package Size | H59: TRICARE RETAIL REFUND
B61: Formulary Scenarios | C61: Condition Set # | D61: Formulary Category Description | E61: One of (x) Number of Brand Agents | F61: Non-FAMP Price of Drug Per FCP Package** | G61: Additional Offered Refund Per FCP Package** | H61: Current Annual Federal Ceiling Price Per FCP Package** | I61: Standard Refund Per FCP | J61: Total Calculated Retail Refund Per FCP Package*
B62: =$B$23 -> One or more agents may be placed T2 before the step.
B63: Scenario 1 | C63: =C$24 -> 234WBPGG1T2BS1M | D63: =D$24 -> Tier 2 Before Step Therapy | E63: =E$24 -> 1 or more | I63: =IF(NOT(ISBLANK(H63)),F63-H63,"") | J63: =IF(NOT(ISBLANK(H63)),((1+G63)*F63-H63), "")
C64: =C$25 -> 234WBPGG1T2AS1M | D64: =D$25 -> Tier 2 After Step Therapy | E64: =E$25 -> 1 or more | F64: =IF(NOT(ISBLANK(F63)),F63,"") | H64: =IF(NOT(ISBLANK(H63)),H63,"") | I64: =IFERROR(F64-H64, "") | J64: =IFERROR(((1+G64)*F64-H64), "")
C65: =C$26 -> 234WBPGG1T3AS1M | D65: =D$26 -> Tier 3 After Step Therapy | E65: =E$26 -> 1 or more | F65: =IF(NOT(ISBLANK(F64)),F64,"") | H65: =IF(NOT(ISBLANK(H64)),H64,"") | I65: =IFERROR(F65-H65, "") | J65: =IFERROR(((1+G65)*F65-H65), "")
G66: If cell highlights red, please confirm intent not to submit a quote
B68: =$B$16 -> Additional Discount Program Appendix – Newly Approved Drug
B70: #5 | C70: DoW Uniform Formulary Class: | E70: =$D$3 -> WHITE BLOOD CELL STIMULANTS | G70: P&T Committee Meeting: | I70: =$H$3 -> November 4-5, 2026
C71: DoW Uniform Formulary Subclass: | E71: =$D$4 -> PEGFILGRASTIMS | G71: Quotes due: | I71: =$H$4 -> 46321
C72: NDC Number | D72: Drug Name | E72: Strength | F72: Dosage Form | G72: =$G$20 -> Package Size | H72: TRICARE RETAIL REFUND
B74: Formulary Scenarios | C74: Condition Set # | D74: Formulary Category Description | E74: One of (x) Number of Brand Agents | F74: Non-FAMP Price of Drug Per FCP Package** | G74: Additional Offered Refund Per FCP Package** | H74: Current Annual Federal Ceiling Price Per FCP Package** | I74: Standard Refund Per FCP | J74: Total Calculated Retail Refund Per FCP Package*
B75: =$B$23 -> One or more agents may be placed T2 before the step.
B76: Scenario 1 | C76: =C$24 -> 234WBPGG1T2BS1M | D76: =D$24 -> Tier 2 Before Step Therapy | E76: =E$24 -> 1 or more | I76: =IF(NOT(ISBLANK(H76)),F76-H76,"") | J76: =IF(NOT(ISBLANK(H76)),((1+G76)*F76-H76), "")
C77: =C$25 -> 234WBPGG1T2AS1M | D77: =D$25 -> Tier 2 After Step Therapy | E77: =E$25 -> 1 or more | F77: =IF(NOT(ISBLANK(F76)),F76,"") | H77: =IF(NOT(ISBLANK(H76)),H76,"") | I77: =IFERROR(F77-H77, "") | J77: =IFERROR(((1+G77)*F77-H77), "")
C78: =C$26 -> 234WBPGG1T3AS1M | D78: =D$26 -> Tier 3 After Step Therapy | E78: =E$26 -> 1 or more | F78: =IF(NOT(ISBLANK(F77)),F77,"") | H78: =IF(NOT(ISBLANK(H77)),H77,"") | I78: =IFERROR(F78-H78, "") | J78: =IFERROR(((1+G78)*F78-H78), "")
G79: If cell highlights red, please confirm intent not to submit a quote
B81: =$B$16 -> Additional Discount Program Appendix – Newly Approved Drug
B83: #6 | C83: DoW Uniform Formulary Class: | E83: =$D$3 -> WHITE BLOOD CELL STIMULANTS | G83: P&T Committee Meeting: | I83: =$H$3 -> November 4-5, 2026
C84: DoW Uniform Formulary Subclass: | E84: =$D$4 -> PEGFILGRASTIMS | G84: Quotes due: | I84: =$H$4 -> 46321
C85: NDC Number | D85: Drug Name | E85: Strength | F85: Dosage Form | G85: =$G$20 -> Package Size | H85: TRICARE RETAIL REFUND
B87: Formulary Scenarios | C87: Condition Set # | D87: Formulary Category Description | E87: One of (x) Number of Brand Agents | F87: Non-FAMP Price of Drug Per FCP Package** | G87: Additional Offered Refund Per FCP Package** | H87: Current Annual Federal Ceiling Price Per FCP Package** | I87: Standard Refund Per FCP | J87: Total Calculated Retail Refund Per FCP Package*
B88: =$B$23 -> One or more agents may be placed T2 before the step.
B89: Scenario 1 | C89: =C$24 -> 234WBPGG1T2BS1M | D89: =D$24 -> Tier 2 Before Step Therapy | E89: =E$24 -> 1 or more | I89: =IF(NOT(ISBLANK(H89)),F89-H89,"") | J89: =IF(NOT(ISBLANK(H89)),((1+G89)*F89-H89), "")
C90: =C$25 -> 234WBPGG1T2AS1M | D90: =D$25 -> Tier 2 After Step Therapy | E90: =E$25 -> 1 or more | F90: =IF(NOT(ISBLANK(F89)),F89,"") | H90: =IF(NOT(ISBLANK(H89)),H89,"") | I90: =IFERROR(F90-H90, "") | J90: =IFERROR(((1+G90)*F90-H90), "")
C91: =C$26 -> 234WBPGG1T3AS1M | D91: =D$26 -> Tier 3 After Step Therapy | E91: =E$26 -> 1 or more | F91: =IF(NOT(ISBLANK(F90)),F90,"") | H91: =IF(NOT(ISBLANK(H90)),H90,"") | I91: =IFERROR(F91-H91, "") | J91: =IFERROR(((1+G91)*F91-H91), "")
G92: If cell highlights red, please confirm intent not to submit a quote
B94: =$B$16 -> Additional Discount Program Appendix – Newly Approved Drug
B96: #7 | C96: DoW Uniform Formulary Class: | E96: =$D$3 -> WHITE BLOOD CELL STIMULANTS | G96: P&T Committee Meeting: | I96: =$H$3 -> November 4-5, 2026
C97: DoW Uniform Formulary Subclass: | E97: =$D$4 -> PEGFILGRASTIMS | G97: Quotes due: | I97: =$H$4 -> 46321
C98: NDC Number | D98: Drug Name | E98: Strength | F98: Dosage Form | G98: =$G$20 -> Package Size | H98: TRICARE RETAIL REFUND
B100: Formulary Scenarios | C100: Condition Set # | D100: Formulary Category Description | E100: One of (x) Number of Brand Agents | F100: Non-FAMP Price of Drug Per FCP Package** | G100: Additional Offered Refund Per FCP Package** | H100: Current Annual Federal Ceiling Price Per FCP Package** | I100: Standard Refund Per FCP | J100: Total Calculated Retail Refund Per FCP Package*
B101: =$B$23 -> One or more agents may be placed T2 before the step.
B102: Scenario 1 | C102: =C$24 -> 234WBPGG1T2BS1M | D102: =D$24 -> Tier 2 Before Step Therapy | E102: =E$24 -> 1 or more | I102: =IF(NOT(ISBLANK(H102)),F102-H102,"") | J102: =IF(NOT(ISBLANK(H102)),((1+G102)*F102-H102), "")
C103: =C$25 -> 234WBPGG1T2AS1M | D103: =D$25 -> Tier 2 After Step Therapy | E103: =E$25 -> 1 or more | F103: =IF(NOT(ISBLANK(F102)),F102,"") | H103: =IF(NOT(ISBLANK(H102)),H102,"") | I103: =IFERROR(F103-H103, "") | J103: =IFERROR(((1+G103)*F103-H103), "")
C104: =C$26 -> 234WBPGG1T3AS1M | D104: =D$26 -> Tier 3 After Step Therapy | E104: =E$26 -> 1 or more | F104: =IF(NOT(ISBLANK(F103)),F103,"") | H104: =IF(NOT(ISBLANK(H103)),H103,"") | I104: =IFERROR(F104-H104, "") | J104: =IFERROR(((1+G104)*F104-H104), "")
G105: If cell highlights red, please confirm intent not to submit a quote
B107: =$B$16 -> Additional Discount Program Appendix – Newly Approved Drug
B109: #8 | C109: DoW Uniform Formulary Class: | E109: =$D$3 -> WHITE BLOOD CELL STIMULANTS | G109: P&T Committee Meeting: | I109: =$H$3 -> November 4-5, 2026
C110: DoW Uniform Formulary Subclass: | E110: =$D$4 -> PEGFILGRASTIMS | G110: Quotes due: | I110: =$H$4 -> 46321
C111: NDC Number | D111: Drug Name | E111: Strength | F111: Dosage Form | G111: =$G$20 -> Package Size | H111: TRICARE RETAIL REFUND
B113: Formulary Scenarios | C113: Condition Set # | D113: Formulary Category Description | E113: One of (x) Number of Brand Agents | F113: Non-FAMP Price of Drug Per FCP Package** | G113: Additional Offered Refund Per FCP Package** | H113: Current Annual Federal Ceiling Price Per FCP Package** | I113: Standard Refund Per FCP | J113: Total Calculated Retail Refund Per FCP Package*
B114: =$B$23 -> One or more agents may be placed T2 before the step.
B115: Scenario 1 | C115: =C$24 -> 234WBPGG1T2BS1M | D115: =D$24 -> Tier 2 Before Step Therapy | E115: =E$24 -> 1 or more | I115: =IF(NOT(ISBLANK(H115)),F115-H115,"") | J115: =IF(NOT(ISBLANK(H115)),((1+G115)*F115-H115), "")
C116: =C$25 -> 234WBPGG1T2AS1M | D116: =D$25 -> Tier 2 After Step Therapy | E116: =E$25 -> 1 or more | F116: =IF(NOT(ISBLANK(F115)),F115,"") | H116: =IF(NOT(ISBLANK(H115)),H115,"") | I116: =IFERROR(F116-H116, "") | J116: =IFERROR(((1+G116)*F116-H116), "")
C117: =C$26 -> 234WBPGG1T3AS1M | D117: =D$26 -> Tier 3 After Step Therapy | E117: =E$26 -> 1 or more | F117: =IF(NOT(ISBLANK(F116)),F116,"") | H117: =IF(NOT(ISBLANK(H116)),H116,"") | I117: =IFERROR(F117-H117, "") | J117: =IFERROR(((1+G117)*F117-H117), "")
G118: If cell highlights red, please confirm intent not to submit a quote
B120: =$B$16 -> Additional Discount Program Appendix – Newly Approved Drug
B122: #9 | C122: DoW Uniform Formulary Class: | E122: =$D$3 -> WHITE BLOOD CELL STIMULANTS | G122: P&T Committee Meeting: | I122: =$H$3 -> November 4-5, 2026
C123: DoW Uniform Formulary Subclass: | E123: =$D$4 -> PEGFILGRASTIMS | G123: Quotes due: | I123: =$H$4 -> 46321
C124: NDC Number | D124: Drug Name | E124: Strength | F124: Dosage Form | G124: =$G$20 -> Package Size | H124: TRICARE RETAIL REFUND
B126: Formulary Scenarios | C126: Condition Set # | D126: Formulary Category Description | E126: One of (x) Number of Brand Agents | F126: Non-FAMP Price of Drug Per FCP Package** | G126: Additional Offered Refund Per FCP Package** | H126: Current Annual Federal Ceiling Price Per FCP Package** | I126: Standard Refund Per FCP | J126: Total Calculated Retail Refund Per FCP Package*
B127: =$B$23 -> One or more agents may be placed T2 before the step.
B128: Scenario 1 | C128: =C$24 -> 234WBPGG1T2BS1M | D128: =D$24 -> Tier 2 Before Step Therapy | E128: =E$24 -> 1 or more | I128: =IF(NOT(ISBLANK(H128)),F128-H128,"") | J128: =IF(NOT(ISBLANK(H128)),((1+G128)*F128-H128), "")
C129: =C$25 -> 234WBPGG1T2AS1M | D129: =D$25 -> Tier 2 After Step Therapy | E129: =E$25 -> 1 or more | F129: =IF(NOT(ISBLANK(F128)),F128,"") | H129: =IF(NOT(ISBLANK(H128)),H128,"") | I129: =IFERROR(F129-H129, "") | J129: =IFERROR(((1+G129)*F129-H129), "")
C130: =C$26 -> 234WBPGG1T3AS1M | D130: =D$26 -> Tier 3 After Step Therapy | E130: =E$26 -> 1 or more | F130: =IF(NOT(ISBLANK(F129)),F129,"") | H130: =IF(NOT(ISBLANK(H129)),H129,"") | I130: =IFERROR(F130-H130, "") | J130: =IFERROR(((1+G130)*F130-H130), "")
G131: If cell highlights red, please confirm intent not to submit a quote
B133: =$B$16 -> Additional Discount Program Appendix – Newly Approved Drug
B135: #10 | C135: DoW Uniform Formulary Class: | E135: =$D$3 -> WHITE BLOOD CELL STIMULANTS | G135: P&T Committee Meeting: | I135: =$H$3 -> November 4-5, 2026
C136: DoW Uniform Formulary Subclass: | E136: =$D$4 -> PEGFILGRASTIMS | G136: Quotes due: | I136: =$H$4 -> 46321
C137: NDC Number | D137: Drug Name | E137: Strength | F137: Dosage Form | G137: =$G$20 -> Package Size | H137: TRICARE RETAIL REFUND
...

Sheet ADP (WAC Discount)
B2: UF ADP Appendix for the November 2026 DoW P&T Meeting
B3: DoW Uniform Formulary Class: | D3: =BPA!D3 -> WHITE BLOOD CELL STIMULANTS | F3: P&T Committee Meeting: | G3: =BPA!G3 -> November 4-5, 2026
B4: DoW Uniform Formulary Subclass: | D4: =BPA!D4 -> PEGFILGRASTIMS | F4: Quotes due: | G4: =BPA!G4 -> 46321
B5: Formulary Notes
B6: Class Note(s): Prior Authorization (PA) may apply. Agents may be identified as possible candidates for special reimbursement methods, amounts, and procedures to encourage use of high-value products and discourage use of low-value products. The P&T Committee may recommend consideration of preferential status to any non-generic pharmaceutical agent by treating it for purposes of cost sharing as a generic product (Tier 1). Similarly, the P&T Committee may identify candidates to recommend for complete or partial exclusion from the TRICARE pharmacy benefit program. Step Therapy Addendum: Grandfathering: a prior authorization process requires new patients to complete an adequate trial of the step-preferred agent(s) before a non-step-preferred agent is provided to the patient at any MTF, Retail, or Mail point of service. Agents with RFQ not submitted or selected may be designated non-step preferred.
B14: Notes to Manufacturers: Do not forget to submit the Quote Review Checklist and fully executed signature pages, along with quote information. The Wholesale Acquisition Cost (WAC) is obtained from First Databank via daily price updates; it is maintained at the dispensing unit level to five (5) decimal places. If the WAC changes during a calendar quarter, an average WAC will be calculated on a daily weighted basis (per unit only). WAC is ONLY used for products that do not have a FCP, such as diabetic supplies (i.e., test strips), and can also be applied to covered drugs. *The quoted WAC Discount percentage will remain static during the life of the agreement.
B16: Additional Discount Program Appendix – Newly Approved Drug
B18: #1 | C18: DoW Uniform Formulary Class: | D18: =$D$3 -> WHITE BLOOD CELL STIMULANTS | F18: P&T Committee Meeting: | G18: =$G$3 -> November 4-5, 2026
C19: DoW Uniform Formulary Subclass: | D19: =$D$4 -> PEGFILGRASTIMS | F19: Quotes due: | G19: =$G$4 -> 46321
C20: NDC Number | D20: Drug Name | E20: Strength | F20: Dosage Form | G20: Package Size | H20: TRICARE RETAIL REFUND
B22: Formulary Scenarios | C22: Condition Set # | D22: Formulary Category | E22: One of (x) Number of Brand Agents | F22: WAC Price of Drug | G22: WAC Discount* | H22: Total Calculated Retail Refund per Package
B23: One or more agents may be placed T2 before the step.
B24: Scenario 1 | C24: 234WBPGG1T2BS1M | D24: Tier 2 Before Step Therapy | E24: 1 or more | H24: =IF(NOT(ISBLANK(G24)),F24*(G24),"")
C25: 234WBPGG1T2AS1M | D25: Tier 2 After Step Therapy | E25: 1 or more | F25: =IF(NOT(ISBLANK(F24)),F24,"") | H25: =IF(NOT(ISBLANK(G25)),F25*(G25),"")
C26: 234WBPGG1T3AS1M | D26: Tier 3 After Step Therapy | E26: 1 or more | F26: =IF(NOT(ISBLANK(F25)),F25,"") | H26: =IF(NOT(ISBLANK(G26)),F26*(G26),"")
G27: If cell highlights red, please confirm intent not to submit a quote
B29: =$B$16 -> Additional Discount Program Appendix – Newly Approved Drug
B31: #2 | C31: DoW Uniform Formulary Class: | D31: =$D$3 -> WHITE BLOOD CELL STIMULANTS | F31: P&T Committee Meeting: | G31: =$G$3 -> November 4-5, 2026
C32: DoW Uniform Formulary Subclass: | D32: =$D$4 -> PEGFILGRASTIMS | F32: Quotes due: | G32: =$G$4 -> 46321
C33: NDC Number | D33: Drug Name | E33: Strength | F33: Dosage Form | G33: =$G$20 -> Package Size | H33: TRICARE RETAIL REFUND
B35: Formulary Scenarios | C35: Condition Set # | D35: Formulary Category | E35: One of (x) Number of Brand Agents | F35: WAC Price of Drug | G35: WAC Discount* | H35: Total Calculated Retail Refund per Package
B36: =$B$23 -> One or more agents may be placed T2 before the step.
B37: Scenario 1 | C37: =C$24 -> 234WBPGG1T2BS1M | D37: =D$24 -> Tier 2 Before Step Therapy | E37: =E$24 -> 1 or more | H37: =IF(NOT(ISBLANK(G37)),F37*(G37),"")
C38: =C$25 -> 234WBPGG1T2AS1M | D38: =D$25 -> Tier 2 After Step Therapy | E38: =E$25 -> 1 or more | F38: =IF(NOT(ISBLANK(F37)),F37,"") | H38: =IF(NOT(ISBLANK(G38)),F38*(G38),"")
C39: =C$26 -> 234WBPGG1T3AS1M | D39: =D$26 -> Tier 3 After Step Therapy | E39: =E$26 -> 1 or more | F39: =IF(NOT(ISBLANK(F38)),F38,"") | H39: =IF(NOT(ISBLANK(G39)),F39*(G39),"")
G40: If cell highlights red, please confirm intent not to submit a quote
B42: =$B$16 -> Additional Discount Program Appendix – Newly Approved Drug
B44: #3 | C44: DoW Uniform Formulary Class: | D44: =$D$3 -> WHITE BLOOD CELL STIMULANTS | F44: P&T Committee Meeting: | G44: =$G$3 -> November 4-5, 2026
C45: DoW Uniform Formulary Subclass: | D45: =$D$4 -> PEGFILGRASTIMS | F45: Quotes due: | G45: =$G$4 -> 46321
C46: NDC Number | D46: Drug Name | E46: Strength | F46: Dosage Form | G46: =$G$20 -> Package Size | H46: TRICARE RETAIL REFUND
B48: Formulary Scenarios | C48: Condition Set # | D48: Formulary Category | E48: One of (x) Number of Brand Agents | F48: WAC Price of Drug | G48: WAC Discount* | H48: Total Calculated Retail Refund per Package
B49: =$B$23 -> One or more agents may be placed T2 before the step.
B50: Scenario 1 | C50: =C$24 -> 234WBPGG1T2BS1M | D50: =D$24 -> Tier 2 Before Step Therapy | E50: =E$24 -> 1 or more | H50: =IF(NOT(ISBLANK(G50)),F50*(G50),"")
C51: =C$25 -> 234WBPGG1T2AS1M | D51: =D$25 -> Tier 2 After Step Therapy | E51: =E$25 -> 1 or more | F51: =IF(NOT(ISBLANK(F50)),F50,"") | H51: =IF(NOT(ISBLANK(G51)),F51*(G51),"")
C52: =C$26 -> 234WBPGG1T3AS1M | D52: =D$26 -> Tier 3 After Step Therapy | E52: =E$26 -> 1 or more | F52: =IF(NOT(ISBLANK(F51)),F51,"") | H52: =IF(NOT(ISBLANK(G52)),F52*(G52),"")
G53: If cell highlights red, please confirm intent not to submit a quote
B55: =$B$16 -> Additional Discount Program Appendix – Newly Approved Drug
B57: #4 | C57: DoW Uniform Formulary Class: | D57: =$D$3 -> WHITE BLOOD CELL STIMULANTS | F57: P&T Committee Meeting: | G57: =$G$3 -> November 4-5, 2026
C58: DoW Uniform Formulary Subclass: | D58: =$D$4 -> PEGFILGRASTIMS | F58: Quotes due: | G58: =$G$4 -> 46321
C59: NDC Number | D59: Drug Name | E59: Strength | F59: Dosage Form | G59: =$G$20 -> Package Size | H59: TRICARE RETAIL REFUND
B61: Formulary Scenarios | C61: Condition Set # | D61: Formulary Category | E61: One of (x) Number of Brand Agents | F61: WAC Price of Drug | G61: WAC Discount* | H61: Total Calculated Retail Refund per Package
B62: =$B$23 -> One or more agents may be placed T2 before the step.
B63: Scenario 1 | C63: =C$24 -> 234WBPGG1T2BS1M | D63: =D$24 -> Tier 2 Before Step Therapy | E63: =E$24 -> 1 or more | H63: =IF(NOT(ISBLANK(G63)),F63*(G63),"")
C64: =C$25 -> 234WBPGG1T2AS1M | D64: =D$25 -> Tier 2 After Step Therapy | E64: =E$25 -> 1 or more | F64: =IF(NOT(ISBLANK(F63)),F63,"") | H64: =IF(NOT(ISBLANK(G64)),F64*(G64),"")
C65: =C$26 -> 234WBPGG1T3AS1M | D65: =D$26 -> Tier 3 After Step Therapy | E65: =E$26 -> 1 or more | F65: =IF(NOT(ISBLANK(F64)),F64,"") | H65: =IF(NOT(ISBLANK(G65)),F65*(G65),"")
G66: If cell highlights red, please confirm intent not to submit a quote
B68: =$B$16 -> Additional Discount Program Appendix – Newly Approved Drug
B70: #5 | C70: DoW Uniform Formulary Class: | D70: =$D$3 -> WHITE BLOOD CELL STIMULANTS | F70: P&T Committee Meeting: | G70: =$G$3 -> November 4-5, 2026
C71: DoW Uniform Formulary Subclass: | D71: =$D$4 -> PEGFILGRASTIMS | F71: Quotes due: | G71: =$G$4 -> 46321
C72: NDC Number | D72: Drug Name | E72: Strength | F72: Dosage Form | G72: =$G$20 -> Package Size | H72: TRICARE RETAIL REFUND
B74: Formulary Scenarios | C74: Condition Set # | D74: Formulary Category | E74: One of (x) Number of Brand Agents | F74: WAC Price of Drug | G74: WAC Discount* | H74: Total Calculated Retail Refund per Package
B75: =$B$23 -> One or more agents may be placed T2 before the step.
B76: Scenario 1 | C76: =C$24 -> 234WBPGG1T2BS1M | D76: =D$24 -> Tier 2 Before Step Therapy | E76: =E$24 -> 1 or more | H76: =IF(NOT(ISBLANK(G76)),F76*(G76),"")
C77: =C$25 -> 234WBPGG1T2AS1M | D77: =D$25 -> Tier 2 After Step Therapy | E77: =E$25 -> 1 or more | F77: =IF(NOT(ISBLANK(F76)),F76,"") | H77: =IF(NOT(ISBLANK(G77)),F77*(G77),"")
C78: =C$26 -> 234WBPGG1T3AS1M | D78: =D$26 -> Tier 3 After Step Therapy | E78: =E$26 -> 1 or more | F78: =IF(NOT(ISBLANK(F77)),F77,"") | H78: =IF(NOT(ISBLANK(G78)),F78*(G78),"")
G79: If cell highlights red, please confirm intent not to submit a quote
B81: =$B$16 -> Additional Discount Program Appendix – Newly Approved Drug
B83: #6 | C83: DoW Uniform Formulary Class: | D83: =$D$3 -> WHITE BLOOD CELL STIMULANTS | F83: P&T Committee Meeting: | G83: =$G$3 -> November 4-5, 2026
C84: DoW Uniform Formulary Subclass: | D84: =$D$4 -> PEGFILGRASTIMS | F84: Quotes due: | G84: =$G$4 -> 46321
C85: NDC Number | D85: Drug Name | E85: Strength | F85: Dosage Form | G85: =$G$20 -> Package Size | H85: TRICARE RETAIL REFUND
B87: Formulary Scenarios | C87: Condition Set # | D87: Formulary Category | E87: One of (x) Number of Brand Agents | F87: WAC Price of Drug | G87: WAC Discount* | H87: Total Calculated Retail Refund per Package
B88: =$B$23 -> One or more agents may be placed T2 before the step.
B89: Scenario 1 | C89: =C$24 -> 234WBPGG1T2BS1M | D89: =D$24 -> Tier 2 Before Step Therapy | E89: =E$24 -> 1 or more | H89: =IF(NOT(ISBLANK(G89)),F89*(G89),"")
C90: =C$25 -> 234WBPGG1T2AS1M | D90: =D$25 -> Tier 2 After Step Therapy | E90: =E$25 -> 1 or more | F90: =IF(NOT(ISBLANK(F89)),F89,"") | H90: =IF(NOT(ISBLANK(G90)),F90*(G90),"")
C91: =C$26 -> 234WBPGG1T3AS1M | D91: =D$26 -> Tier 3 After Step Therapy | E91: =E$26 -> 1 or more | F91: =IF(NOT(ISBLANK(F90)),F90,"") | H91: =IF(NOT(ISBLANK(G91)),F91*(G91),"")
G92: If cell highlights red, please confirm intent not to submit a quote
B94: =$B$16 -> Additional Discount Program Appendix – Newly Approved Drug
B96: #7 | C96: DoW Uniform Formulary Class: | D96: =$D$3 -> WHITE BLOOD CELL STIMULANTS | F96: P&T Committee Meeting: | G96: =$G$3 -> November 4-5, 2026
C97: DoW Uniform Formulary Subclass: | D97: =$D$4 -> PEGFILGRASTIMS | F97: Quotes due: | G97: =$G$4 -> 46321
C98: NDC Number | D98: Drug Name | E98: Strength | F98: Dosage Form | G98: =$G$20 -> Package Size | H98: TRICARE RETAIL REFUND
B100: Formulary Scenarios | C100: Condition Set # | D100: Formulary Category | E100: One of (x) Number of Brand Agents | F100: WAC Price of Drug | G100: WAC Discount* | H100: Total Calculated Retail Refund per Package
B101: =$B$23 -> One or more agents may be placed T2 before the step.
B102: Scenario 1 | C102: =C$24 -> 234WBPGG1T2BS1M | D102: =D$24 -> Tier 2 Before Step Therapy | E102: =E$24 -> 1 or more | H102: =IF(NOT(ISBLANK(G102)),F102*(G102),"")
C103: =C$25 -> 234WBPGG1T2AS1M | D103: =D$25 -> Tier 2 After Step Therapy | E103: =E$25 -> 1 or more | F103: =IF(NOT(ISBLANK(F102)),F102,"") | H103: =IF(NOT(ISBLANK(G103)),F103*(G103),"")
C104: =C$26 -> 234WBPGG1T3AS1M | D104: =D$26 -> Tier 3 After Step Therapy | E104: =E$26 -> 1 or more | F104: =IF(NOT(ISBLANK(F103)),F103,"") | H104: =IF(NOT(ISBLANK(G104)),F104*(G104),"")
G105: If cell highlights red, please confirm intent not to submit a quote
B107: =$B$16 -> Additional Discount Program Appendix – Newly Approved Drug
B109: #8 | C109: DoW Uniform Formulary Class: | D109: =$D$3 -> WHITE BLOOD CELL STIMULANTS | F109: P&T Committee Meeting: | G109: =$G$3 -> November 4-5, 2026
C110: DoW Uniform Formulary Subclass: | D110: =$D$4 -> PEGFILGRASTIMS | F110: Quotes due: | G110: =$G$4 -> 46321
C111: NDC Number | D111: Drug Name | E111: Strength | F111: Dosage Form | G111: =$G$20 -> Package Size | H111: TRICARE RETAIL REFUND
B113: Formulary Scenarios | C113: Condition Set # | D113: Formulary Category | E113: One of (x) Number of Brand Agents | F113: WAC Price of Drug | G113: WAC Discount* | H113: Total Calculated Retail Refund per Package
B114: =$B$23 -> One or more agents may be placed T2 before the step.
B115: Scenario 1 | C115: =C$24 -> 234WBPGG1T2BS1M | D115: =D$24 -> Tier 2 Before Step Therapy | E115: =E$24 -> 1 or more | H115: =IF(NOT(ISBLANK(G115)),F115*(G115),"")
C116: =C$25 -> 234WBPGG1T2AS1M | D116: =D$25 -> Tier 2 After Step Therapy | E116: =E$25 -> 1 or more | F116: =IF(NOT(ISBLANK(F115)),F115,"") | H116: =IF(NOT(ISBLANK(G116)),F116*(G116),"")
C117: =C$26 -> 234WBPGG1T3AS1M | D117: =D$26 -> Tier 3 After Step Therapy | E117: =E$26 -> 1 or more | F117: =IF(NOT(ISBLANK(F116)),F116,"") | H117: =IF(NOT(ISBLANK(G117)),F117*(G117),"")
G118: If cell highlights red, please confirm intent not to submit a quote
B120: =$B$16 -> Additional Discount Program Appendix – Newly Approved Drug
B122: #9 | C122: DoW Uniform Formulary Class: | D122: =$D$3 -> WHITE BLOOD CELL STIMULANTS | F122: P&T Committee Meeting: | G122: =$G$3 -> November 4-5, 2026
C123: DoW Uniform Formulary Subclass: | D123: =$D$4 -> PEGFILGRASTIMS | F123: Quotes due: | G123: =$G$4 -> 46321
C124: NDC Number | D124: Drug Name | E124: Strength | F124: Dosage Form | G124: =$G$20 -> Package Size | H124: TRICARE RETAIL REFUND
B126: Formulary Scenarios | C126: Condition Set # | D126: Formulary Category | E126: One of (x) Number of Brand Agents | F126: WAC Price of Drug | G126: WAC Discount* | H126: Total Calculated Retail Refund per Package
B127: =$B$23 -> One or more agents may be placed T2 before the step.
B128: Scenario 1 | C128: =C$24 -> 234WBPGG1T2BS1M | D128: =D$24 -> Tier 2 Before Step Therapy | E128: =E$24 -> 1 or more | H128: =IF(NOT(ISBLANK(G128)),F128*(G128),"")
C129: =C$25 -> 234WBPGG1T2AS1M | D129: =D$25 -> Tier 2 After Step Therapy | E129: =E$25 -> 1 or more | F129: =IF(NOT(ISBLANK(F128)),F128,"") | H129: =IF(NOT(ISBLANK(G129)),F129*(G129),"")
C130: =C$26 -> 234WBPGG1T3AS1M | D130: =D$26 -> Tier 3 After Step Therapy | E130: =E$26 -> 1 or more | F130: =IF(NOT(ISBLANK(F129)),F129,"") | H130: =IF(NOT(ISBLANK(G130)),F130*(G130),"")
G131: If cell highlights red, please confirm intent not to submit a quote
B133: =$B$16 -> Additional Discount Program Appendix – Newly Approved Drug
B135: #10 | C135: DoW Uniform Formulary Class: | D135: =$D$3 -> WHITE BLOOD CELL STIMULANTS | F135: P&T Committee Meeting: | G135: =$G$3 -> November 4-5, 2026
C136: DoW Uniform Formulary Subclass: | D136: =$D$4 -> PEGFILGRASTIMS | F136: Quotes due: | G136: =$G$4 -> 46321
C137: NDC Number | D137: Drug Name | E137: Strength | F137: Dosage Form | G137: =$G$20 -> Package Size | H137: TRICARE RETAIL REFUND
...
