Workbook

Sheet Instructions
A12: Instructions for completing the budget schedules.
A14: The yellow highlighted cells are the areas to be completed by the Provider.
A16: Schedule A:
A17: 1 | B17: Complete the portions requiring Provider Information.
C18: Name, Address, etc.
A19: 2 | B19: Enter the distribution percentages for each service function.
C20: These percentages must equal 100%.
C21: The percentage provided represent estimated service distributions, but may be modified by the Provider
C22: DBH reserves the right to modify these percentages, as appropriate.
A23: 3 | B23: Enter the amount being requested in the Total DHB Allocation (Funding) Amount cell highlighted in yellow.
A24: 4 | B24: If applicable, complete the Agency Revenues section.
C25: This is not typical for most Providers.
C26: If unsure if this applies, leave blank and request further information.
A27: 5 | B27: Signature cells are to remain blank.
A29: Service Delivery Staff:
A30: 1 | B30: Input the Name of the Employee or Contractor. If position is vacant, input Vacant or TBH.
C31: If multiple employees in one position, input Multiple and # of employees.
A32: 2 | B32: Input the Degree/License of the Employee or Contractor. If position is vacant, leave blank.
C33: For the ChRIS program, please input "Head of Service" in this area, as well as degree/license.
A34: 3 | B34: Select Position/Title. If there are positions contractually required, those should be listed first.
C35: Please be careful to distinguish between "Mental Health Rehabilitation Specialist" and "Other Qualified Practitioner."
A36: 4 | B36: The column labeled D/C is to indicate Direct or Contractor.
C37: Service Delivery Staff Worksheet should ONLY include staff who will be providing direct services, so all should be listed with a "D" or "C"
C38: If position is split between Direct and Indirect, please list on both the Service Delivery Staff and Other Staff tabs.
C39: Direct Staff to be input on Service Delivery Staff tab and Indirect Staff to be input on Other Staff tab, with the appropriate portions on each worksheet.
C40: For Contracted staff that are direct service providers, please indicate the type of staff and FTE.
D41: If you have included the costs related to the contacted staff under Operating Costs, do not include costs on Service Delivery Staff worksheet.
D42: However, the costs are better reported on the Service Deliver worksheet, please do so.
C43: For any administrative or clerical staff that are identified as direct, please ensure the required documentation is maintained to fill CFR 200.413 (c)(1) – (3)
A44: 5 | B44: Enter % Cost Allocated to Contract Services.
C45: Enter the percentage of time the employee will be working. If employed for a portion of time, this should be reflected in this column.
C46: The “% Cost Allocated Contracted Services” column may be used to indicated more than 1.0 FTE (e.g., 4.5 FTE = 450%).
C47: If contractor, please enter the percentage of time for the contractor.
A48: Other Staff:
A49: 1 | B49: Input the Name of the Employee or Contractor. If position is vacant, input Vacant.
C50: If multiple employees in one position, input Multiple and # of employees.
A51: 2 | B51: Input the Degree/License of the Employee or Contractor. If position is vacant, leave blank.
A52: 3 | B52: Input Position/Title. If there are positions contractually required, those should be listed first.
A53: 4 | B53: In the column labeled I/C, I for Indirect; C for SubContractor. NOTE: Worksheet "Other Staff" should not have any portion of a staff intended to provided Modes 05, 10, and/or 15 services.
C54: Note, administrative and clerical staff are normally treated as indirect cost.
...

Sheet PSAS Staff Instructions
A12: Instructions for reviewing and revising the budget schedules.
A14: All Tabs:
A15: Review all tabs for accuracy of information, formulas, locked cells, protection, and all relevant information.
A16: These instructions are for all budget schedules and may not apply to all Programs.
A19: Schedule A:
B20: Prior to distribution to Providers:
A21: 1 | B21: Complete required sections
C22: Program Name
C23: Fiscal Year and timeframe for the budget schedules.
A24: 2 | B24: Modes and Service Functions
C25: Verify with Program which modes and services functions are required.
C26: If notes are needed to identify certain service functions require a minimum percentage, verify the percentage with Program.
A27: 3 | B27: Expenses Section
C28: Verify formulas are correct for each mode and service function, including totals.
A29: 4 | B29: Funding Section
C30: Verify with Budgets the correct funding sources, mix and share percentages
C31: Verify formulas are correct for each funding source and totals.
A32: 5 | B32: Signature cells are to remain blank - do not type in any names as the person responsible for signing may change. This will be completed during the signing process.
A33: 6 | B33: Verify all cells are locked that should be and sheet is protected.
B35: Upon Provider Submission
A36: 1 | B36: Verify the Distribution Percentages exactly equal 100%. Notify Provider of the error and request revisions before sending to Program.
A37: 2 | B37: Expenses Section
C38: Verify totals are correct and match corresponding tabs.
D39: The total should match the Gross Costs Total Staffing and Operating Expenses on Operating Costs tab.
A40: 3 | B40: Funding Section
C41: Verify totals are correct and match the Contract Amount. Do not use the Total Expenses amount as this will depend if any Agency Revenues were captured.
A44: Service Delivery Staff
B45: Prior to distribution to Providers:
A46: 1 | B46: Verify all formulas are correct.
C47: If the timeframe is less than the full fiscal year, adjust formulas in Budgeted Hours of Contract Services and Total Charged to Contract Services columns.
C48: The Position Title is a drop down list. Provider must choose from one of the positions on the list.
A49: 2 | B49: Verify all cells are locked that should be and sheet is protected.
B51: Upon Provider Submission
A52: 1 | B52: Verify provider has completed all sections.
C53: Name should be completed or "Vacant" should be input. TBH, TBD, or leaving blank is not acceptable.
C54: Degree/License should be input. Leaving blank is not acceptable.
C55: Position Title is a drop down list. Leaving blank is not acceptable.
C56: Staff Position Column should be Y or N. Leaving blank is not acceptable.
C57: Direct or Contract is a drop down list. Leaving blank is not acceptable.
C58: Salary and Benefits are dollar amounts. Anything other than a dollar amount will be rejected.
...

Sheet Schedule A
A1: SCHEDULE A - Planning Estimates | F1: SAN BERNARDINO COUNTY
A2: CalAim/Fee for Service | F2: DEPARTMENT OF BEHAVIORAL HEALTH
A3: Contractor Name: | F3: Children's Residential (ChRIS)
A4: RU # | F4: FY 2027-2028
A5: Contract # / RFP # | G5: 46569 | H5: to | J5: =G5+364 -> 46933
A6: Address:
A7: City, State, Zip Code:
A8: Date Form Completed:
A9: Prepared by:
A10: Title: | F10: =IF(B14<>100%, "ERROR: Distribution % must equal exactly 100%!","")
A12: LINE | C12: MODE OF SERVICE | F12: 15 (Outpatient) | L12: TOTAL
A13: # | C13: SERVICE FUNCTION | F13: Case Management & ICC (01-09) | G13: Mental Health Services (10-50) | H13: Intensive Home Based Services (57) | I13: TBS (58) | J13: Medication Support (60-69) | K13: Crisis Intervention (70)
A14: 1 | B14: =SUM(F14:K14) -> 1 | C14: Distribution % | F14: 0.16 | G14: 0.75 | H14: 0.075 | J14: 0.01 | K14: 0.005 | L14: =SUM(F14:K14) -> 1
C15: Allocation Amount
A16: 2 | C16: Total DBH Allocation (Funding) Amount | F16: =$L$16*F14 -> 0 | G16: =$L$16*G14 -> 0 | H16: =$L$16*H14 -> 0 | I16: =$L$16*I14 -> 0 | J16: =$L$16*J14 -> 0 | K16: =$L$16*K14 -> 0
C17: AGENCY REVENUES
A18: 6 | C18: PATIENT FEES | L18: =SUM(F18:K18) -> 0
A19: 7 | C19: PATIENT INSURANCE | L19: =SUM(F19:K19) -> 0
A20: 8 | C20: MEDI-CARE | L20: =SUM(F20:K20) -> 0
A21: 9 | C21: GRANTS/OTHER | L21: =SUM(F21:K21) -> 0
A22: 10 | C22: TOTAL AGENCY REVENUES (6+7+8+9) | F22: =SUM(F18:F21) -> 0 | G22: =SUM(G18:G21) -> 0 | H22: =SUM(H18:H21) -> 0 | I22: =SUM(I18:I21) -> 0 | J22: =SUM(J18:J21) -> 0 | K22: =SUM(K18:K21) -> 0 | L22: =SUM(F22:K22) -> 0
A23: 11 | C23: CONTRACT AMOUNT (5-10) | F23: =F16-F22 -> 0 | G23: =G16-G22 -> 0 | H23: =H16-H22 -> 0 | I23: =I16-I22 -> 0 | J23: =J16-J22 -> 0 | K23: =K16-K22 -> 0 | L23: =SUM(F23:K23) -> 0
B24: Mix % | C24: FUNDING* | E24: Share %
A25: 3 | B25: 1 | C25: MEDI-CAL (FFP) | E25: 0.5 | F25: =ROUND(F$23*$B$25*$E$25,2) -> 0 | G25: =ROUND(G$23*$B$25*$E$25,2) -> 0 | H25: =ROUND(H$23*$B$25*$E$25,2) -> 0 | I25: =ROUND(I$23*$B$25*$E$25,2) -> 0 | J25: =ROUND(J$23*$B$25*$E$25,2) -> 0 | K25: =ROUND(K$23*$B$25*$E$25,2) -> 0 | L25: =SUM(F25:K25) -> 0
B26: 1 | C26: MHSA/BHSA | E26: 0 | F26: =ROUND((F$23*$B$26*$E$26),2) -> 0 | G26: =ROUND((G$23*$B$26*$E$26),2) -> 0 | H26: =ROUND((H$23*$B$26*$E$26),2) -> 0 | I26: =ROUND((I$23*$B$26*$E$26),2) -> 0 | J26: =ROUND((J$23*$B$26*$E$26),2) -> 0 | K26: =ROUND((K$23*$B$26*$E$26),2) -> 0 | L26: =SUM(F26:K26) -> 0
C27: MHSA Match | E27: 0 | F27: =F23*$E$27 -> 0 | G27: =G23*$E$27 -> 0 | H27: =H23*$E$27 -> 0 | I27: =I23*$E$27 -> 0 | J27: =J23*$E$27 -> 0 | K27: =K23*$E$27 -> 0 | L27: =SUM(F27:K27) -> 0
C28: 1991 Realignment | E28: 0 | F28: =F23*$E$28 -> 0 | G28: =G23*$E$28 -> 0 | H28: =H23*$E$28 -> 0 | I28: =I23*$E$28 -> 0 | J28: =J23*$E$28 -> 0 | K28: =K23*$E$28 -> 0 | L28: =SUM(F28:K28) -> 0
A29: 4 | C29: 2011 Realignment | E29: 0.5 | F29: =F23*$E$29 -> 0 | G29: =G23*$E$29 -> 0 | H29: =H23*$E$29 -> 0 | I29: =I23*$E$29 -> 0 | J29: =J23*$E$29 -> 0 | K29: =K23*$E$29 -> 0 | L29: =SUM(F29:K29) -> 0
C30: FUNDING TOTAL | F30: =SUM(F25:F29) -> 0 | G30: =SUM(G25:G29) -> 0 | H30: =SUM(H25:H29) -> 0 | I30: =SUM(I25:I29) -> 0 | J30: =SUM(J25:J29) -> 0 | K30: =SUM(K25:K29) -> 0 | L30: =SUM(F30:K30) -> 0
A31: 5 | C31: NET COUNTY FUNDS (Local Cost) MUST = ZERO | F31: =ROUND((F23-F30),0) -> 0 | G31: =ROUND((G23-G30),0) -> 0 | H31: =ROUND((H23-H30),0) -> 0 | I31: =ROUND((I23-I30),0) -> 0 | J31: =ROUND((J23-J30),0) -> 0 | K31: =ROUND((K23-K30),0) -> 0 | L31: =SUM(F31:K31) -> 0
A32: 6 | C32: STATE FUNDING (Including Realignment) | F32: =SUM(F26:F29) -> 0 | G32: =SUM(G26:G29) -> 0 | H32: =SUM(H26:H29) -> 0 | I32: =SUM(I26:I29) -> 0 | J32: =SUM(J26:J29) -> 0 | K32: =SUM(K26:K29) -> 0 | L32: =SUM(F32:K32) -> 0
A33: 7 | C33: FEDERAL FUNDING | F33: =F25 -> 0 | G33: =G25 -> 0 | H33: =H25 -> 0 | I33: =I25 -> 0 | J33: =J25 -> 0 | K33: =K25 -> 0 | L33: =SUM(F33:K33) -> 0
C34: TOTAL FUNDING | F34: =SUM(F32:F33) -> 0 | G34: =SUM(G32:G33) -> 0 | H34: =SUM(H32:H33) -> 0 | I34: =SUM(I32:I33) -> 0 | J34: =SUM(J32:J33) -> 0 | K34: =SUM(K32:K33) -> 0 | L34: =SUM(F34:K34) -> 0
A35: 8 | C35: TARGET COST PER UNIT OF SERVICE | F35: =IFERROR(IF(F34=0,0,F34/F36),"") -> 0 | G35: =IFERROR(IF(G34=0,0,G34/G36),"") -> 0 | H35: =IFERROR(IF(H34=0,0,H34/H36),"") -> 0 | I35: =IFERROR(IF(I34=0,0,I34/I36),"") -> 0 | J35: =IFERROR(IF(J34=0,0,J34/J36),"") -> 0 | K35: =IFERROR(IF(K34=0,0,K34/K36),"") -> 0
A36: 9 | C36: UNITS OF SERVICE | F36: =IFERROR(F34/'Srv Proj Modes 05,10,15'!E$11,0) -> 0 | G36: =IFERROR(G34/'Srv Proj Modes 05,10,15'!F$11,0) -> 0 | H36: =IFERROR(H34/'Srv Proj Modes 05,10,15'!G$11,0) -> 0 | I36: =IFERROR(I34/'Srv Proj Modes 05,10,15'!H$11,0) -> 0 | J36: =IFERROR(J34/'Srv Proj Modes 05,10,15'!I$11,0) -> 0 | K36: =IFERROR(K34/'Srv Proj Modes 05,10,15'!J$11,0) -> 0 | L36: =SUM(F36:K36) -> 0
A37: * Subject to CFS Match funding per MOU.
A39: APPROVED:
A42: PROVIDER AUTHORIZED SIGNATURE | D42: DATE | E42: DBH PSAS | G42: DATE | H42: DBH PROGRAM MANAGER | I42: DBH PROGRAM MANAGER | L42: DATE
A45: PROVIDER AUTHORIZED SIGNER (PRINT NAME) | E45: DBH PSAS (PRINT NAME) | H45: DBH PROGRAM MANAGER (PRINT NAME) | I45: DBH PROGRAM MANAGER (PRINT NAME)

Sheet Service Delivery Staff
G1: SAN BERNARDINO COUNTY DEPARTMENT OF BEHAVIORAL HEALTH
B2: Schedule B | G2: STAFFING DETAIL
G3: ='Schedule A'!F4 -> FY 2027-2028
G4: ='Schedule A'!F5 -> 0
B5: Staffing Detail - Personnel (Includes Personal Services Contracts for Professional Services)
B7: CONTRACTOR NAME: | C7: =IF('Schedule A'!C3="","",'Schedule A'!C3)
B8: Name | E8: If Staff Position is not Clinical FTE Providing SMHS, change to "N" | F8: Direct or Contract D/C | G8: Full | H8: Full | I8: Total | J8: % Time | K8: Total Salaries | L8: Budgeted | M8: Total Salaries Charged to Contract Services | N8: Total Benefits Charged to Contract Services
C9: Degree/ | D9: Position | G9: Time | H9: Time | I9: Full Time | J9: Allocated | K9: and Benefits | L9: Hours of | P9: Clinical
C10: License | D10: Title | G10: Annual | H10: Fringe | I10: Salaries & | J10: to Program | K10: Charged to | L10: Contract | P10: FTE
G11: Salary | H11: Benefits | I11: Benefits | K11: Contract Services | L11: Services
E12: Y | P12: =IF(OR(F12="D",F12="C"),J12,0) -> 0
E13: Y | P13: =IF(OR(F13="D",F13="C"),J13,0) -> 0
E14: Y | P14: =IF(OR(F14="D",F14="C"),J14,0) -> 0
E15: Y | P15: =IF(OR(F15="D",F15="C"),J15,0) -> 0
E16: Y | P16: =IF(OR(F16="D",F16="C"),J16,0) -> 0
E17: Y | P17: =IF(OR(F17="D",F17="C"),J17,0) -> 0
E18: Y | P18: =IF(OR(F18="D",F18="C"),J18,0) -> 0
E19: Y | P19: =IF(OR(F19="D",F19="C"),J19,0) -> 0
E20: Y | P20: =IF(OR(F20="D",F20="C"),J20,0) -> 0
E21: Y | P21: =IF(OR(F21="D",F21="C"),J21,0) -> 0
E22: Y | P22: =IF(OR(F22="D",F22="C"),J22,0) -> 0
E23: Y | P23: =IF(OR(F23="D",F23="C"),J23,0) -> 0
... E30: Y | P30: =IF(OR(F30="D",F30="C"),J30,0) -> 0
L31: =SUM(L12:L30) -> 0 | P31: =SUM(P12:P30) -> 0
J32: TOTAL
J33: COST:

Sheet Other Staff
F1: SAN BERNARDINO COUNTY DEPARTMENT OF BEHAVIORAL HEALTH
B2: Schedule B | F2: STAFFING DETAIL
F3: ='Schedule A'!F4 -> FY 2027-2028
F4: ='Schedule A'!F5 -> 0
B5: Staffing Detail - Personnel (Includes Personal Services Contracts for Professional Services)
B7: CONTRACTOR NAME: | C7: =IF('Schedule A'!C3="","",'Schedule A'!C3)
B8: Name | E8: Indirect or Contract I/C | F8: Full | G8: Full | H8: Total | I8: % Cost | J8: Total Salaries | K8: Budgeted | L8: Total Salaries Charged to Contract Services | M8: Total Benefits Charged to Contract Services
C9: Degree/ | D9: Position | F9: Time | G9: Time | H9: Full Time | I9: Allocated | J9: and Benefits | K9: Hours of
C10: License | D10: Title | F10: Annual | G10: Fringe | H10: Salaries & | I10: Contract | J10: Charged to | K10: Contract
F11: Salary | G11: Benefits | H11: Benefits | I11: Services | J11: Contract Services | K11: Services
H12: =SUM(F12:G12) -> 0 | J12: =ROUND(H12*I12,0) -> 0 | K12: =2080*I12 -> 0 | L12: =ROUND($I12*F12,0) -> 0 | M12: =ROUND($I12*G12,0) -> 0
H13: =SUM(F13:G13) -> 0 | J13: =ROUND(H13*I13,0) -> 0 | K13: =2080*I13 -> 0 | L13: =ROUND($I13*F13,0) -> 0 | M13: =ROUND($I13*G13,0) -> 0
H14: =SUM(F14:G14) -> 0 | J14: =ROUND(H14*I14,0) -> 0 | K14: =2080*I14 -> 0 | L14: =ROUND($I14*F14,0) -> 0 | M14: =ROUND($I14*G14,0) -> 0
H15: =SUM(F15:G15) -> 0 | J15: =ROUND(H15*I15,0) -> 0 | K15: =2080*I15 -> 0 | L15: =ROUND($I15*F15,0) -> 0 | M15: =ROUND($I15*G15,0) -> 0
H16: =SUM(F16:G16) -> 0 | J16: =ROUND(H16*I16,0) -> 0 | K16: =2080*I16 -> 0 | L16: =ROUND($I16*F16,0) -> 0 | M16: =ROUND($I16*G16,0) -> 0
H17: =SUM(F17:G17) -> 0 | J17: =ROUND(H17*I17,0) -> 0 | K17: =2080*I17 -> 0 | L17: =ROUND($I17*F17,0) -> 0 | M17: =ROUND($I17*G17,0) -> 0
H18: =SUM(F18:G18) -> 0 | J18: =ROUND(H18*I18,0) -> 0 | K18: =2080*I18 -> 0 | L18: =ROUND($I18*F18,0) -> 0 | M18: =ROUND($I18*G18,0) -> 0
H19: =SUM(F19:G19) -> 0 | J19: =ROUND(H19*I19,0) -> 0 | K19: =2080*I19 -> 0 | L19: =ROUND($I19*F19,0) -> 0 | M19: =ROUND($I19*G19,0) -> 0
H20: =SUM(F20:G20) -> 0 | J20: =ROUND(H20*I20,0) -> 0 | K20: =2080*I20 -> 0 | L20: =ROUND($I20*F20,0) -> 0 | M20: =ROUND($I20*G20,0) -> 0
H21: =SUM(F21:G21) -> 0 | J21: =ROUND(H21*I21,0) -> 0 | K21: =2080*I21 -> 0 | L21: =ROUND($I21*F21,0) -> 0 | M21: =ROUND($I21*G21,0) -> 0
H22: =SUM(F22:G22) -> 0 | J22: =ROUND(H22*I22,0) -> 0 | K22: =2080*I22 -> 0 | L22: =ROUND($I22*F22,0) -> 0 | M22: =ROUND($I22*G22,0) -> 0
H23: =SUM(F23:G23) -> 0 | J23: =ROUND(H23*I23,0) -> 0 | K23: =2080*I23 -> 0 | L23: =ROUND($I23*F23,0) -> 0 | M23: =ROUND($I23*G23,0) -> 0
... H30: =SUM(F30:G30) -> 0 | J30: =ROUND(H30*I30,0) -> 0 | K30: =2080*I30 -> 0 | L30: =ROUND($I30*F30,0) -> 0 | M30: =ROUND($I30*G30,0) -> 0
K31: =SUM(K12:K30) -> 0 | L31: =SUM(L12:L30) -> 0 | M31: =SUM(M12:M30) -> 0
I32: TOTAL
I33: COST: | J33: =ROUNDUP(SUM(J12:J30),0) -> 0

Sheet Operating Costs
A1: SAN BERNARDINO COUNTY
A2: DEPARTMENT OF BEHAVIORAL HEALTH
A3: SCHEDULE B
E4: ='Schedule A'!F3 -> Children's Residential (ChRIS) | I4: ='Schedule A'!A3 -> Contractor Name: | J4: =IF('Schedule A'!C3="","",'Schedule A'!C3)
E5: ='Schedule A'!F4 -> FY 2027-2028 | I5: ='Schedule A'!A4 -> RU # | J5: =IF('Schedule A'!C4="","",'Schedule A'!C4)
E6: ='Schedule A'!F5 -> 0 | I6: ='Schedule A'!A5 -> Contract # / RFP # | J6: =IF('Schedule A'!C5="","",'Schedule A'!C5)
B7: Prepared by: | C7: =IF('Schedule A'!C9="","",'Schedule A'!C9) | I7: ='Schedule A'!A6 -> Address: | J7: =IF('Schedule A'!C6="","",'Schedule A'!C6)
B8: Title: | C8: =IF('Schedule A'!C10="","",'Schedule A'!C10) | I8: ='Schedule A'!A7 -> City, State, Zip Code: | J8: =IF('Schedule A'!C7="","",'Schedule A'!C7)
I9: ='Schedule A'!A8 -> Date Form Completed: | J9: =IF('Schedule A'!C8="","",'Schedule A'!C8)
B10: Operating Expenses - Please list all operating costs charged to this program, including administrative support costs and management fees along with a detail explanation of the categories below.
N12: Budget Revision
A13: ITEM | C13: TOTAL COST TO ORGANIZATION | E13: % CHARGED TO OTHER FUNDING SOURCE | F13: TOTAL COST TO OTHER FUNDING SOURCE | H13: PERCENT CHARGED TO PROGRAM | J13: TOTAL COST TO PROGRAM | N13: Request Change | P13: Revised Budget
A14: 1 | B14: External Database Fee (.26% of Contract) | E14: =1-H14 -> 1 | F14: =E14*C14 -> 0 | J14: =H14*C14 -> 0 | N14: 0 | P14: =N14+J14 -> 0
A15: 2 | B15: Client Housing Support (70) | E15: =1-H15 -> 1 | F15: =E15*D15 -> 0 | J15: =H15*C15 -> 0 | P15: =N15+J15 -> 0
A16: 3 | B16: Client Flexible Support (72) | E16: =1-H16 -> 1 | F16: =E16*D16 -> 0 | J16: =H16*C16 -> 0 | P16: =N16+J16 -> 0
A17: 4 | B17: Other Non-MediCal Support (78) | E17: =1-H17 -> 1 | F17: =E17*D17 -> 0 | J17: =H17*C17 -> 0 | P17: =N17+J17 -> 0
A18: 5 | B18: Operating Income | E18: =1-H18 -> 1 | F18: =E18*D18 -> 0 | J18: =H18*C18 -> 0 | P18: =N18+J18 -> 0
A19: 6 | E19: =1-H19 -> 1 | F19: =E19*D19 -> 0 | J19: =H19*C19 -> 0 | P19: =N19+J19 -> 0
A20: 7 | E20: =1-H20 -> 1 | F20: =E20*D20 -> 0 | J20: =H20*C20 -> 0 | P20: =N20+J20 -> 0
A21: 8 | E21: =1-H21 -> 1 | F21: =E21*D21 -> 0 | J21: =H21*C21 -> 0 | P21: =N21+J21 -> 0
A22: 9 | E22: =1-H22 -> 1 | F22: =E22*D22 -> 0 | J22: =H22*C22 -> 0 | P22: =N22+J22 -> 0
A23: 10 | E23: =1-H23 -> 1 | F23: =E23*D23 -> 0 | J23: =H23*C23 -> 0 | P23: =N23+J23 -> 0
A24: 11 | E24: =1-H24 -> 1 | F24: =E24*D24 -> 0 | J24: =H24*C24 -> 0 | P24: =N24+J24 -> 0
A25: 12 | E25: =1-H25 -> 1 | F25: =E25*D25 -> 0 | J25: =H25*C25 -> 0 | P25: =N25+J25 -> 0
A26: 13 | E26: =1-H26 -> 1 | F26: =E26*D26 -> 0 | J26: =H26*C26 -> 0 | P26: =N26+J26 -> 0
A27: 14 | E27: =1-H27 -> 1 | F27: =E27*D27 -> 0 | J27: =H27*C27 -> 0 | P27: =N27+J27 -> 0
A28: 15 | E28: =1-H28 -> 1 | F28: =E28*D28 -> 0 | J28: =H28*C28 -> 0 | P28: =N28+J28 -> 0
A29: 16 | E29: =1-H29 -> 1 | F29: =E29*D29 -> 0 | J29: =H29*C29 -> 0 | P29: =N29+J29 -> 0
A30: SUBTOTAL B: | C30: =SUM(C14:D29) -> 0 | F30: =SUM(F14:G29) -> 0 | J30: =SUM(J14:M29) -> 0 | N30: =SUM(N14:O29) -> 0 | P30: =N30+J30 -> 0 | T30: =IFERROR(((J31-J30))/J31,0) -> 0
A31: GROSS COSTS TOTAL STAFFING AND OPERATING EXPENSES: | J31: =P30+'Service Delivery Staff'!K33+'Other Staff'!J33 -> 0
B34: These rows are to be locked and hidden when sending to providers.
B35: Total Administrative Costs | D35: =P30 -> 0
B36: Staffing | D36: ='Service Delivery Staff'!M31+'Service Delivery Staff'!N31+'Other Staff'!L31+'Other Staff'!M31 -> 0 | E36: =D35+D36 -> 0
B37: Client Housing Support | D37: =P15 -> 0
B38: Client Flexible Support | D38: =P16 -> 0
B39: Other Non-MediCal Support | D39: =P17 -> 0
B40: Operating Income | D40: =P18 -> 0
B41: Net Total | D41: =D35+D36-SUM(D37:D40) -> 0
B42: Net Admin Costs | D42: =D35-SUM(D37:D40) -> 0

Sheet Op. Cost Narrative
A1: SAN BERNARDINO COUNTY
A2: DEPARTMENT OF BEHAVIORAL HEALTH
A3: SCHEDULE B
A4: BUDGET NARRATIVE
D5: ='Schedule A'!F4 -> FY 2027-2028 | H5: ='Schedule A'!A3 -> Contractor Name: | I5: =IF('Schedule A'!C3:C3="","",'Schedule A'!C3)
D6: ='Schedule A'!F5 -> 0 | H6: ='Schedule A'!A4 -> RU # | I6: =IF('Schedule A'!C4:C4="","",'Schedule A'!C4)
H7: ='Schedule A'!A5 -> Contract # / RFP # | I7: =IF('Schedule A'!C5:C5="","",'Schedule A'!C5)
A8: Prepared by: | C8: =IF('Schedule A'!C9:C9="","",'Schedule A'!C9:C9) | H8: ='Schedule A'!A6 -> Address: | I8: =IF('Schedule A'!C6:C6="","",'Schedule A'!C6)
A9: Title: | C9: =IF('Schedule A'!C10:C10="","",'Schedule A'!C10:C10) | H9: ='Schedule A'!A7 -> City, State, Zip Code: | I9: =IF('Schedule A'!C7:C7="","",'Schedule A'!C7)
H10: ='Schedule A'!A8 -> Date Form Completed: | I10: =IF('Schedule A'!C8:C8="","",'Schedule A'!C8)
B11: Budget Narrative for Operating Expenses. Explain each expense by line item. Provide an explanation for determination of all figures ( rate, duration, quantity, Benefits, FTE's, etc.) for example explain how overhead or indirect cost were calculated.
A14: ITEM | C14: Justification of Cost
A15: 1 | B15: =IF('Operating Costs'!B14="","",'Operating Costs'!B14) -> External Database Fee (.26% of Contract) | C15: Participation in external database is a required aspect of program to facilitate focus of treatment servicesand reporting of outcomes.
A16: =A15+1 -> 2 | B16: =IF('Operating Costs'!B15="","",'Operating Costs'!B15) -> Client Housing Support (70)
A17: =A16+1 -> 3 | B17: =IF('Operating Costs'!B16="","",'Operating Costs'!B16) -> Client Flexible Support (72)
A18: =A17+1 -> 4 | B18: =IF('Operating Costs'!B17="","",'Operating Costs'!B17) -> Other Non-MediCal Support (78)
A19: =A18+1 -> 5 | B19: =IF('Operating Costs'!B18="","",'Operating Costs'!B18) -> Operating Income
A20: =A19+1 -> 6 | B20: =IF('Operating Costs'!B19="","",'Operating Costs'!B19)
A21: =A20+1 -> 7 | B21: =IF('Operating Costs'!B20="","",'Operating Costs'!B20)
A22: =A21+1 -> 8 | B22: =IF('Operating Costs'!B21="","",'Operating Costs'!B21)
A23: =A22+1 -> 9 | B23: =IF('Operating Costs'!B22="","",'Operating Costs'!B22)
A24: =A23+1 -> 10 | B24: =IF('Operating Costs'!B23="","",'Operating Costs'!B23)
A25: =A24+1 -> 11 | B25: =IF('Operating Costs'!B24="","",'Operating Costs'!B24)
A26: =A25+1 -> 12 | B26: =IF('Operating Costs'!B25="","",'Operating Costs'!B25)
A27: =A26+1 -> 13 | B27: =IF('Operating Costs'!B26="","",'Operating Costs'!B26)
... A30: =A29+1 -> 16 | B30: =IF('Operating Costs'!B29="","",'Operating Costs'!B29)

Sheet Srv Proj Modes 05,10,15
B1: SAN BERNARDINO COUNTY
B2: DEPARTMENT OF BEHAVIORAL HEALTH
B3: SCHEDULE B
B4: ='Schedule A'!F4 -> FY 2027-2028
B5: ='Schedule A'!F5 -> 0 | X5: Mode 15
R6: DHCS | S6: DHCS | T6: Per Minute Rates | X6: CM&ICC (01-09) | Y6: MHS (10-50) | Z6: IHBS (57) | AA6: TBS (58) | AB6: MSS (60-69) | AC6: CI (70)
P7: Est. Vacancy Rate | Q7: ='SMHS Rates for Program'!A2 -> Provider Type | R7: ='SMHS Rates for Program'!B2 -> Hourly Rate | S7: ='SMHS Rates for Program'!C2 -> Min Rate | T7: For This Program | V7: Direct Staff Count
E8: Mode 15 | K8: ='Schedule A'!A3 -> Contractor Name: | L8: =IF('Schedule A'!C3:C3="","",'Schedule A'!C3) | P8: of Clinical Staff | Q8: =RATES!A4 -> Certified AOD Counselor | R8: ='SMHS Rates for Program'!B3 -> 276.24 | S8: ='SMHS Rates for Program'!C3 -> 4.604 | T8: ='SMHS Rates for Program'!D3 -> 4.604 | V8: =IF(COUNTIF('Service Delivery Staff'!$D$12:$D$30,'Srv Proj Modes 05,10,15'!Q8)>0,SUMIF('Service Delivery Staff'!$D$12:$D$30,'Srv Proj Modes 05,10,15'!Q8,'Service Delivery Staff'!$P$12:$P$30),"0") -> 0 | X8: ='Staffing Planning Worksheet'!H6 -> Include | Y8: ='Staffing Planning Worksheet'!I6 -> Include | Z8: ='Staffing Planning Worksheet'!J6 -> Don't Include | AA8: ='Staffing Planning Worksheet'!K6 -> Don't Include | AB8: ='Staffing Planning Worksheet'!L6 -> Don't Include | AC8: ='Staffing Planning Worksheet'!M6 -> Include
E9: CM&ICC (01-09) | F9: MHS (10-50) | G9: IHBS (57) | H9: TBS (58) | I9: MSS (60-69) | J9: CI (70) | K9: ='Schedule A'!A4 -> RU # | L9: =IF('Schedule A'!C4:C4="","",'Schedule A'!C4) | P9: 0.1 | Q9: =RATES!A5 -> Community Health Worker | R9: ='SMHS Rates for Program'!B4 -> 256.82 | S9: ='SMHS Rates for Program'!C4 -> 4.2803333 | T9: ='SMHS Rates for Program'!D4 -> 4.2803333 | V9: =IF(COUNTIF('Service Delivery Staff'!$D$12:$D$30,'Srv Proj Modes 05,10,15'!Q9)>0,SUMIF('Service Delivery Staff'!$D$12:$D$30,'Srv Proj Modes 05,10,15'!Q9,'Service Delivery Staff'!$P$12:$P$30),"0") -> 0 | X9: ='Staffing Planning Worksheet'!H7 -> Don't Include | Y9: ='Staffing Planning Worksheet'!I7 -> Include | Z9: ='Staffing Planning Worksheet'!J7 -> Don't Include | AA9: ='Staffing Planning Worksheet'!K7 -> Don't Include | AB9: ='Staffing Planning Worksheet'!L7 -> Don't Include | AC9: ='Staffing Planning Worksheet'!M7 -> Don't Include
C10: =IFERROR('Schedule A'!L36/((((2080-80-80-40)*60)*'Service Delivery Staff'!P31)-(P9*(2080-80-80-40)*60)*'Service Delivery Staff'!P31),0) -> 0 | E10: Weighted Rate | F10: Weighted Rate | G10: Weighted Rate | H10: Weighted Rate | I10: Weighted Rate | J10: Weighted Rate | K10: ='Schedule A'!A5 -> Contract # / RFP # | L10: =IF('Schedule A'!C5:C5="","",'Schedule A'!C5) | Q10: =RATES!A6 -> LCSW (Licensed, Waivered or Registered) | R10: ='SMHS Rates for Program'!B5 -> 333.03 | S10: ='SMHS Rates for Program'!C5 -> 5.5505 | T10: ='SMHS Rates for Program'!D5 -> 5.5505 | V10: =IF(COUNTIF('Service Delivery Staff'!$D$12:$D$30,'Srv Proj Modes 05,10,15'!Q10)>0,SUMIF('Service Delivery Staff'!$D$12:$D$30,'Srv Proj Modes 05,10,15'!Q10,'Service Delivery Staff'!$P$12:$P$30),"0") -> 0 | X10: ='Staffing Planning Worksheet'!H8 -> Include | Y10: ='Staffing Planning Worksheet'!I8 -> Include | Z10: ='Staffing Planning Worksheet'!J8 -> Include | AA10: ='Staffing Planning Worksheet'!K8 -> Don't Include | AB10: ='Staffing Planning Worksheet'!L8 -> Don't Include | AC10: ='Staffing Planning Worksheet'!M8 -> Include
C11: Rate Per Minute | E11: =IFERROR((X26),0) -> 0 | F11: =IFERROR((Y26),0) -> 0 | G11: =IFERROR((Z26),0) -> 0 | H11: =IFERROR((AA26),0) -> 0 | I11: =IFERROR((AB26),0) -> 0 | J11: =IFERROR((AC26),0) -> 0 | K11: ='Schedule A'!A6 -> Address: | L11: =IF('Schedule A'!C6:C6="","",'Schedule A'!C6) | Q11: =RATES!A7 -> Licensed Physician | R11: ='SMHS Rates for Program'!B6 -> 1279.64 | S11: ='SMHS Rates for Program'!C6 -> 21.327333 | T11: ='SMHS Rates for Program'!D6 -> 21.327333 | V11: =IF(COUNTIF('Service Delivery Staff'!$D$12:$D$30,'Srv Proj Modes 05,10,15'!Q11)>0,SUMIF('Service Delivery Staff'!$D$12:$D$30,'Srv Proj Modes 05,10,15'!Q11,'Service Delivery Staff'!$P$12:$P$30),"0") -> 0 | X11: ='Staffing Planning Worksheet'!H9 -> Don't Include | Y11: ='Staffing Planning Worksheet'!I9 -> Don't Include | Z11: ='Staffing Planning Worksheet'!J9 -> Don't Include | AA11: ='Staffing Planning Worksheet'!K9 -> Don't Include | AB11: ='Staffing Planning Worksheet'!L9 -> Include | AC11: ='Staffing Planning Worksheet'!M9 -> Don't Include
K12: ='Schedule A'!A7 -> City, State, Zip Code: | L12: =IF('Schedule A'!C7:C7="","",'Schedule A'!C7) | Q12: =RATES!A8 -> Licensed Psychiatric Technician | R12: ='SMHS Rates for Program'!B7 -> 234.08 | S12: ='SMHS Rates for Program'!C7 -> 3.9013333 | T12: ='SMHS Rates for Program'!D7 -> 3.9013333 | V12: =IF(COUNTIF('Service Delivery Staff'!$D$12:$D$30,'Srv Proj Modes 05,10,15'!Q12)>0,SUMIF('Service Delivery Staff'!$D$12:$D$30,'Srv Proj Modes 05,10,15'!Q12,'Service Delivery Staff'!$P$12:$P$30),"0") -> 0 | X12: ='Staffing Planning Worksheet'!H10 -> Don't Include | Y12: ='Staffing Planning Worksheet'!I10 -> Don't Include | Z12: ='Staffing Planning Worksheet'!J10 -> Don't Include | AA12: ='Staffing Planning Worksheet'!K10 -> Don't Include | AB12: ='Staffing Planning Worksheet'!L10 -> Include | AC12: ='Staffing Planning Worksheet'!M10 -> Don't Include
K13: ='Schedule A'!A8 -> Date Form Completed: | L13: =IF('Schedule A'!C8:C8="","",'Schedule A'!C8) | Q13: =RATES!A9 -> Licensed Vocational Nurse | R13: ='SMHS Rates for Program'!B8 -> 273.05 | S13: ='SMHS Rates for Program'!C8 -> 4.5508333 | T13: ='SMHS Rates for Program'!D8 -> 4.5508333 | V13: =IF(COUNTIF('Service Delivery Staff'!$D$12:$D$30,'Srv Proj Modes 05,10,15'!Q13)>0,SUMIF('Service Delivery Staff'!$D$12:$D$30,'Srv Proj Modes 05,10,15'!Q13,'Service Delivery Staff'!$P$12:$P$30),"0") -> 0 | X13: ='Staffing Planning Worksheet'!H11 -> Don't Include | Y13: ='Staffing Planning Worksheet'!I11 -> Don't Include | Z13: ='Staffing Planning Worksheet'!J11 -> Don't Include | AA13: ='Staffing Planning Worksheet'!K11 -> Don't Include | AB13: ='Staffing Planning Worksheet'!L11 -> Include | AC13: ='Staffing Planning Worksheet'!M11 -> Don't Include
Q14: =RATES!A10 -> Medical Assistant | R14: ='SMHS Rates for Program'!B9 -> 187.7 | S14: ='SMHS Rates for Program'!C9 -> 3.1283333 | T14: ='SMHS Rates for Program'!D9 -> 3.1283333 | V14: =IF(COUNTIF('Service Delivery Staff'!$D$12:$D$30,'Srv Proj Modes 05,10,15'!Q14)>0,SUMIF('Service Delivery Staff'!$D$12:$D$30,'Srv Proj Modes 05,10,15'!Q14,'Service Delivery Staff'!$P$12:$P$30),"0") -> 0 | X14: ='Staffing Planning Worksheet'!H12 -> Don't Include | Y14: ='Staffing Planning Worksheet'!I12 -> Don't Include | Z14: ='Staffing Planning Worksheet'!J12 -> Don't Include | AA14: ='Staffing Planning Worksheet'!K12 -> Don't Include | AB14: ='Staffing Planning Worksheet'!L12 -> Include | AC14: ='Staffing Planning Worksheet'!M12 -> Don't Include
Q15: =RATES!A11 -> Mental Health Rehabilitation Specialist | R15: ='SMHS Rates for Program'!B10 -> 250.56 | S15: ='SMHS Rates for Program'!C10 -> 4.176 | T15: ='SMHS Rates for Program'!D10 -> 4.176 | V15: =IF(COUNTIF('Service Delivery Staff'!$D$12:$D$30,'Srv Proj Modes 05,10,15'!Q15)>0,SUMIF('Service Delivery Staff'!$D$12:$D$30,'Srv Proj Modes 05,10,15'!Q15,'Service Delivery Staff'!$P$12:$P$30),"0") -> 0 | X15: ='Staffing Planning Worksheet'!H13 -> Include | Y15: ='Staffing Planning Worksheet'!I13 -> Include | Z15: ='Staffing Planning Worksheet'!J13 -> Include | AA15: ='Staffing Planning Worksheet'!K13 -> Don't Include | AB15: ='Staffing Planning Worksheet'!L13 -> Don't Include | AC15: ='Staffing Planning Worksheet'!M13 -> Include
B16: MONTH | C16: Estimated Units of Service (Minutes) | D16: Planned Clinical FTE's | E16: Mode 15 | L16: Clients Served | Q16: =RATES!A12 -> MFT/LPCC (Licensed, Waivered or Registered) | R16: ='SMHS Rates for Program'!B11 -> 333.03 | S16: ='SMHS Rates for Program'!C11 -> 5.5505 | T16: ='SMHS Rates for Program'!D11 -> 5.5505 | V16: =IF(COUNTIF('Service Delivery Staff'!$D$12:$D$30,'Srv Proj Modes 05,10,15'!Q16)>0,SUMIF('Service Delivery Staff'!$D$12:$D$30,'Srv Proj Modes 05,10,15'!Q16,'Service Delivery Staff'!$P$12:$P$30),"0") -> 0 | X16: ='Staffing Planning Worksheet'!H14 -> Include | Y16: ='Staffing Planning Worksheet'!I14 -> Include | Z16: ='Staffing Planning Worksheet'!J14 -> Include | AA16: ='Staffing Planning Worksheet'!K14 -> Don't Include | AB16: ='Staffing Planning Worksheet'!L14 -> Don't Include | AC16: ='Staffing Planning Worksheet'!M14 -> Include
E17: CM&ICC (01-09) | F17: MHS (10-50) | G17: IHBS (57) | H17: TBS (58) | I17: MSS (60-69) | J17: CI (70) | L17: Starting Census | Q17: =RATES!A13 -> Nurse Practitioner | R17: ='SMHS Rates for Program'!B12 -> 636.34 | S17: ='SMHS Rates for Program'!C12 -> 10.605667 | T17: ='SMHS Rates for Program'!D12 -> 10.605667 | V17: =IF(COUNTIF('Service Delivery Staff'!$D$12:$D$30,'Srv Proj Modes 05,10,15'!Q17)>0,SUMIF('Service Delivery Staff'!$D$12:$D$30,'Srv Proj Modes 05,10,15'!Q17,'Service Delivery Staff'!$P$12:$P$30),"0") -> 0 | X17: ='Staffing Planning Worksheet'!H15 -> Don't Include | Y17: ='Staffing Planning Worksheet'!I15 -> Don't Include | Z17: ='Staffing Planning Worksheet'!J15 -> Don't Include | AA17: ='Staffing Planning Worksheet'!K15 -> Don't Include | AB17: ='Staffing Planning Worksheet'!L15 -> Include | AC17: ='Staffing Planning Worksheet'!M15 -> Don't Include
L18: Admissions (Episodes Opened) | M18: Discharges (Episodes Closed) | N18: Monthly Census | Q18: =RATES!A14 -> Occupational Therapist | R18: ='SMHS Rates for Program'!B13 -> 443.32 | S18: ='SMHS Rates for Program'!C13 -> 7.3886667 | T18: ='SMHS Rates for Program'!D13 -> 7.3886667 | V18: =IF(COUNTIF('Service Delivery Staff'!$D$12:$D$30,'Srv Proj Modes 05,10,15'!Q18)>0,SUMIF('Service Delivery Staff'!$D$12:$D$30,'Srv Proj Modes 05,10,15'!Q18,'Service Delivery Staff'!$P$12:$P$30),"0") -> 0 | X18: ='Staffing Planning Worksheet'!H16 -> Don't Include | Y18: ='Staffing Planning Worksheet'!I16 -> Include | Z18: ='Staffing Planning Worksheet'!J16 -> Don't Include | AA18: ='Staffing Planning Worksheet'!K16 -> Don't Include | AB18: ='Staffing Planning Worksheet'!L16 -> Don't Include | AC18: ='Staffing Planning Worksheet'!M16 -> Don't Include
Q19: =RATES!A15 -> Other Qualified Practitioner | R19: ='SMHS Rates for Program'!B14 -> 250.56 | S19: ='SMHS Rates for Program'!C14 -> 4.176 | T19: ='SMHS Rates for Program'!D14 -> 4.176 | V19: =IF(COUNTIF('Service Delivery Staff'!$D$12:$D$30,'Srv Proj Modes 05,10,15'!Q19)>0,SUMIF('Service Delivery Staff'!$D$12:$D$30,'Srv Proj Modes 05,10,15'!Q19,'Service Delivery Staff'!$P$12:$P$30),"0") -> 0 | X19: ='Staffing Planning Worksheet'!H17 -> Include | Y19: ='Staffing Planning Worksheet'!I17 -> Include | Z19: ='Staffing Planning Worksheet'!J17 -> Include | AA19: ='Staffing Planning Worksheet'!K17 -> Don't Include | AB19: ='Staffing Planning Worksheet'!L17 -> Don't Include | AC19: ='Staffing Planning Worksheet'!M17 -> Include
B20: ='Schedule A'!G5 -> 46569 | C20: =IFERROR((C$32/12),0) -> 0 | D20: ='Service Delivery Staff'!$P$31 -> 0 | E20: =IF(ISERROR(ROUND($C20/$C$32*E$32,0)),"",ROUND($C20/$C$32*E$32,0)) | F20: =IF(ISERROR(ROUND($C20/$C$32*F$32,0)),"",ROUND($C20/$C$32*F$32,0)) | G20: =IF(ISERROR(ROUND($C20/$C$32*G$32,0)),"",ROUND($C20/$C$32*G$32,0)) | H20: =IF(ISERROR(ROUND($C20/$C$32*H$32,0)),"",ROUND($C20/$C$32*H$32,0)) | I20: =IF(ISERROR(ROUND($C20/$C$32*I$32,0)),"",ROUND($C20/$C$32*I$32,0)) | J20: =IF(ISERROR(ROUND($C20/$C$32*J$32,0)),"",ROUND($C20/$C$32*J$32,0)) | N20: =N17+L20-M20 -> 0 | Q20: =RATES!A16 -> Peer Support Specialists | R20: ='SMHS Rates for Program'!B15 -> 263.09 | S20: ='SMHS Rates for Program'!C15 -> 4.3848333 | T20: ='SMHS Rates for Program'!D15 -> 4.3848333 | V20: =IF(COUNTIF('Service Delivery Staff'!$D$12:$D$30,'Srv Proj Modes 05,10,15'!Q20)>0,SUMIF('Service Delivery Staff'!$D$12:$D$30,'Srv Proj Modes 05,10,15'!Q20,'Service Delivery Staff'!$P$12:$P$30),"0") -> 0 | X20: ='Staffing Planning Worksheet'!H18 -> Don't Include | Y20: ='Staffing Planning Worksheet'!I18 -> Include | Z20: ='Staffing Planning Worksheet'!J18 -> Don't Include | AA20: ='Staffing Planning Worksheet'!K18 -> Don't Include | AB20: ='Staffing Planning Worksheet'!L18 -> Don't Include | AC20: ='Staffing Planning Worksheet'!M18 -> Don't Include
B21: =B20+31 -> 46600 | C21: =IFERROR((C$32/12),0) -> 0 | D21: ='Service Delivery Staff'!$P$31 -> 0 | E21: =IF(ISERROR(ROUND($C21/$C$32*E$32,0)),"",ROUND($C21/$C$32*E$32,0)) | F21: =IF(ISERROR(ROUND($C21/$C$32*F$32,0)),"",ROUND($C21/$C$32*F$32,0)) | G21: =IF(ISERROR(ROUND($C21/$C$32*G$32,0)),"",ROUND($C21/$C$32*G$32,0)) | H21: =IF(ISERROR(ROUND($C21/$C$32*H$32,0)),"",ROUND($C21/$C$32*H$32,0)) | I21: =IF(ISERROR(ROUND($C21/$C$32*I$32,0)),"",ROUND($C21/$C$32*I$32,0)) | J21: =IF(ISERROR(ROUND($C21/$C$32*J$32,0)),"",ROUND($C21/$C$32*J$32,0)) | N21: =N20+L21-M21 -> 0 | Q21: =RATES!A17 -> Physician Assistant | R21: ='SMHS Rates for Program'!B16 -> 573.92 | S21: ='SMHS Rates for Program'!C16 -> 9.5653333 | T21: ='SMHS Rates for Program'!D16 -> 9.5653333 | V21: =IF(COUNTIF('Service Delivery Staff'!$D$12:$D$30,'Srv Proj Modes 05,10,15'!Q21)>0,SUMIF('Service Delivery Staff'!$D$12:$D$30,'Srv Proj Modes 05,10,15'!Q21,'Service Delivery Staff'!$P$12:$P$30),"0") -> 0 | X21: ='Staffing Planning Worksheet'!H19 -> Don't Include | Y21: ='Staffing Planning Worksheet'!I19 -> Don't Include | Z21: ='Staffing Planning Worksheet'!J19 -> Don't Include | AA21: ='Staffing Planning Worksheet'!K19 -> Don't Include | AB21: ='Staffing Planning Worksheet'!L19 -> Include | AC21: ='Staffing Planning Worksheet'!M19 -> Don't Include
B22: =B21+31 -> 46631 | C22: =IFERROR((C$32/12),0) -> 0 | D22: ='Service Delivery Staff'!$P$31 -> 0 | E22: =IF(ISERROR(ROUND($C22/$C$32*E$32,0)),"",ROUND($C22/$C$32*E$32,0)) | F22: =IF(ISERROR(ROUND($C22/$C$32*F$32,0)),"",ROUND($C22/$C$32*F$32,0)) | G22: =IF(ISERROR(ROUND($C22/$C$32*G$32,0)),"",ROUND($C22/$C$32*G$32,0)) | H22: =IF(ISERROR(ROUND($C22/$C$32*H$32,0)),"",ROUND($C22/$C$32*H$32,0)) | I22: =IF(ISERROR(ROUND($C22/$C$32*I$32,0)),"",ROUND($C22/$C$32*I$32,0)) | J22: =IF(ISERROR(ROUND($C22/$C$32*J$32,0)),"",ROUND($C22/$C$32*J$32,0)) | N22: =N21+L22-M22 -> 0 | Q22: =RATES!A18 -> Psychologist (Licensed or Waivered) | R22: ='SMHS Rates for Program'!B17 -> 514.63 | S22: ='SMHS Rates for Program'!C17 -> 8.5771667 | T22: ='SMHS Rates for Program'!D17 -> 8.5771667 | V22: =IF(COUNTIF('Service Delivery Staff'!$D$12:$D$30,'Srv Proj Modes 05,10,15'!Q22)>0,SUMIF('Service Delivery Staff'!$D$12:$D$30,'Srv Proj Modes 05,10,15'!Q22,'Service Delivery Staff'!$P$12:$P$30),"0") -> 0 | X22: ='Staffing Planning Worksheet'!H20 -> Don't Include | Y22: ='Staffing Planning Worksheet'!I20 -> Include | Z22: ='Staffing Planning Worksheet'!J20 -> Don't Include | AA22: ='Staffing Planning Worksheet'!K20 -> Don't Include | AB22: ='Staffing Planning Worksheet'!L20 -> Don't Include | AC22: ='Staffing Planning Worksheet'!M20 -> Don't Include
B23: =B22+31 -> 46662 | C23: =IFERROR((C$32/12),0) -> 0 | D23: ='Service Delivery Staff'!$P$31 -> 0 | E23: =IF(ISERROR(ROUND($C23/$C$32*E$32,0)),"",ROUND($C23/$C$32*E$32,0)) | F23: =IF(ISERROR(ROUND($C23/$C$32*F$32,0)),"",ROUND($C23/$C$32*F$32,0)) | G23: =IF(ISERROR(ROUND($C23/$C$32*G$32,0)),"",ROUND($C23/$C$32*G$32,0)) | H23: =IF(ISERROR(ROUND($C23/$C$32*H$32,0)),"",ROUND($C23/$C$32*H$32,0)) | I23: =IF(ISERROR(ROUND($C23/$C$32*I$32,0)),"",ROUND($C23/$C$32*I$32,0)) | J23: =IF(ISERROR(ROUND($C23/$C$32*J$32,0)),"",ROUND($C23/$C$32*J$32,0)) | N23: =N22+L23-M23 -> 0 | Q23: =RATES!A19 -> Registered Nurse | R23: ='SMHS Rates for Program'!B18 -> 519.77 | S23: ='SMHS Rates for Program'!C18 -> 8.6628333 | T23: ='SMHS Rates for Program'!D18 -> 8.6628333 | V23: =IF(COUNTIF('Service Delivery Staff'!$D$12:$D$30,'Srv Proj Modes 05,10,15'!Q23)>0,SUMIF('Service Delivery Staff'!$D$12:$D$30,'Srv Proj Modes 05,10,15'!Q23,'Service Delivery Staff'!$P$12:$P$30),"0") -> 0 | X23: ='Staffing Planning Worksheet'!H21 -> Don't Include | Y23: ='Staffing Planning Worksheet'!I21 -> Don't Include | Z23: ='Staffing Planning Worksheet'!J21 -> Don't Include | AA23: ='Staffing Planning Worksheet'!K21 -> Don't Include | AB23: ='Staffing Planning Worksheet'!L21 -> Include | AC23: ='Staffing Planning Worksheet'!M21 -> Don't Include
B24: =B23+31 -> 46693 | C24: =IFERROR((C$32/12),0) -> 0 | D24: ='Service Delivery Staff'!$P$31 -> 0 | E24: =IF(ISERROR(ROUND($C24/$C$32*E$32,0)),"",ROUND($C24/$C$32*E$32,0)) | F24: =IF(ISERROR(ROUND($C24/$C$32*F$32,0)),"",ROUND($C24/$C$32*F$32,0)) | G24: =IF(ISERROR(ROUND($C24/$C$32*G$32,0)),"",ROUND($C24/$C$32*G$32,0)) | H24: =IF(ISERROR(ROUND($C24/$C$32*H$32,0)),"",ROUND($C24/$C$32*H$32,0)) | I24: =IF(ISERROR(ROUND($C24/$C$32*I$32,0)),"",ROUND($C24/$C$32*I$32,0)) | J24: =IF(ISERROR(ROUND($C24/$C$32*J$32,0)),"",ROUND($C24/$C$32*J$32,0)) | N24: =N23+L24-M24 -> 0
B25: =B24+31 -> 46724 | C25: =IFERROR((C$32/12),0) -> 0 | D25: ='Service Delivery Staff'!$P$31 -> 0 | E25: =IF(ISERROR(ROUND($C25/$C$32*E$32,0)),"",ROUND($C25/$C$32*E$32,0)) | F25: =IF(ISERROR(ROUND($C25/$C$32*F$32,0)),"",ROUND($C25/$C$32*F$32,0)) | G25: =IF(ISERROR(ROUND($C25/$C$32*G$32,0)),"",ROUND($C25/$C$32*G$32,0)) | H25: =IF(ISERROR(ROUND($C25/$C$32*H$32,0)),"",ROUND($C25/$C$32*H$32,0)) | I25: =IF(ISERROR(ROUND($C25/$C$32*I$32,0)),"",ROUND($C25/$C$32*I$32,0)) | J25: =IF(ISERROR(ROUND($C25/$C$32*J$32,0)),"",ROUND($C25/$C$32*J$32,0)) | N25: =N24+L25-M25 -> 0
B26: =B25+31 -> 46755 | C26: =IFERROR((C$32/12),0) -> 0 | D26: ='Service Delivery Staff'!$P$31 -> 0 | E26: =IF(ISERROR(ROUND($C26/$C$32*E$32,0)),"",ROUND($C26/$C$32*E$32,0)) | F26: =IF(ISERROR(ROUND($C26/$C$32*F$32,0)),"",ROUND($C26/$C$32*F$32,0)) | G26: =IF(ISERROR(ROUND($C26/$C$32*G$32,0)),"",ROUND($C26/$C$32*G$32,0)) | H26: =IF(ISERROR(ROUND($C26/$C$32*H$32,0)),"",ROUND($C26/$C$32*H$32,0)) | I26: =IF(ISERROR(ROUND($C26/$C$32*I$32,0)),"",ROUND($C26/$C$32*I$32,0)) | J26: =IF(ISERROR(ROUND($C26/$C$32*J$32,0)),"",ROUND($C26/$C$32*J$32,0)) | N26: =N25+L26-M26 -> 0 | W26: Weighted Averages | X26: {=IFERROR(SUMPRODUCT((X8:X23="Include")*($V8:$V23)*($T8:$T23))/SUMIFS($V8:$V23,X8:X23,"Include"),0)} -> 0 | Y26: {=IFERROR(SUMPRODUCT((Y8:Y23="Include")*($V8:$V23)*($T8:$T23))/SUMIFS($V8:$V23,Y8:Y23,"Include"),0)} -> 0 | Z26: {=IFERROR(SUMPRODUCT((Z8:Z23="Include")*($V8:$V23)*($T8:$T23))/SUMIFS($V8:$V23,Z8:Z23,"Include"),0)} -> 0 | AA26: {=IFERROR(SUMPRODUCT((AA8:AA23="Include")*($V8:$V23)*($T8:$T23))/SUMIFS($V8:$V23,AA8:AA23,"Include"),0)} -> 0 | AB26: {=IFERROR(SUMPRODUCT((AB8:AB23="Include")*($V8:$V23)*($T8:$T23))/SUMIFS($V8:$V23,AB8:AB23,"Include"),0)} -> 0 | AC26: {=IFERROR(SUMPRODUCT((AC8:AC23="Include")*($V8:$V23)*($T8:$T23))/SUMIFS($V8:$V23,AC8:AC23,"Include"),0)} -> 0
B27: =B26+31 -> 46786 | C27: =IFERROR((C$32/12),0) -> 0 | D27: ='Service Delivery Staff'!$P$31 -> 0 | E27: =IF(ISERROR(ROUND($C27/$C$32*E$32,0)),"",ROUND($C27/$C$32*E$32,0)) | F27: =IF(ISERROR(ROUND($C27/$C$32*F$32,0)),"",ROUND($C27/$C$32*F$32,0)) | G27: =IF(ISERROR(ROUND($C27/$C$32*G$32,0)),"",ROUND($C27/$C$32*G$32,0)) | H27: =IF(ISERROR(ROUND($C27/$C$32*H$32,0)),"",ROUND($C27/$C$32*H$32,0)) | I27: =IF(ISERROR(ROUND($C27/$C$32*I$32,0)),"",ROUND($C27/$C$32*I$32,0)) | J27: =IF(ISERROR(ROUND($C27/$C$32*J$32,0)),"",ROUND($C27/$C$32*J$32,0)) | N27: =N26+L27-M27 -> 0
B28: =B27+31 -> 46817 | C28: =IFERROR((C$32/12),0) -> 0 | D28: ='Service Delivery Staff'!$P$31 -> 0 | E28: =IF(ISERROR(ROUND($C28/$C$32*E$32,0)),"",ROUND($C28/$C$32*E$32,0)) | F28: =IF(ISERROR(ROUND($C28/$C$32*F$32,0)),"",ROUND($C28/$C$32*F$32,0)) | G28: =IF(ISERROR(ROUND($C28/$C$32*G$32,0)),"",ROUND($C28/$C$32*G$32,0)) | H28: =IF(ISERROR(ROUND($C28/$C$32*H$32,0)),"",ROUND($C28/$C$32*H$32,0)) | I28: =IF(ISERROR(ROUND($C28/$C$32*I$32,0)),"",ROUND($C28/$C$32*I$32,0)) | J28: =IF(ISERROR(ROUND($C28/$C$32*J$32,0)),"",ROUND($C28/$C$32*J$32,0)) | N28: =N27+L28-M28 -> 0
B29: =B28+31 -> 46848 | C29: =IFERROR((C$32/12),0) -> 0 | D29: ='Service Delivery Staff'!$P$31 -> 0 | E29: =IF(ISERROR(ROUND($C29/$C$32*E$32,0)),"",ROUND($C29/$C$32*E$32,0)) | F29: =IF(ISERROR(ROUND($C29/$C$32*F$32,0)),"",ROUND($C29/$C$32*F$32,0)) | G29: =IF(ISERROR(ROUND($C29/$C$32*G$32,0)),"",ROUND($C29/$C$32*G$32,0)) | H29: =IF(ISERROR(ROUND($C29/$C$32*H$32,0)),"",ROUND($C29/$C$32*H$32,0)) | I29: =IF(ISERROR(ROUND($C29/$C$32*I$32,0)),"",ROUND($C29/$C$32*I$32,0)) | J29: =IF(ISERROR(ROUND($C29/$C$32*J$32,0)),"",ROUND($C29/$C$32*J$32,0)) | N29: =N28+L29-M29 -> 0
B30: =B29+31 -> 46879 | C30: =IFERROR((C$32/12),0) -> 0 | D30: ='Service Delivery Staff'!$P$31 -> 0 | E30: =IF(ISERROR(ROUND($C30/$C$32*E$32,0)),"",ROUND($C30/$C$32*E$32,0)) | F30: =IF(ISERROR(ROUND($C30/$C$32*F$32,0)),"",ROUND($C30/$C$32*F$32,0)) | G30: =IF(ISERROR(ROUND($C30/$C$32*G$32,0)),"",ROUND($C30/$C$32*G$32,0)) | H30: =IF(ISERROR(ROUND($C30/$C$32*H$32,0)),"",ROUND($C30/$C$32*H$32,0)) | I30: =IF(ISERROR(ROUND($C30/$C$32*I$32,0)),"",ROUND($C30/$C$32*I$32,0)) | J30: =IF(ISERROR(ROUND($C30/$C$32*J$32,0)),"",ROUND($C30/$C$32*J$32,0)) | N30: =N29+L30-M30 -> 0
B31: =B30+31 -> 46910 | C31: =IFERROR((C$32/12),0) -> 0 | D31: ='Service Delivery Staff'!$P$31 -> 0 | E31: =IF(ISERROR(ROUND($C31/$C$32*E$32,0)),"",ROUND($C31/$C$32*E$32,0)) | F31: =IF(ISERROR(ROUND($C31/$C$32*F$32,0)),"",ROUND($C31/$C$32*F$32,0)) | G31: =IF(ISERROR(ROUND($C31/$C$32*G$32,0)),"",ROUND($C31/$C$32*G$32,0)) | H31: =IF(ISERROR(ROUND($C31/$C$32*H$32,0)),"",ROUND($C31/$C$32*H$32,0)) | I31: =IF(ISERROR(ROUND($C31/$C$32*I$32,0)),"",ROUND($C31/$C$32*I$32,0)) | J31: =IF(ISERROR(ROUND($C31/$C$32*J$32,0)),"",ROUND($C31/$C$32*J$32,0)) | N31: =N30+L31-M31 -> 0
B32: TOTAL | C32: =IFERROR(('Schedule A'!L36),0) -> 0 | E32: =IFERROR('Schedule A'!F34,0) -> 0 | F32: =IFERROR('Schedule A'!G34,0) -> 0 | G32: =IFERROR('Schedule A'!H34,0) -> 0 | H32: =IFERROR('Schedule A'!I34,0) -> 0 | I32: =IFERROR('Schedule A'!J34,0) -> 0 | J32: =IFERROR('Schedule A'!K34,0) -> 0 | L32: =SUM(L20:L31) -> 0 | M32: =SUM(M20:M31) -> 0 | N32: =N17+L32 -> 0
E33: Total Revenue | H33: =SUM(E32:J32) -> 0 | J33: =SUM(E32:J32) -> 0 | K33: Unduplicated Clients Served
J34: Estimated Cost Per Client: | M34: =IF(N32=0,0,H33/N32) -> 0

Sheet Dosage Estimates
B2: Mode 15
B3: CM&ICC (01-09) | C3: MHS (10-50) | D3: IHBS (57) | E3: TBS (58) | F3: MSS (60-69) | G3: CI (70) | H3: TOTAL | J3: Avg Monthly Census | K3: Expected Length of Program (months)
A4: Total Minutes of Services | B4: ='Schedule A'!F36 -> 0 | C4: ='Schedule A'!G36 -> 0 | D4: ='Schedule A'!H36 -> 0 | E4: ='Schedule A'!I36 -> 0 | F4: ='Schedule A'!J36 -> 0 | G4: ='Schedule A'!K36 -> 0 | H4: =IFERROR(('Schedule A'!L36),0) -> 0 | J4: =AVERAGE('Srv Proj Modes 05,10,15'!N20:N31) -> 0 | K4: ='Service Planning Worksheet'!F4 -> 12
A5: Total Monthly Minutes of Services (Average) | B5: =IFERROR((B4/12),0) -> 0 | C5: =IFERROR((C4/12),0) -> 0 | D5: =IFERROR((D4/12),0) -> 0 | E5: =IFERROR((E4/12),0) -> 0 | F5: =IFERROR((F4/12),0) -> 0 | G5: =IFERROR((G4/12),0) -> 0 | H5: =IFERROR((H4/12),0) -> 0
A6: Dosage (minutes) per client per month | B6: =IFERROR((B5/$J$4),0) -> 0 | C6: =IFERROR((C5/$J$4),0) -> 0 | D6: =IFERROR((D5/$J$4),0) -> 0 | E6: =IFERROR((E5/$J$4),0) -> 0 | F6: =IFERROR((F5/$J$4),0) -> 0 | G6: =IFERROR((G5/$J$4),0) -> 0 | H6: =IFERROR((H5/$J$4),0) -> 0
A7: Dosage (hours) per client per month | B7: =B6/60 -> 0 | C7: =C6/60 -> 0 | D7: =D6/60 -> 0 | E7: =E6/60 -> 0 | F7: =F6/60 -> 0 | G7: =G6/60 -> 0 | H7: =H6/60 -> 0
G9: Total Hours Per Unduplicated Client for Duration of the Program: | H9: =H7*K4 -> 0

Sheet RATES
A1: Hourly Payment Rate
A3: Position Type | B3: Category 1 | C3: Category 2 | D3: DHCS Rates
A4: Certified AOD Counselor | B4: =D4*0.7 -> 257.824 | C4: =D4*0.75 -> 276.24 | D4: 368.32
A5: Community Health Worker | B5: =D5*0.7 -> 239.69867 | C5: =D5*0.75 -> 256.82 | D5: 342.42667
A6: LCSW (Licensed, Waivered or Registered) | B6: =D6*0.7 -> 310.828 | C6: =D6*0.75 -> 333.03 | D6: 444.04
A7: Licensed Physician | B7: =D7*0.7 -> 1194.3307 | C7: =D7*0.75 -> 1279.64 | D7: 1706.1867
A8: Licensed Psychiatric Technician | B8: =D8*0.7 -> 218.47467 | C8: =D8*0.75 -> 234.08 | D8: 312.10667
A9: Licensed Vocational Nurse | B9: =D9*0.7 -> 254.84667 | C9: =D9*0.75 -> 273.05 | D9: 364.06667
A10: Medical Assistant | B10: =D10*0.7 -> 175.18667 | C10: =D10*0.75 -> 187.7 | D10: 250.26667
A11: Mental Health Rehabilitation Specialist | B11: =D11*0.7 -> 233.856 | C11: =D11*0.75 -> 250.56 | D11: 334.08
A12: MFT/LPCC (Licensed, Waivered or Registered) | B12: =D12*0.7 -> 310.828 | C12: =D12*0.75 -> 333.03 | D12: 444.04
A13: Nurse Practitioner | B13: =D13*0.7 -> 593.91733 | C13: =D13*0.75 -> 636.34 | D13: 848.45333
A14: Occupational Therapist | B14: =D14*0.7 -> 413.76533 | C14: =D14*0.75 -> 443.32 | D14: 591.09333
A15: Other Qualified Practitioner | B15: =D15*0.7 -> 233.856 | C15: =D15*0.75 -> 250.56 | D15: 334.08
... A19: Registered Nurse | B19: =D19*0.7 -> 485.11867 | C19: =D19*0.75 -> 519.77 | D19: 693.02667
A21: Interactive Complexity | B21: 13.22
A22: Interpretive Services | B22: 22.32
A26: Category 1 Rates are calculated at 70% of the DHCS Rate
A27: Category 2 Rates are calculated at 75% of the DHCS Rate

Sheet Program Instructions
A12: Instructions for Program staff to complete budget schedules.
A14: Service Planning Worksheet:
A20: Staffing Planning Worksheet

Sheet Rates Utilized by DBH Per Min
B4: Rate Sheet | G4: SMHS Rates | H4: SMHS per Minute
B5: DBH DHCS Provider Type (DBH Practitioner Category) | C5: DBH Discipline in myAvatar via DHCS Billing Manual | D5: DHCS Equivalent | E5: MH | F5: DHCS Rate | G5: Category 2 | H5: SMHS
B6: ALL | C6: ALL | D6: =RATES!A4 -> Certified AOD Counselor | E6: X | F6: 368.32 | G6: {=_xlfn.SWITCH($G$5,"Category 1",VLOOKUP($D6,RATES!$A$3:$C$19,2),"Category 2",VLOOKUP($D6,RATES!$A$3:$C$19,3))} -> 276.24 | H6: =G6/60 -> 4.604
B7: ALL | C7: ALL | D7: =RATES!A5 -> Community Health Worker | E7: X | F7: 342.42667 | G7: {=_xlfn.SWITCH($G$5,"Category 1",VLOOKUP($D7,RATES!$A$3:$C$19,2),"Category 2",VLOOKUP($D7,RATES!$A$3:$C$19,3))} -> 256.82 | H7: =G7/60 -> 4.2803333
B8: ALL | C8: ALL | D8: =RATES!A6 -> LCSW (Licensed, Waivered or Registered) | E8: X | F8: 444.04 | G8: {=_xlfn.SWITCH($G$5,"Category 1",VLOOKUP($D8,RATES!$A$3:$C$19,2),"Category 2",VLOOKUP($D8,RATES!$A$3:$C$19,3))} -> 333.03 | H8: =G8/60 -> 5.5505
B9: ALL | C9: ALL | D9: =RATES!A7 -> Licensed Physician | E9: X | F9: 1706.1867 | G9: {=_xlfn.SWITCH($G$5,"Category 1",VLOOKUP($D9,RATES!$A$3:$C$19,2),"Category 2",VLOOKUP($D9,RATES!$A$3:$C$19,3))} -> 1279.64 | H9: =G9/60 -> 21.327333
B10: ALL | C10: ALL | D10: =RATES!A8 -> Licensed Psychiatric Technician | E10: X | F10: 312.10667 | G10: {=_xlfn.SWITCH($G$5,"Category 1",VLOOKUP($D10,RATES!$A$3:$C$19,2),"Category 2",VLOOKUP($D10,RATES!$A$3:$C$19,3))} -> 234.08 | H10: =G10/60 -> 3.9013333
B11: ALL | C11: ALL | D11: =RATES!A9 -> Licensed Vocational Nurse | E11: X | F11: 364.06667 | G11: {=_xlfn.SWITCH($G$5,"Category 1",VLOOKUP($D11,RATES!$A$3:$C$19,2),"Category 2",VLOOKUP($D11,RATES!$A$3:$C$19,3))} -> 273.05 | H11: =G11/60 -> 4.5508333
B12: ALL | C12: ALL | D12: =RATES!A10 -> Medical Assistant | E12: X | F12: 250.26667 | G12: {=_xlfn.SWITCH($G$5,"Category 1",VLOOKUP($D12,RATES!$A$3:$C$19,2),"Category 2",VLOOKUP($D12,RATES!$A$3:$C$19,3))} -> 187.7 | H12: =G12/60 -> 3.1283333
B13: ALL | C13: ALL | D13: =RATES!A11 -> Mental Health Rehabilitation Specialist | E13: X | F13: 334.08 | G13: {=_xlfn.SWITCH($G$5,"Category 1",VLOOKUP($D13,RATES!$A$3:$C$19,2),"Category 2",VLOOKUP($D13,RATES!$A$3:$C$19,3))} -> 250.56 | H13: =G13/60 -> 4.176
B14: ALL | C14: ALL | D14: =RATES!A12 -> MFT/LPCC (Licensed, Waivered or Registered) | E14: X | F14: 444.04 | G14: {=_xlfn.SWITCH($G$5,"Category 1",VLOOKUP($D14,RATES!$A$3:$C$19,2),"Category 2",VLOOKUP($D14,RATES!$A$3:$C$19,3))} -> 333.03 | H14: =G14/60 -> 5.5505
B15: ALL | C15: ALL | D15: =RATES!A13 -> Nurse Practitioner | E15: X | F15: 848.45333 | G15: {=_xlfn.SWITCH($G$5,"Category 1",VLOOKUP($D15,RATES!$A$3:$C$19,2),"Category 2",VLOOKUP($D15,RATES!$A$3:$C$19,3))} -> 636.34 | H15: =G15/60 -> 10.605667
B16: ALL | C16: ALL | D16: =RATES!A14 -> Occupational Therapist | E16: X | F16: 591.09333 | G16: {=_xlfn.SWITCH($G$5,"Category 1",VLOOKUP($D16,RATES!$A$3:$C$19,2),"Category 2",VLOOKUP($D16,RATES!$A$3:$C$19,3))} -> 443.32 | H16: =G16/60 -> 7.3886667
B17: ALL | C17: ALL | D17: =RATES!A15 -> Other Qualified Practitioner | E17: X | F17: 334.08 | G17: {=_xlfn.SWITCH($G$5,"Category 1",VLOOKUP($D17,RATES!$A$3:$C$19,2),"Category 2",VLOOKUP($D17,RATES!$A$3:$C$19,3))} -> 250.56 | H17: =G17/60 -> 4.176
... B21: ALL | C21: ALL | D21: =RATES!A19 -> Registered Nurse | E21: X | F21: 693.02667 | G21: {=_xlfn.SWITCH($G$5,"Category 1",VLOOKUP($D21,RATES!$A$3:$C$19,2),"Category 2",VLOOKUP($D21,RATES!$A$3:$C$19,3))} -> 519.77 | H21: =G21/60 -> 8.6628333
D24: Instructions if new fee schedules are made available
E25: 1 | F25: Paste new information into this table, but DO NOT paste over the "…Per Min" columns (i.e., N, P, R, T, & V)
E26: 2 | F26: Sort "DHCS Dquivalent" alphabetically
E27: 3 | F27: Rename "MFT/LPCC (Licensed, Waivered or Registered)" to "MA/MS Clinician"
E28: 4 | F28: Delete Row for "LCSW (Licensed, Waivered or Registered)" to "MA/MS Clinician"

Sheet SMHS Rates for Program
C1: Type of Program: | D1: ='Rates Utilized by DBH Per Min'!G5 -> Category 2 | E1: SMHS per Minute
A2: Provider Type | B2: Hourly Rate | C2: Min Rate | D2: Enter Rates for This Program | E2: =D1 -> Category 2
A3: =RATES!A4 -> Certified AOD Counselor | B3: ='Rates Utilized by DBH Per Min'!G6 -> 276.24 | C3: =B3/60 -> 4.604 | D3: =E3 -> 4.604 | E3: ='Rates Utilized by DBH Per Min'!H6 -> 4.604
A4: =RATES!A5 -> Community Health Worker | B4: ='Rates Utilized by DBH Per Min'!G7 -> 256.82 | C4: =B4/60 -> 4.2803333 | D4: =E4 -> 4.2803333 | E4: ='Rates Utilized by DBH Per Min'!H7 -> 4.2803333
A5: =RATES!A6 -> LCSW (Licensed, Waivered or Registered) | B5: ='Rates Utilized by DBH Per Min'!G8 -> 333.03 | C5: =B5/60 -> 5.5505 | D5: =E5 -> 5.5505 | E5: ='Rates Utilized by DBH Per Min'!H8 -> 5.5505
A6: =RATES!A7 -> Licensed Physician | B6: ='Rates Utilized by DBH Per Min'!G9 -> 1279.64 | C6: =B6/60 -> 21.327333 | D6: =E6 -> 21.327333 | E6: ='Rates Utilized by DBH Per Min'!H9 -> 21.327333
A7: =RATES!A8 -> Licensed Psychiatric Technician | B7: ='Rates Utilized by DBH Per Min'!G10 -> 234.08 | C7: =B7/60 -> 3.9013333 | D7: =E7 -> 3.9013333 | E7: ='Rates Utilized by DBH Per Min'!H10 -> 3.9013333
A8: =RATES!A9 -> Licensed Vocational Nurse | B8: ='Rates Utilized by DBH Per Min'!G11 -> 273.05 | C8: =B8/60 -> 4.5508333 | D8: =E8 -> 4.5508333 | E8: ='Rates Utilized by DBH Per Min'!H11 -> 4.5508333
A9: =RATES!A10 -> Medical Assistant | B9: ='Rates Utilized by DBH Per Min'!G12 -> 187.7 | C9: =B9/60 -> 3.1283333 | D9: =E9 -> 3.1283333 | E9: ='Rates Utilized by DBH Per Min'!H12 -> 3.1283333
A10: =RATES!A11 -> Mental Health Rehabilitation Specialist | B10: ='Rates Utilized by DBH Per Min'!G13 -> 250.56 | C10: =B10/60 -> 4.176 | D10: =E10 -> 4.176 | E10: ='Rates Utilized by DBH Per Min'!H13 -> 4.176
A11: =RATES!A12 -> MFT/LPCC (Licensed, Waivered or Registered) | B11: ='Rates Utilized by DBH Per Min'!G14 -> 333.03 | C11: =B11/60 -> 5.5505 | D11: =E11 -> 5.5505 | E11: ='Rates Utilized by DBH Per Min'!H14 -> 5.5505
A12: =RATES!A13 -> Nurse Practitioner | B12: ='Rates Utilized by DBH Per Min'!G15 -> 636.34 | C12: =B12/60 -> 10.605667 | D12: =E12 -> 10.605667 | E12: ='Rates Utilized by DBH Per Min'!H15 -> 10.605667
A13: =RATES!A14 -> Occupational Therapist | B13: ='Rates Utilized by DBH Per Min'!G16 -> 443.32 | C13: =B13/60 -> 7.3886667 | D13: =E13 -> 7.3886667 | E13: ='Rates Utilized by DBH Per Min'!H16 -> 7.3886667
A14: =RATES!A15 -> Other Qualified Practitioner | B14: ='Rates Utilized by DBH Per Min'!G17 -> 250.56 | C14: =B14/60 -> 4.176 | D14: =E14 -> 4.176 | E14: ='Rates Utilized by DBH Per Min'!H17 -> 4.176
... A18: =RATES!A19 -> Registered Nurse | B18: ='Rates Utilized by DBH Per Min'!G21 -> 519.77 | C18: =B18/60 -> 8.6628333 | D18: =E18 -> 8.6628333 | E18: ='Rates Utilized by DBH Per Min'!H21 -> 8.6628333
A20: Instructions for DBH Program Staff to Complete
A21: Set Column D cells to equal the cells under the type of progam (e.g., MH Outpatient = Column G).

Sheet Service Planning Worksheet
D2: DESIGNING A PROGRAM BY INDICATING TYPICAL SERVICES FOR ONE CLIENT
A4: Type of program per Fee Sched. Categories | E4: Episode Length (Month) | F4: 12
A5: ='Rates Utilized by DBH Per Min'!G5 -> Category 2
E6: Unduplicated Client Count For Whole Contract: | F6: 10
A8: NOTE: Unless the program is a Crisis Program, we don't include Crisis Intervention in the planning.
A9: Crisis Intervention will have a percentage of funding allocated on Schedule A. For planning, enter this percentage in cell T19.
C10: Average Type, Duration, and Frequency of SMHS for One (1) Client | H10: Summary of Services for One (1) Client | L10: Summary of Services for Expected | P10: Summary of Expected Costs based on
E11: Freq of Service | F11: Total Min | I11: Total Min. Per | J11: Total Hr Per | L11: Unduplicated Clients | P11: "Staff Planning Worksheet"
C12: Avg Face to Face Minutes | D12: Service Provided | E12: Per Month | F12: Per Episode | I12: Client Per | J12: Client Per | M12: Total Min Per | N12: Total Hr Per | Q12: Expect Costs | R12: Total Expect
A13: SMHS | B13: Column of Services | C13: for Service | D13: 1x/Episode | H13: Column of Services | I13: Episode | J13: Episode | L13: Column of Services | M13: Contract | N13: Contract | P13: Column of Services | Q13: Per Client | R13: Costs | T13: Target % for Sched. A
A14: CM - TCM/ICC | B14: CM (SFC 1-09) | C14: 30 | D14: No | E14: 2 | F14: =C14*E14*$F$4 -> 720 | H14: CM (SFC 1-09) | I14: =SUMIF($B$14:$B$24, "CM (SFC 1-09)", $F$14:$F$24) -> 720 | J14: =I14/60 -> 12 | L14: CM (SFC 1-09) | M14: =I14*$F$6 -> 7200 | N14: =M14/60 -> 120 | P14: CM (SFC 1-09) | Q14: =IFERROR((R14/$F$6),0) -> 3501.54 | R14: =IFERROR((M14*'Staffing Planning Worksheet'!H25),0) -> 35015.4 | T14: =IFERROR((R14/$R$22),0) -> 0.061719728
A15: MHS - Assessment | B15: MHS (SFC 10-50) | C15: 90 | D15: Yes | E15: =1/F4 -> 0.083333333 | F15: =C15*E15*$F$4 -> 90 | H15: MHS (SFC 10-50) | I15: =SUMIF($B$14:$B$24, "MHS (SFC 10-50)", $F$14:$F$24) -> 8007.6 | J15: =I15/60 -> 133.46 | L15: MHS (SFC 10-50) | M15: =I15*$F$6 -> 80076 | N15: =M15/60 -> 1334.6 | P15: MHS (SFC 10-50) | Q15: =IFERROR((R15/$F$6),0) -> 38942.961 | R15: =IFERROR((M15*'Staffing Planning Worksheet'!I25),0) -> 389429.61 | T15: =IFERROR((R15/$R$22),0) -> 0.68642624
A16: MHS - Plan Development | B16: MHS (SFC 10-50) | C16: 60 | D16: No | E16: 0.33 | F16: =C16*E16*$F$4 -> 237.6 | H16: IHBS (SFC 57) | I16: =SUMIF($B$14:$B$24, "IHBS (SFC 57)", $F$14:$F$24) -> 2880 | J16: =I16/60 -> 48 | L16: IHBS (SFC 57) | M16: =I16*$F$6 -> 28800 | N16: =M16/60 -> 480 | P16: IHBS (SFC 57) | Q16: =IFERROR((R16/$F$6),0) -> 14006.16 | R16: =IFERROR((M16*'Staffing Planning Worksheet'!J25),0) -> 140061.6 | T16: =IFERROR((R16/$R$22),0) -> 0.24687891
A17: MHS - Therapy | B17: MHS (SFC 10-50) | C17: 60 | D17: No | E17: 4 | F17: =C17*E17*$F$4 -> 2880 | H17: TBS (SFC 58) | I17: =SUMIF($B$14:$B$24, "TBS (SFC 58)", $F$14:$F$24) -> 0 | J17: =I17/60 -> 0 | L17: TBS (SFC 58) | M17: =I17*$F$6 -> 0 | N17: =M17/60 -> 0 | P17: TBS (SFC 58) | Q17: =IFERROR((R17/$F$6),0) -> 0 | R17: =IFERROR((M17*'Staffing Planning Worksheet'!K25),0) -> 0 | T17: =IFERROR((R17/$R$22),0) -> 0
A18: MHS - Group | B18: MHS (SFC 10-50) | C18: 60 | D18: No | E18: 8 | F18: =(C18*E18*$F$4)/4.5 -> 1280 | H18: MSS (SFC 60) | I18: =SUMIF($B$14:$B$24, "MSS (SFC 60)", $F$14:$F$24) -> 0 | J18: =I18/60 -> 0 | L18: MSS (SFC 60) | M18: =I18*$F$6 -> 0 | N18: =M18/60 -> 0 | P18: MSS (SFC 60) | Q18: =IFERROR((R18/$F$6),0) -> 0 | R18: =IFERROR((M18*'Staffing Planning Worksheet'!L25),0) -> 0 | T18: =IFERROR((R18/$R$22),0) -> 0
A19: MHS - Rehab | B19: MHS (SFC 10-50) | C19: 60 | D19: No | E19: 4 | F19: =C19*E19*$F$4 -> 2880 | P19: CI (SFC 70) | Q19: =IFERROR((R19/$F$6),0) -> 282.2533 | R19: =SUM(R14:R18)*T19 -> 2822.533 | T19: 0.005
A20: MHS - Rehab Group | B20: MHS (SFC 10-50) | C20: 60 | D20: No | E20: 4 | F20: =(C20*E20*$F$4)/4.5 -> 640 | S20: Total % | T20: =SUM(T14:T19) -> 1.0000249
A21: MHS - IHBS | B21: IHBS (SFC 57) | C21: 60 | D21: No | E21: 4 | F21: =C21*E21*$F$4 -> 2880 | Q21: Cost Per Client | R21: Total Contract
A22: MHS - TBS | B22: TBS (SFC 58) | C22: 60 | D22: No | E22: 0 | F22: =C22*E22*$F$4 -> 0 | Q22: =SUM(Q14:Q21) -> 56732.914 | R22: =SUM(R14:R21) -> 567329.14
A23: MSS - Assessment/Evaluation | B23: MSS (SFC 60) | C23: 90 | D23: Yes | E23: 0 | F23: =C23*E23*$F$4 -> 0
A24: MSS - Ongoing Care | B24: MSS (SFC 60) | C24: 30 | D24: No | E24: 0 | F24: =C24*E24*$F$4 -> 0
D30: REVERSE ENGINEERING THE SAME PROGRAM BY TOTAL BUDGET
A32: Annual Contract Budget Amount | B32: 567329
A33: Cost Per Client as indicated above | B33: =Q22 -> 56732.914
A34: Expected Unduplicated Client Count | B34: =IFERROR((B32/B33),0) -> 9.9999975
A38: Column of Services
A39: CM (SFC 1-09) | B39: =IFERROR(($B$32*C39),0) -> 35015.391 | C39: =T14 -> 0.061719728
A40: MHS (SFC 10-50) | B40: =IFERROR(($B$32*C40),0) -> 389429.51 | C40: =T15 -> 0.68642624
A41: IHBS (SFC 57) | B41: =IFERROR(($B$32*C41),0) -> 140061.57 | C41: =T16 -> 0.24687891
A42: TBS (SFC 58) | B42: =IFERROR(($B$32*C42),0) -> 0 | C42: =T17 -> 0
