Workbook
Name Print_Area_MI: #REF!
Name Print_Area_MI: #REF!

Sheet Cost Summary
A2: N40080-19-R-0309
A3: REGIONAL GUARD SERVICES
D9: Recurring Work /FFP | F9: Non-Recurring Work /IDIQ
I10: Totals
B12: Contract Base Period | D12: =Base!J8 -> 0 | F12: =Base!J24 -> 0 | I12: =D12+F12 -> 0
B14: 1st Contract Option Period | D14: ='OY1'!J8 -> 0 | F14: ='OY1'!J24 -> 0 | I14: =D14+F14 -> 0
B16: 2nd Contract Option Period | D16: ='OY2'!J8 -> 0 | F16: ='OY2'!J24 -> 0 | I16: =D16+F16 -> 0
B18: 3rd Contract Option Period | D18: ='OY3'!J8 -> 0 | F18: ='OY3'!J24 -> 0 | I18: =D18+F18 -> 0
B19: 4th Contract Option Period | D19: ='OY4'!J8 -> 0 | F19: ='OY4'!J24 -> 0 | I19: =D19+F19 -> 0
A20: TOTALS | D20: =SUM(D12:D19) -> 0 | F20: =SUM(F12:F19) -> 0 | I20: =SUM(I12:I19) -> 0

Sheet Base
C2: SOLICITATION N40080-19-R-0309 REGIONAL GUARD SERVICES SUPPLIES OR SERVICES AND PRICES
C6: CLIN | D6: SLIN | F6: DESCRIPTION | J6: AMOUNT
D8: Grand Total of Recurring Work for the Base Period | J8: =SUM(J9,J15,J16,J17,J18,J20,J21,J23) -> 0
C9: CLIN 0001 | D9: Recurring Work: Naval Support Activity Washington (PWD Washington) | J9: =SUM(J10:J14) -> 0
D10: SLIN | E10: 01 | F10: Guard Services to be performed at Naval Sea Systems Command ( NAVSEA Bldg.104), WNY,Washington, DC | J10: =ExA!H16 -> 0
D11: SLIN | E11: 02 | F11: Guard Services to be performed at Naval Sea Systems Command (NAVSEA All Other), WNY, Washington, DC | J11: =ExA!H28 -> 0
D12: SLIN | E12: 03 | F12: Guard Services to be performed at Naval Support Facility Carderock (NDW), West Bethesda, MD | J12: =ExA!H35 -> 0
D13: SLIN | E13: 04 | F13: Guard Services to be performed at Naval Support Facility Arlington (NDW), Arlington, VA | J13: =ExA!H39 -> 0
D14: SLIN | E14: 05 | F14: Guard Services to be performed at Strategic Service Program (SSP Bldg.200), WNY, Washington D.C. | J14: =ExA!H46 -> 0
C15: CLIN 0001 | D15: Recurring Work: RESERVED | J15: =ExA!H48 -> 0
C16: CLIN 0001 | D16: Recurring Work: Naval Support Activity South Potomac Sites (PWD South Potomac) - NOT USED | J16: =ExA!H50 -> 0
C17: CLIN 0001 | D17: Recurring Work: Naval Air Station Patuxent River, MD - NOT USED | J17: 0
C18: CLIN 0001 | D18: Recurring Work: Naval Support Activity, Annapolis, MD (PWD Annapolis) | J18: =J19 -> 0
C19: CLIN 0001 | D19: SLIN | E19: 01 | F19: Guard Services to be performed at Naval Research Lab Chesapeake Beach Detachment (NDW) | J19: =ExA!H61 -> 0
C20: CLIN 0001 | D20: Recurring Work: Marine Corps Fourth Option, Quantico, VA - NOT USED | J20: =ExA!H63 -> 0
C21: CLIN 0001 | D21: Recurring Work: Naval Support Activity Bethesda Sites (PWD Bethesda) | J21: =SUM(J22:J22) -> 0
C22: CLIN 0001 | D22: SLIN | E22: 01 | F22: Guard Services to be performed at Naval Support Activity Bethesda (NDW), Bethesda, MD | J22: =ExA!$H$69 -> 0
C23: CLIN 0001 | D23: Recurring Work: Naval Support Activity Joint Base Anacostia/Bolling Sites (PWD JBAB) - NOT USED | J23: =ExA!H72 -> 0
C24: CLIN 0002 | D24: Non-Recurring Work: Exhibit A (Not To Exceed) | J24: =ExB!F16 -> 0
C25: Base Year Recurring and Non-Recurring Work | J25: =J8+J24 -> 0

Sheet ExA
B2: Attachment 0200000-08 Exhibit Line Item Numbers (ELINs)
B6: Exhibit J - Base Period Recurring Work ELINs | J6: Inflation Rates
B7: SLIN | C7: ELIN | D7: Supplies/Services | E7: Est. Qty. | F7: Unit | G7: Unit Price | H7: Total Amount
J8: Base Year --> Option 1 | K8: 0.025
B10: A | C10: 100 | D10: Recurring Work: RESERVED - NOT USED | J10: Option 1 --> Option 2 | K10: 0.025
J11: Option 2 --> Option 3 | K11: 0.025
B12: A | C12: 101 | D12: Guard Services to be performed at Naval Sea Systems Command ( NAVSEA Bldg.104), WNY,Washington, DC | E12: Est Qty | F12: Unit | G12: Unit Price | H12: Total Amount | J12: Option 3 --> Option 4 | K12: 0.025
C13: AA | D13: Perform Security Guard Operations - Bldg 104, Post 7 | E13: 12 | F13: Mo | H13: =G13*E13 -> 0
C14: AB | D14: Perform Security Guard Operations - Bldg 104, Post 10 | E14: 12 | F14: Mo | H14: =G14*E14 -> 0
C15: AC | D15: Perform Security Guard Operations - Bldg 104, Post 11 | E15: 12 | F15: Mo | H15: =G15*E15 -> 0
B16: A | C16: 101 | D16: SUBTOTAL: ELINS | H16: =SUM(H13:H15) -> 0
B18: A | C18: 102 | D18: Guard Services to be performed at Naval Sea Systems Command (NAVSEA All Other), WNY, Washington, DC | E18: Est Qty | F18: Unit | G18: Unit Price | H18: Total Amount
C19: AA | D19: Perform Security Guard Operations - Post 1 | E19: 12 | F19: Mo | H19: =G19*E19 -> 0
C20: AB | D20: Perform Security Guard Operations - Post 2 | E20: 12 | F20: Mo | H20: =G20*E20 -> 0
C21: AC | D21: Perform Security Guard Operations - Post 3 | E21: 12 | F21: Mo | H21: =G21*E21 -> 0
C22: AD | D22: Perform Security Guard Operations - Post 4 | E22: 12 | F22: Mo | H22: =G22*E22 -> 0
C23: AE | D23: Perform Security Guard Operations - Post 5 | E23: 12 | F23: Mo | H23: =G23*E23 -> 0
C24: AF | D24: Perform Security Guard Operations - Post 6 | E24: 12 | F24: Mo | H24: =G24*E24 -> 0
C25: AG | D25: Perform Security Guard Operations - Post 9 | E25: 12 | F25: Mo | H25: =G25*E25 -> 0
C26: AH | D26: Perform Security Guard Operations - Post 12 | E26: 12 | F26: Mo | H26: =G26*E26 -> 0
C27: AJ | D27: Perform Security Guard Operations - Post 13 | E27: 12 | F27: Mo | H27: =G27*E27 -> 0
B28: A | C28: 102 | D28: SUBTOTAL: ELINS | H28: =SUM(H19:H27) -> 0
B30: A | C30: 103 | D30: Guard Services to be performed at Naval Support Facility Carderock (NDW), West Bethesda, MD | E30: Est Qty | F30: Unit | G30: Unit Price | H30: Total Amount
C31: AA | D31: Perform Security Guard Operations - Gate 2 | E31: 12 | F31: Mo | H31: =G31*E31 -> 0
C32: AB | D32: Perform Security Guard Operations - Gate 3 | E32: 12 | F32: Mo | H32: =G32*E32 -> 0
C33: AC | D33: Perform Security Guard Operations - Relief Rover | E33: 12 | F33: Mo | H33: =G33*E33 -> 0
C34: AD | D34: Perform Security Guard Operations - Shift Supervisor | E34: 12 | F34: Mo | H34: =G34*E34 -> 0
B35: A | C35: 103 | D35: SUBTOTAL: ELINS | H35: =SUM(H31:H34) -> 0
B37: A | C37: 104 | D37: Guard Services to be performed at Naval Support Facility Arlington (NDW), Arlington, VA | E37: Est Qty | F37: Unit | G37: Unit Price | H37: Total Amount
C38: AA | D38: Perform Security Guard Operations - Entry/Exit Control Point | E38: 12 | F38: Mo | H38: =G38*E38 -> 0
B39: A | C39: 104 | D39: SUBTOTAL: ELINS | H39: =SUM(H38:H38) -> 0
B41: A | C41: 105 | D41: Guard Services to be performed at Strategic Service Program (SSP Bldg.200), WNY, Washington D.C | E41: Est Qty | F41: Unit | G41: Unit Price | H41: Total Amount
C42: AA | D42: Perform Security Guard Operations - 24 Hour Supervisor-Entry/Exit Control Point | E42: 12 | F42: Mo | H42: =E42*G42 -> 0
C43: AB | D43: Perform Security Guard Operations - 24 Hour -Entry/Exit Control Point | E43: 12 | F43: Mo | H43: =E43*G43 -> 0
C44: AC | D44: Perform Security Guard Operations-Entry/ Exit Control Point 12 Hrs/ 5 Days p/Wk | E44: 12 | F44: Mo | H44: =E44*G44 -> 0
C45: AD | D45: Perform Security Guard Operations - Roving Patrol 12 Hrs/ 5 Days p/Wk | E45: 12 | F45: Mo | H45: =E45*G45 -> 0
B46: A | C46: 105 | D46: SUBTOTAL: ELINS | H46: =SUM(H42:H45) -> 0
B48: A | C48: 200 | D48: Recurring Work: RESERVED - NOT USED
B50: A | C50: 300 | D50: Recurring Work: RESERVED - NOT USED
B52: A | C52: 400 | D52: Recurring Work: RESERVED - NOT USED
...

Sheet ExB
B2: Attachment 0200000-08 Exhibit Line Item Numbers (ELINs)
B7: Base Period Non-Recurring Work ELINs
B8: ELIN | C8: Supplies/Services (Short Description) | D8: Est. Qty. | E8: Unit | F8: Unit Price | G8: Total Amount
B11: B001 AA | C11: Provide Un-Armed Guards to perform Security Services at a stationary post as specified in the task order. The Contrractor shall comply with Post Orders & SOP's required for each post. Post Orders and staffing requirements will be provided with task order. | D11: 2000 | E11: LH | G11: =+F11*D11 -> 0
B12: B001 AB | C12: Provide Armed Guards to perform Security Services at a stationary post as specified in the task order. The Contrractor shall comply with Post Orders & SOP's required for each post. Post Orders and staffing requirements will be provided with task order. | D12: 2000 | E12: LH | G12: =F12*D12 -> 0
B13: B001 AC | C13: Provide Un-Armed Guards to perform Security Services at a roving patrol post as specified in the task order. The Contrractor shall comply with Post Orders & SOP's required for each post. Post Orders and staffing requirements will be provided with task order. | D13: 2000 | E13: LH | G13: =+F13*D13 -> 0
B14: B001 AD | C14: Provide Armed Guards to perform Security Services at a roving patrol post as specified in the task order. The Contrractor shall comply with Post Orders & SOP's required for each post. Post Orders and staffing requirements will be provided with task order. | D14: 2000 | E14: LH | G14: =F14*D14 -> 0
B16: Total Base Period Non-Recurring Work - Not to Exceed | F16: =SUM(G11:G14) -> 0

Sheet OY1
C2: SOLICITATION N40080-19-R-0309 REGIONAL GUARD SERVICES SUPPLIES OR SERVICES AND PRICES
C6: CLIN | D6: SLIN | F6: DESCRIPTION | J6: AMOUNT
D8: Grand Total of Recurring Work for Option Year 1 | J8: =SUM(J9,J15,J16,J17,J18,J20,J21,J23) -> 0
C9: CLIN 0003 | D9: Recurring Work: Naval Support Activity Washington (PWD Washington) | J9: =SUM(J10:J14) -> 0
D10: SLIN | E10: 01 | F10: Guard Services to be performed at Naval Sea Systems Command ( NAVSEA Bldg.104), WNY,Washington, DC | J10: =ExC!H16 -> 0
D11: SLIN | E11: 02 | F11: Guard Services to be performed at Naval Sea Systems Command (NAVSEA All Other), WNY, Washington, DC | J11: =ExC!H28 -> 0
D12: SLIN | E12: 03 | F12: Guard Services to be performed at Naval Support Facility Carderock (NDW), West Bethesda, MD | J12: =ExC!H35 -> 0
D13: SLIN | E13: 04 | F13: Guard Services to be performed at Naval Support Facility Arlington (NDW), Arlington, VA | J13: =ExC!H39 -> 0
D14: SLIN | E14: 05 | F14: Guard Services to be performed at Strategic Service Program (SSP Bldg.200), WNY, Washington D.C. | J14: =ExC!H46 -> 0
C15: CLIN 0003 | D15: Recurring Work: RESERVED | J15: =ExC!H48 -> 0
C16: CLIN 0003 | D16: Recurring Work: Naval Support Activity South Potomac Sites (PWD South Potomac) - NOT USED | J16: =ExC!H50 -> 0
C17: CLIN 0003 | D17: Recurring Work: Naval Air Station Patuxent River, MD - NOT USED | J17: 0
C18: CLIN 0003 | D18: Recurring Work: Naval Support Activity, Annapolis, MD (PWD Annapolis) | J18: =J19 -> 0
D19: SLIN | E19: 01 | F19: Guard Services to be performed at Naval Research Lab Chesapeake Beach Detachment (NDW) | J19: =ExC!H61 -> 0
C20: CLIN 0003 | D20: Recurring Work: Marine Corps Fourth Option, Quantico, VA - NOT USED | J20: =ExA!H63 -> 0
C21: CLIN 0003 | D21: Recurring Work: Naval Support Activity Bethesda Sites (PWD Bethesda) | J21: =SUM(J22:J22) -> 0
D22: SLIN | E22: 01 | F22: Guard Services to be performed at Naval Support Activity Bethesda (NDW), Bethesda, MD | J22: =ExC!$H$69 -> 0
C23: CLIN 0003 | D23: Recurring Work: Naval Support Activity Joint Base Anacostia/Bolling Sites (PWD JBAB) - NOT USED | J23: =ExA!H72 -> 0
C24: CLIN 0004 | D24: Non-Recurring Work: Exhibit A (Not To Exceed) | J24: =ExD!F16 -> 0
C25: Option Year 1 Recurring and Non-Recurring Work | J25: =J8+J24 -> 0

Sheet ExC
B2: Attachment 0200000-08 Exhibit Line Item Numbers (ELINs)
B6: Option Year 1 Recurring Work ELINs
B7: SLIN | C7: ELIN | D7: Supplies/Services | E7: Est. Qty. | F7: Unit | G7: Unit Price | H7: Total Amount
B10: C | C10: 100 | D10: Recurring Work: RESERVED - NOT USED | E10: Est Qty | F10: Unit | G10: Unit Price | H10: Total Amount
B12: C | C12: 101 | D12: Guard Services to be performed at Naval Sea Systems Command ( NAVSEA Bldg.104), WNY,Washington, DC | E12: Est Qty | F12: Unit | G12: Unit Price | H12: Total Amount
C13: AA | D13: Perform Security Guard Operations - Bldg 104, Post 7 | E13: 12 | F13: Mo | G13: =ExA!G13*ExA!K8+ExA!G13 -> 0 | H13: =G13*E13 -> 0
C14: AB | D14: Perform Security Guard Operations - Bldg 104, Post 10 | E14: 12 | F14: Mo | G14: =ExA!G14*ExA!K8+ExA!G14 -> 0 | H14: =G14*E14 -> 0
C15: AC | D15: Perform Security Guard Operations - Bldg 104, Post 11 | E15: 12 | F15: Mo | G15: =ExA!G15*ExA!K8+ExA!G15 -> 0 | H15: =G15*E15 -> 0
B16: C | C16: 101 | D16: SUBTOTAL: ELINS | H16: =SUM(H13:H15) -> 0
B18: C | C18: 102 | D18: Guard Services to be performed at Naval Sea Systems Command (NAVSEA All Other), WNY, Washington, DC | E18: Est Qty | F18: Unit | G18: Unit Price | H18: Total Amount
C19: AA | D19: Perform Security Guard Operations - Post 1 | E19: 12 | F19: Mo | G19: =ExA!G19*ExA!K8+ExA!G19 -> 0 | H19: =G19*E19 -> 0
C20: AB | D20: Perform Security Guard Operations - Post 2 | E20: 12 | F20: Mo | G20: =ExA!G20*ExA!K8+ExA!G20 -> 0 | H20: =G20*E20 -> 0
C21: AC | D21: Perform Security Guard Operations - Post 3 | E21: 12 | F21: Mo | G21: =ExA!G21*ExA!K8+ExA!G21 -> 0 | H21: =G21*E21 -> 0
C22: AD | D22: Perform Security Guard Operations - Post 4 | E22: 12 | F22: Mo | G22: =ExA!G22*ExA!K10+ExA!G22 -> 0 | H22: =G22*E22 -> 0
C23: AE | D23: Perform Security Guard Operations - Post 5 | E23: 12 | F23: Mo | G23: =ExA!G23*ExA!K8+ExA!G23 -> 0 | H23: =G23*E23 -> 0
C24: AF | D24: Perform Security Guard Operations - Post 6 | E24: 12 | F24: Mo | G24: =ExA!G24*ExA!K8+ExA!G24 -> 0 | H24: =G24*E24 -> 0
C25: AG | D25: Perform Security Guard Operations - Post 9 | E25: 12 | F25: Mo | G25: =ExA!G25*ExA!K8+ExA!G25 -> 0 | H25: =G25*E25 -> 0
C26: AH | D26: Perform Security Guard Operations - Post 12 | E26: 12 | F26: Mo | G26: =ExA!G26*ExA!K8+ExA!G26 -> 0 | H26: =G26*E26 -> 0
C27: AJ | D27: Perform Security Guard Operations - Post 13 | E27: 12 | F27: Mo | G27: =ExA!G27*ExA!K8+ExA!G27 -> 0 | H27: =G27*E27 -> 0
B28: C | C28: 102 | D28: SUBTOTAL: ELINS | H28: =SUM(H19:H27) -> 0
B30: C | C30: 103 | D30: Guard Services to be performed at Naval Support Facility Carderock (NDW), West Bethesda, MD | E30: Est Qty | F30: Unit | G30: Unit Price | H30: Total Amount
C31: AA | D31: Perform Security Guard Operations - Gate 2 | E31: 12 | F31: Mo | G31: =ExA!G31*ExA!K8+ExA!G31 -> 0 | H31: =G31*E31 -> 0
C32: AB | D32: Perform Security Guard Operations - Gate 3 | E32: 12 | F32: Mo | G32: =ExA!G32*ExA!K8+ExA!G32 -> 0 | H32: =G32*E32 -> 0
C33: AC | D33: Perform Security Guard Operations - Relief Rover | E33: 12 | F33: Mo | G33: =ExA!G33*ExA!K8+ExA!G33 -> 0 | H33: =G33*E33 -> 0
C34: AD | D34: Perform Security Guard Operations - Shift Supervisor | E34: 12 | F34: Mo | G34: =ExA!G34*ExA!K8+ExA!G34 -> 0 | H34: =G34*E34 -> 0
B35: C | C35: 103 | D35: SUBTOTAL: ELINS | H35: =SUM(H31:H34) -> 0
B37: C | C37: 104 | D37: Guard Services to be performed at Naval Support Facility Arlington (NDW), Arlington, VA | E37: Est Qty | F37: Unit | G37: Unit Price | H37: Total Amount
C38: AA | D38: Perform Security Guard Operations - Entry/Exit Control Point | E38: 12 | F38: Mo | G38: =ExA!G38*ExA!K8+ExA!G38 -> 0 | H38: =G38*E38 -> 0
B39: C | C39: 104 | D39: SUBTOTAL: ELINS | H39: =SUM(H38:H38) -> 0
B41: C | C41: 105 | D41: Guard Services to be performed at Strategic Service Program (SSP Bldg.200), WNY, Washington D.C | E41: Est Qty | F41: Unit | G41: Unit Price | H41: Total Amount
C42: AA | D42: Perform Security Guard Operations - 24 Hour Supervisor-Entry/Exit Control Point | E42: 12 | F42: Mo | G42: =ExA!G42*ExA!K8+ExA!G42 -> 0 | H42: =E42*G42 -> 0
C43: AB | D43: Perform Security Guard Operations - 24 Hour -Entry/Exit Control Point | E43: 12 | F43: Mo | G43: =ExA!G43*ExA!K8+ExA!G43 -> 0 | H43: =E43*G43 -> 0
C44: AC | D44: Perform Security Guard Operations-Entry/ Exit Control Point 12 Hrs/ 5 Days p/Wk | E44: 12 | F44: Mo | G44: =ExA!G44*ExA!K8+ExA!G44 -> 0 | H44: =E44*G44 -> 0
C45: AD | D45: Perform Security Guard Operations - Roving Patrol 12 Hrs/ 5 Days p/Wk | E45: 12 | F45: Mo | G45: =ExA!G45*ExA!K8+ExA!G45 -> 0 | H45: =E45*G45 -> 0
B46: C | C46: 105 | D46: SUBTOTAL: ELINS | H46: =SUM(H42:H45) -> 0
B48: C | C48: 200 | D48: Recurring Work: RESERVED - NOT USED
B50: C | C50: 300 | D50: Recurring Work: RESERVED - NOT USED
B52: C | C52: 400 | D52: Recurring Work: RESERVED - NOT USED
B54: C | C54: 500 | D54: Firm Fixed-Price Work: Naval Research Laboratories, Chesapeake Beach Division , MD (NDW) | E54: Est Qty | F54: Unit | G54: Unit Price | H54: Total Amount
C55: AA | D55: Perform Security Guard Operations- Bldg 6, Post 1 - PM | E55: 12 | F55: Mo | G55: =ExA!G55*ExA!K8+ExA!G55 -> 0 | H55: =G55*E55 -> 0
...

Sheet ExD
B2: Attachment 0200000-08 Exhibit Line Item Numbers (ELINs)
B7: Option Year 1 Non-Recurring Work ELINs
B8: ELIN | C8: Supplies/Services (Short Description) | D8: Est. Qty. | E8: Unit | F8: Unit Price | G8: Total Amount
B11: D001 AA | C11: Provide Un-Armed Guards to perform Security Services at a stationary post as specified in the task order. The Contrractor shall comply with Post Orders & SOP's required for each post. Post Orders and staffing requirements will be provided with task order. | D11: 2000 | E11: LH | F11: =ExB!F11*ExA!K8+ExB!F11 -> 0 | G11: =+F11*D11 -> 0
B12: D001 AB | C12: Provide Armed Guards to perform Security Services at a stationary post as specified in the task order. The Contrractor shall comply with Post Orders & SOP's required for each post. Post Orders and staffing requirements will be provided with task order. | D12: 2000 | E12: LH | F12: =ExB!F12*ExA!K8+ExB!F12 -> 0 | G12: =+F12*D12 -> 0
B13: D001 AC | C13: Provide Un-Armed Guards to perform Security Services at a roving patrol post as specified in the task order. The Contrractor shall comply with Post Orders & SOP's required for each post. Post Orders and staffing requirements will be provided with task order. | D13: 2000 | E13: LH | F13: =ExB!F13*ExA!K8+ExB!F13 -> 0 | G13: =+F13*D13 -> 0
B14: D001 AD | C14: Provide Armed Guards to perform Security Services at a roving patrol post as specified in the task order. The Contrractor shall comply with Post Orders & SOP's required for each post. Post Orders and staffing requirements will be provided with task order. | D14: 2000 | E14: LH | F14: =ExB!F14*ExA!K8+ExB!F14 -> 0 | G14: =F14*D14 -> 0
B16: Total Option Year 1 Non-Recurring Work - Not to Exceed | F16: =SUM(G11:G14) -> 0

Sheet OY2
C2: SOLICITATION N40080-19-R-0309 REGIONAL GUARD SERVICES SUPPLIES OR SERVICES AND PRICES
C6: CLIN | D6: SLIN | F6: DESCRIPTION | J6: AMOUNT
D8: Grand Total of Recurring Work for Option Year 2 | J8: =SUM(J9,J15,J16,J17,J18,J20,J21,J23) -> 0
C9: CLIN 0005 | D9: Recurring Work: Naval Support Activity Washington (PWD Washington) | J9: =SUM(J10:J14) -> 0
D10: SLIN | E10: 01 | F10: Guard Services to be performed at Naval Sea Systems Command ( NAVSEA Bldg.104), WNY,Washington, DC | J10: =ExE!H16 -> 0
D11: SLIN | E11: 02 | F11: Guard Services to be performed at Naval Sea Systems Command (NAVSEA All Other), WNY, Washington, DC | J11: =ExE!H28 -> 0
D12: SLIN | E12: 03 | F12: Guard Services to be performed at Naval Support Facility Carderock (NDW), West Bethesda, MD | J12: =ExE!H35 -> 0
D13: SLIN | E13: 04 | F13: Guard Services to be performed at Naval Support Facility Arlington (NDW), Arlington, VA | J13: =ExE!H39 -> 0
D14: SLIN | E14: 05 | F14: Guard Services to be performed at Strategic Service Program (SSP Bldg.200), WNY, Washington D.C. | J14: =ExE!H46 -> 0
C15: CLIN 0005 | D15: Recurring Work: RESERVED | J15: =ExA!H48 -> 0
C16: CLIN 0005 | D16: Recurring Work: Naval Support Activity South Potomac Sites (PWD South Potomac) - NOT USED | J16: =ExA!H50 -> 0
C17: CLIN 0005 | D17: Recurring Work: Naval Air Station Patuxent River, MD - NOT USED | J17: 0
C18: CLIN 0005 | D18: Recurring Work: Naval Support Activity, Annapolis, MD (PWD Annapolis) | J18: =J19 -> 0
D19: SLIN | E19: 01 | F19: Guard Services to be performed at Naval Research Lab Chesapeake Beach Detachment (NDW) | J19: =ExE!H61 -> 0
C20: CLIN 0005 | D20: Recurring Work: Marine Corps Fourth Option, Quantico, VA - NOT USED | J20: =ExE!H63 -> 0
C21: CLIN 0005 | D21: Recurring Work: Naval Support Activity Bethesda Sites (PWD Bethesda) | J21: =SUM(J22:J22) -> 0
D22: SLIN | E22: 01 | F22: Guard Services to be performed at Naval Support Activity Bethesda (NDW), Bethesda, MD | J22: =ExE!$H$69 -> 0
C23: CLIN 0005 | D23: Recurring Work: Naval Support Activity Joint Base Anacostia/Bolling Sites (PWD JBAB) - NOT USED | J23: =ExA!H72 -> 0
C24: CLIN 0006 | D24: Non-Recurring Work: Exhibit A (Not To Exceed) | J24: =ExF!F16 -> 0
C25: Option Year 2 Recurring and Non-Recurring Work | J25: =J8+J24 -> 0

Sheet ExE
B2: Attachment 0200000-08 Exhibit Line Item Numbers (ELINs)
B6: Option Year 2 Recurring Work ELINs
B7: SLIN | C7: ELIN | D7: Supplies/Services | E7: Est. Qty. | F7: Unit | G7: Unit Price | H7: Total Amount
B10: E | C10: 100 | D10: Recurring Work: RESERVED - NOT USED | E10: Est Qty | F10: Unit | G10: Unit Price | H10: Total Amount
B12: E | C12: 101 | D12: Guard Services to be performed at Naval Sea Systems Command ( NAVSEA Bldg.104), WNY,Washington, DC | E12: Est Qty | F12: Unit | G12: Unit Price | H12: Total Amount
C13: AA | D13: Perform Security Guard Operations - Bldg 104, Post 7 | E13: 12 | F13: Mo | G13: =ExC!G13*ExA!K$10+ExC!G13 -> 0 | H13: =G13*E13 -> 0
C14: AB | D14: Perform Security Guard Operations - Bldg 104, Post 10 | E14: 12 | F14: Mo | G14: =ExC!G14*ExA!K$10+ExC!G14 -> 0 | H14: =G14*E14 -> 0
C15: AC | D15: Perform Security Guard Operations - Bldg 104, Post 11 | E15: 12 | F15: Mo | G15: =ExC!G15*ExA!K$10+ExC!G15 -> 0 | H15: =G15*E15 -> 0
B16: E | C16: 101 | D16: SUBTOTAL: ELINS | H16: =SUM(H13:H15) -> 0
B18: E | C18: 102 | D18: Guard Services to be performed at Naval Sea Systems Command (NAVSEA All Other), WNY, Washington, DC | E18: Est Qty | F18: Unit | G18: Unit Price | H18: Total Amount
C19: AA | D19: Perform Security Guard Operations - Post 1 | E19: 12 | F19: Mo | G19: =ExC!G19*ExA!K$10+ExC!G19 -> 0 | H19: =G19*E19 -> 0
C20: AB | D20: Perform Security Guard Operations - Post 2 | E20: 12 | F20: Mo | G20: =ExC!G20*ExA!K$10+ExC!G20 -> 0 | H20: =G20*E20 -> 0
C21: AC | D21: Perform Security Guard Operations - Post 3 | E21: 12 | F21: Mo | G21: =ExC!G21*ExA!K$10+ExC!G21 -> 0 | H21: =G21*E21 -> 0
C22: AD | D22: Perform Security Guard Operations - Post 4 | E22: 12 | F22: Mo | G22: =ExC!G22*ExA!K$10+ExC!G22 -> 0 | H22: =G22*E22 -> 0
C23: AE | D23: Perform Security Guard Operations - Post 5 | E23: 12 | F23: Mo | G23: =ExC!G23*ExA!K$10+ExC!G23 -> 0 | H23: =G23*E23 -> 0
C24: AF | D24: Perform Security Guard Operations - Post 6 | E24: 12 | F24: Mo | G24: =ExC!G24*ExA!K$10+ExC!G24 -> 0 | H24: =G24*E24 -> 0
C25: AG | D25: Perform Security Guard Operations - Post 9 | E25: 12 | F25: Mo | G25: =ExC!G25*ExA!K$10+ExC!G25 -> 0 | H25: =G25*E25 -> 0
C26: AH | D26: Perform Security Guard Operations - Post 12 | E26: 12 | F26: Mo | G26: =ExC!G26*ExA!K$10+ExC!G26 -> 0 | H26: =G26*E26 -> 0
C27: AJ | D27: Perform Security Guard Operations - Post 13 | E27: 12 | F27: Mo | G27: =ExC!G27*ExA!K$10+ExC!G27 -> 0 | H27: =G27*E27 -> 0
B28: E | C28: 102 | D28: SUBTOTAL: ELINS | H28: =SUM(H19:H27) -> 0
B30: E | C30: 103 | D30: Guard Services to be performed at Naval Support Facility Carderock (NDW), West Bethesda, MD | E30: Est Qty | F30: Unit | G30: Unit Price | H30: Total Amount
C31: AA | D31: Perform Security Guard Operations - Gate 2 | E31: 12 | F31: Mo | G31: =ExC!G31*ExA!K$10+ExC!G31 -> 0 | H31: =G31*E31 -> 0
C32: AB | D32: Perform Security Guard Operations - Gate 3 | E32: 12 | F32: Mo | G32: =ExC!G32*ExA!K$10+ExC!G32 -> 0 | H32: =G32*E32 -> 0
C33: AC | D33: Perform Security Guard Operations - Relief Rover | E33: 12 | F33: Mo | G33: =ExC!G33*ExA!K$10+ExC!G33 -> 0 | H33: =G33*E33 -> 0
C34: AD | D34: Perform Security Guard Operations - Shift Supervisor | E34: 12 | F34: Mo | G34: =ExC!G34*ExA!K$10+ExC!G34 -> 0 | H34: =G34*E34 -> 0
B35: E | C35: 103 | D35: SUBTOTAL: ELINS | H35: =SUM(H31:H34) -> 0
B37: E | C37: 104 | D37: Guard Services to be performed at Naval Support Facility Arlington (NDW), Arlington, VA | E37: Est Qty | F37: Unit | G37: Unit Price | H37: Total Amount
C38: AA | D38: Perform Security Guard Operations - Entry/Exit Control Point | E38: 12 | F38: Mo | G38: =ExC!G38*ExA!K$10+ExC!G38 -> 0 | H38: =G38*E38 -> 0
B39: E | C39: 104 | D39: SUBTOTAL: ELINS | H39: =SUM(H38:H38) -> 0
B41: E | C41: 105 | D41: Guard Services to be performed at Strategic Service Program (SSP Bldg.200), WNY, Washington D.C | E41: Est Qty | F41: Unit | G41: Unit Price | H41: Total Amount
C42: AA | D42: Perform Security Guard Operations - 24 Hour Supervisor-Entry/Exit Control Point | E42: 12 | F42: Mo | G42: =ExC!G42*ExA!K$10+ExC!G42 -> 0 | H42: =E42*G42 -> 0
C43: AB | D43: Perform Security Guard Operations - 24 Hour -Entry/Exit Control Point | E43: 12 | F43: Mo | G43: =ExC!G43*ExA!K$10+ExC!G43 -> 0 | H43: =E43*G43 -> 0
C44: AC | D44: Perform Security Guard Operations-Entry/ Exit Control Point 12 Hrs/ 5 Days p/Wk | E44: 12 | F44: Mo | G44: =ExC!G44*ExA!K$10+ExC!G44 -> 0 | H44: =E44*G44 -> 0
C45: AD | D45: Perform Security Guard Operations - Roving Patrol 12 Hrs/ 5 Days p/Wk | E45: 12 | F45: Mo | G45: =ExC!G45*ExA!K$10+ExC!G45 -> 0 | H45: =E45*G45 -> 0
B46: E | C46: 105 | D46: SUBTOTAL: ELINS | H46: =SUM(H42:H45) -> 0
B48: E | C48: 200 | D48: Recurring Work: RESERVED - NOT USED
B50: E | C50: 300 | D50: Recurring Work: RESERVED - NOT USED
B52: E | C52: 400 | D52: Recurring Work: RESERVED - NOT USED
B54: E | C54: 500 | D54: Recurring Work: Naval Research Laboratories, Chesapeake Beach Division , MD (NDW) | E54: Est Qty | F54: Unit | G54: Unit Price | H54: Total Amount
C55: AA | D55: Perform Security Guard Operations- Bldg 6, Post 1 - PM | E55: 12 | F55: Mo | G55: =ExC!G55*ExA!K$10+ExC!G55 -> 0 | H55: =G55*E55 -> 0
...

Sheet ExF
B2: Attachment 0200000-08 Exhibit Line Item Numbers (ELINs)
B7: Option Year 2 Non-Recurring Work ELINs
B8: ELIN | C8: Supplies/Services (Short Description) | D8: Est. Qty. | E8: Unit | F8: Unit Price | G8: Total Amount
B11: F001 AA | C11: Provide Un-Armed Guards to perform Security Services at a stationary post as specified in the task order. The Contrractor shall comply with Post Orders & SOP's required for each post. Post Orders and staffing requirements will be provided with task order. | D11: 2000 | E11: LH | F11: =ExD!F11*ExA!K$10+ExD!F11 -> 0 | G11: =+F11*D11 -> 0
B12: F001 AB | C12: Provide Armed Guards to perform Security Services at a stationary post as specified in the task order. The Contrractor shall comply with Post Orders & SOP's required for each post. Post Orders and staffing requirements will be provided with task order. | D12: 2000 | E12: LH | F12: =ExD!F12*ExA!K$10+ExD!F12 -> 0 | G12: =+F12*D12 -> 0
B13: F001 AC | C13: Provide Un-Armed Guards to perform Security Services at a roving patrol post as specified in the task order. The Contrractor shall comply with Post Orders & SOP's required for each post. Post Orders and staffing requirements will be provided with task order. | D13: 2000 | E13: LH | F13: =ExD!F13*ExA!K$10+ExD!F13 -> 0 | G13: =+F13*D13 -> 0
B14: F001 AD | C14: Provide Armed Guards to perform Security Services at a roving patrol post as specified in the task order. The Contrractor shall comply with Post Orders & SOP's required for each post. Post Orders and staffing requirements will be provided with task order. | D14: 2000 | E14: LH | F14: =ExD!F14*ExA!K$10+ExD!F14 -> 0 | G14: =F14*D14 -> 0
B16: Total Option Year 2 Non-Recurring Work - Not to Exceed | F16: =SUM(G11:G14) -> 0

Sheet OY3
C2: SOLICITATION N40080-19-R-0309 REGIONAL GUARD SERVICES SUPPLIES OR SERVICES AND PRICES
C6: CLIN | D6: SLIN | F6: DESCRIPTION | J6: AMOUNT
D8: Grand Total of Recurring Work for Option Year 3 | J8: =SUM(J9,J15,J16,J17,J18,J20,J21,J23) -> 0
C9: CLIN 0007 | D9: Recurring Work: Naval Support Activity Washington (PWD Washington) | J9: =SUM(J10:J14) -> 0
D10: SLIN | E10: 01 | F10: Guard Services to be performed at Naval Sea Systems Command ( NAVSEA Bldg.104), WNY,Washington, DC | J10: =ExG!H16 -> 0
D11: SLIN | E11: 02 | F11: Guard Services to be performed at Naval Sea Systems Command (NAVSEA All Other), WNY, Washington, DC | J11: =ExG!H28 -> 0
D12: SLIN | E12: 03 | F12: Guard Services to be performed at Naval Support Facility Carderock (NDW), West Bethesda, MD | J12: =ExG!H35 -> 0
D13: SLIN | E13: 04 | F13: Guard Services to be performed at Naval Support Facility Arlington (NDW), Arlington, VA | J13: =ExG!H39 -> 0
D14: SLIN | E14: 05 | F14: Guard Services to be performed at Strategic Service Program (SSP Bldg.200), WNY, Washington D.C. | J14: =ExG!H46 -> 0
C15: CLIN 0007 | D15: Recurring Work: RESERVED | J15: =ExG!H48 -> 0
C16: CLIN 0007 | D16: Recurring Work: Naval Support Activity South Potomac Sites (PWD South Potomac) - NOT USED | J16: =ExG!H50 -> 0
C17: CLIN 0007 | D17: Recurring Work: Naval Air Station Patuxent River, MD - NOT USED | J17: 0
C18: CLIN 0007 | D18: Recurring Work: Naval Support Activity, Annapolis, MD (PWD Annapolis) | J18: =J19 -> 0
D19: SLIN | E19: 01 | F19: Guard Services to be performed at Naval Research Lab Chesapeake Beach Detachment (NDW) | J19: =ExG!H61 -> 0
C20: CLIN 0007 | D20: Recurring Work: Marine Corps Fourth Option, Quantico, VA - NOT USED | J20: =ExG!H63 -> 0
C21: CLIN 0007 | D21: Recurring Work: Naval Support Activity Bethesda Sites (PWD Bethesda) | J21: =SUM(J22:J22) -> 0
D22: SLIN | E22: 01 | F22: Guard Services to be performed at Naval Support Activity Bethesda (NDW), Bethesda, MD | J22: =ExG!$H$69 -> 0
C23: CLIN 0007 | D23: Recurring Work: Naval Support Activity Joint Base Anacostia/Bolling Sites (PWD JBAB) - NOT USED | J23: =ExG!H72 -> 0
C24: CLIN 0008 | D24: Non-Recurring Work: Exhibit A (Not To Exceed) | J24: =ExH!F16 -> 0
C25: Option Year 3 Recurring and Non-Recurring Work | J25: =J8+J24 -> 0

Sheet ExG
B2: Attachment 0200000-08 Exhibit Line Item Numbers (ELINs)
B6: Exhibit J - Option Year 3 Recurring Work ELINs
B7: SLIN | C7: ELIN | D7: Supplies/Services | E7: Est. Qty. | F7: Unit | G7: Unit Price | H7: Total Amount
B10: G | C10: 100 | D10: Recurring Work: RESERVED - NOT USED | E10: Est Qty | F10: Unit | G10: Unit Price | H10: Total Amount
B12: G | C12: 101 | D12: Guard Services to be performed at Naval Sea Systems Command ( NAVSEA Bldg.104), WNY,Washington, DC | E12: Est Qty | F12: Unit | G12: Unit Price | H12: Total Amount
C13: AA | D13: Perform Security Guard Operations - Bldg 104, Post 7 | E13: 12 | F13: Mo | G13: =ExE!G13*ExA!K$11+ExE!G13 -> 0 | H13: =G13*E13 -> 0
C14: AB | D14: Perform Security Guard Operations - Bldg 104, Post 10 | E14: 12 | F14: Mo | G14: =ExE!G14*ExA!K$11+ExE!G14 -> 0 | H14: =G14*E14 -> 0
C15: AC | D15: Perform Security Guard Operations - Bldg 104, Post 11 | E15: 12 | F15: Mo | G15: =ExE!G15*ExA!K$11+ExE!G15 -> 0 | H15: =G15*E15 -> 0
B16: G | C16: 101 | D16: SUBTOTAL: ELINS | H16: =SUM(H13:H15) -> 0
B18: G | C18: 102 | D18: Guard Services to be performed at Naval Sea Systems Command (NAVSEA All Other), WNY, Washington, DC | E18: Est Qty | F18: Unit | G18: Unit Price | H18: Total Amount
C19: AA | D19: Perform Security Guard Operations - Post 1 | E19: 12 | F19: Mo | G19: =ExE!G19*ExA!K$11+ExE!G19 -> 0 | H19: =G19*E19 -> 0
C20: AB | D20: Perform Security Guard Operations - Post 2 | E20: 12 | F20: Mo | G20: =ExE!G20*ExA!K$11+ExE!G20 -> 0 | H20: =G20*E20 -> 0
C21: AC | D21: Perform Security Guard Operations - Post 3 | E21: 12 | F21: Mo | G21: =ExE!G21*ExA!K$11+ExE!G21 -> 0 | H21: =G21*E21 -> 0
C22: AD | D22: Perform Security Guard Operations - Post 4 | E22: 12 | F22: Mo | G22: =ExE!G22*ExA!K$11+ExE!G22 -> 0 | H22: =G22*E22 -> 0
C23: AE | D23: Perform Security Guard Operations - Post 5 | E23: 12 | F23: Mo | G23: =ExE!G23*ExA!K$11+ExE!G23 -> 0 | H23: =G23*E23 -> 0
C24: AF | D24: Perform Security Guard Operations - Post 6 | E24: 12 | F24: Mo | G24: =ExE!G24*ExA!K$11+ExE!G24 -> 0 | H24: =G24*E24 -> 0
C25: AG | D25: Perform Security Guard Operations - Post 9 | E25: 12 | F25: Mo | G25: =ExE!G25*ExA!K$11+ExE!G25 -> 0 | H25: =G25*E25 -> 0
C26: AH | D26: Perform Security Guard Operations - Post 12 | E26: 12 | F26: Mo | G26: =ExE!G26*ExA!K$11+ExE!G26 -> 0 | H26: =G26*E26 -> 0
C27: AJ | D27: Perform Security Guard Operations - Post 13 | E27: 12 | F27: Mo | G27: =ExE!G27*ExA!K$11+ExE!G27 -> 0 | H27: =G27*E27 -> 0
B28: G | C28: 102 | D28: SUBTOTAL: ELINS | H28: =SUM(H19:H27) -> 0
B30: G | C30: 103 | D30: Guard Services to be performed at Naval Support Facility Carderock (NDW), West Bethesda, MD | E30: Est Qty | F30: Unit | G30: Unit Price | H30: Total Amount
C31: AA | D31: Perform Security Guard Operations - Gate 2 | E31: 12 | F31: Mo | G31: =ExE!G31*ExA!K$11+ExE!G31 -> 0 | H31: =G31*E31 -> 0
C32: AB | D32: Perform Security Guard Operations - Gate 3 | E32: 12 | F32: Mo | G32: =ExE!G32*ExA!K$11+ExE!G32 -> 0 | H32: =G32*E32 -> 0
C33: AC | D33: Perform Security Guard Operations - Relief Rover | E33: 12 | F33: Mo | G33: =ExE!G33*ExA!K$11+ExE!G33 -> 0 | H33: =G33*E33 -> 0
C34: AD | D34: Perform Security Guard Operations - Shift Supervisor | E34: 12 | F34: Mo | G34: =ExE!G34*ExA!K$11+ExE!G34 -> 0 | H34: =G34*E34 -> 0
B35: G | C35: 103 | D35: SUBTOTAL: ELINS | H35: =SUM(H31:H34) -> 0
B37: G | C37: 104 | D37: Guard Services to be performed at Naval Support Facility Arlington (NDW), Arlington, VA | E37: Est Qty | F37: Unit | G37: Unit Price | H37: Total Amount
C38: AA | D38: Perform Security Guard Operations - Entry/Exit Control Point | E38: 12 | F38: Mo | G38: =ExE!G38*ExA!K$11+ExE!G38 -> 0 | H38: =G38*E38 -> 0
B39: G | C39: 104 | D39: SUBTOTAL: ELINS | H39: =SUM(H38:H38) -> 0
B41: G | C41: 105 | D41: Guard Services to be performed at Strategic Service Program (SSP Bldg.200), WNY, Washington D.C | E41: Est Qty | F41: Unit | G41: Unit Price | H41: Total Amount
C42: AA | D42: Perform Security Guard Operations - 24 Hour Supervisor-Entry/Exit Control Point | E42: 12 | F42: Mo | G42: =ExE!G42*ExA!K$11+ExE!G42 -> 0 | H42: =E42*G42 -> 0
C43: AB | D43: Perform Security Guard Operations - 24 Hour -Entry/Exit Control Point | E43: 12 | F43: Mo | G43: =ExE!G43*ExA!K$11+ExE!G43 -> 0 | H43: =E43*G43 -> 0
C44: AC | D44: Perform Security Guard Operations-Entry/ Exit Control Point 12 Hrs/ 5 Days p/Wk | E44: 12 | F44: Mo | G44: =ExE!G44*ExA!K$11+ExE!G44 -> 0 | H44: =E44*G44 -> 0
C45: AD | D45: Perform Security Guard Operations - Roving Patrol 12 Hrs/ 5 Days p/Wk | E45: 12 | F45: Mo | G45: =ExE!G45*ExA!K$11+ExE!G45 -> 0 | H45: =E45*G45 -> 0
B46: G | C46: 105 | D46: SUBTOTAL: ELINS | H46: =SUM(H42:H45) -> 0
B48: G | C48: 200 | D48: Recurring Work: RESERVED - NOT USED
B50: G | C50: 300 | D50: Recurring Work: RESERVED - NOT USED
B52: G | C52: 400 | D52: Recurring Work: RESERVED - NOT USED
B54: G | C54: 500 | D54: Recurring Work: Naval Research Laboratories, Chesapeake Beach Division , MD (NDW) | E54: Est Qty | F54: Unit | G54: Unit Price | H54: Total Amount
C55: AA | D55: Perform Security Guard Operations- Bldg 6, Post 1 - PM | E55: 12 | F55: Mo | G55: =ExE!G55*ExA!K$11+ExE!G55 -> 0 | H55: =G55*E55 -> 0
...

Sheet ExH
B2: Attachment 0200000-08 Exhibit Line Item Numbers (ELINs)
B7: Option Year 3 Non-Recurring Work ELINs
B8: ELIN | C8: Supplies/Services (Short Description) | D8: Est. Qty. | E8: Unit | F8: Unit Price | G8: Total Amount
B11: H001 AA | C11: Provide Un-Armed Guards to perform Security Services at a stationary post as specified in the task order. The Contrractor shall comply with Post Orders & SOP's required for each post. Post Orders and staffing requirements will be provided with task order. | D11: 2000 | E11: LH | F11: =ExF!F11*ExA!K$11+ExF!F11 -> 0 | G11: =+F11*D11 -> 0
B12: H001 AB | C12: Provide Armed Guards to perform Security Services at a stationary post as specified in the task order. The Contrractor shall comply with Post Orders & SOP's required for each post. Post Orders and staffing requirements will be provided with task order. | D12: 2000 | E12: LH | F12: =ExF!F12*ExA!K$11+ExF!F12 -> 0 | G12: =+F12*D12 -> 0
B13: H001 AC | C13: Provide Un-Armed Guards to perform Security Services at a roving patrol post as specified in the task order. The Contrractor shall comply with Post Orders & SOP's required for each post. Post Orders and staffing requirements will be provided with task order. | D13: 2000 | E13: LH | F13: =ExF!F13*ExA!K$11+ExF!F13 -> 0 | G13: =+F13*D13 -> 0
B14: H001 AD | C14: Provide Armed Guards to perform Security Services at a roving patrol post as specified in the task order. The Contrractor shall comply with Post Orders & SOP's required for each post. Post Orders and staffing requirements will be provided with task order. | D14: 2000 | E14: LH | F14: =ExF!F14*ExA!K$11+ExF!F14 -> 0 | G14: =F14*D14 -> 0
B16: Total Option Year 3 Non-Recurring Work - Not to Exceed | F16: =SUM(G11:G14) -> 0

Sheet OY4
C2: SOLICITATION N40080-19-R-0309 REGIONAL GUARD SERVICES SUPPLIES OR SERVICES AND PRICES
C6: CLIN | D6: SLIN | F6: DESCRIPTION | J6: AMOUNT
D8: Grand Total of Recurring Work for Option Year 4 | J8: =SUM(J9,J15,J16,J17,J18,J20,J21,J23) -> 0
C9: CLIN 0009 | D9: Recurring Work: Naval Support Activity Washington (PWD Washington) | J9: =SUM(J10:J14) -> 0
D10: SLIN | E10: 01 | F10: Guard Services to be performed at Naval Sea Systems Command ( NAVSEA Bldg.104), WNY,Washington, DC | J10: =ExI!H16 -> 0
D11: SLIN | E11: 02 | F11: Guard Services to be performed at Naval Sea Systems Command (NAVSEA All Other), WNY, Washington, DC | J11: =ExI!H28 -> 0
D12: SLIN | E12: 03 | F12: Guard Services to be performed at Naval Support Facility Carderock (NDW), West Bethesda, MD | J12: =ExI!H35 -> 0
D13: SLIN | E13: 04 | F13: Guard Services to be performed at Naval Support Facility Arlington (NDW), Arlington, VA | J13: =ExI!H39 -> 0
D14: SLIN | E14: 05 | F14: Guard Services to be performed at Strategic Service Program (SSP Bldg.200), WNY, Washington D.C. | J14: =ExI!H46 -> 0
C15: CLIN 0009 | D15: Recurring Work: RESERVED | J15: =ExI!H48 -> 0
C16: CLIN 0009 | D16: Recurring Work: Naval Support Activity South Potomac Sites (PWD South Potomac) - NOT USED | J16: =ExI!H50 -> 0
C17: CLIN 0009 | D17: Recurring Work: Naval Air Station Patuxent River, MD - NOT USED | J17: 0
C18: CLIN 0009 | D18: Recurring Work: Naval Support Activity, Annapolis, MD (PWD Annapolis) | J18: =J19 -> 0
D19: SLIN | E19: 01 | F19: Guard Services to be performed at Naval Research Lab Chesapeake Beach Detachment (NDW) | J19: =ExI!H61 -> 0
C20: CLIN 0009 | D20: Recurring Work: Marine Corps Fourth Option, Quantico, VA - NOT USED | J20: =ExI!H63 -> 0
C21: CLIN 0009 | D21: Recurring Work: Naval Support Activity Bethesda Sites (PWD Bethesda) | J21: =SUM(J22:J22) -> 0
D22: SLIN | E22: 01 | F22: Guard Services to be performed at Naval Support Activity Bethesda (NDW), Bethesda, MD | J22: =ExI!$H$69 -> 0
C23: CLIN 0009 | D23: Recurring Work: Naval Support Activity Joint Base Anacostia/Bolling Sites (PWD JBAB) - NOT USED | J23: =ExI!H72 -> 0
C24: CLIN 0010 | D24: Non-Recurring Work: Exhibit A (Not To Exceed) | J24: =ExJ!F16 -> 0
C25: Option Year 4 Recurring and Non-Recurring Work | J25: =J8+J24 -> 0

Sheet ExI
B2: Attachment 0200000-08 Exhibit Line Item Numbers (ELINs)
B6: Option Year 4 Recurring Work ELINs
B7: SLIN | C7: ELIN | D7: Supplies/Services | E7: Est. Qty. | F7: Unit | G7: Unit Price | H7: Total Amount
B10: I | C10: 100 | D10: Recurring Work: RESERVED - NOT USED | E10: Est Qty | F10: Unit | G10: Unit Price | H10: Total Amount
B12: I | C12: 101 | D12: Guard Services to be performed at Naval Sea Systems Command ( NAVSEA Bldg.104), WNY,Washington, DC | E12: Est Qty | F12: Unit | G12: Unit Price | H12: Total Amount
C13: AA | D13: Perform Security Guard Operations - Bldg 104, Post 7 | E13: 12 | F13: Mo | G13: =ExG!G13*ExA!K$12+ExG!G13 -> 0 | H13: =G13*E13 -> 0
C14: AB | D14: Perform Security Guard Operations - Bldg 104, Post 10 | E14: 12 | F14: Mo | G14: =ExG!G14*ExA!K$12+ExG!G14 -> 0 | H14: =G14*E14 -> 0
C15: AC | D15: Perform Security Guard Operations - Bldg 104, Post 11 | E15: 12 | F15: Mo | G15: =ExG!G15*ExA!K$12+ExG!G15 -> 0 | H15: =G15*E15 -> 0
B16: I | C16: 101 | D16: SUBTOTAL: ELINS | H16: =SUM(H13:H15) -> 0
B18: I | C18: 102 | D18: Guard Services to be performed at Naval Sea Systems Command (NAVSEA All Other), WNY, Washington, DC | E18: Est Qty | F18: Unit | G18: Unit Price | H18: Total Amount
C19: AA | D19: Perform Security Guard Operations - Post 1 | E19: 12 | F19: Mo | G19: =ExG!G19*ExA!K$12+ExG!G19 -> 0 | H19: =G19*E19 -> 0
C20: AB | D20: Perform Security Guard Operations - Post 2 | E20: 12 | F20: Mo | G20: =ExG!G20*ExA!K$12+ExG!G20 -> 0 | H20: =G20*E20 -> 0
C21: AC | D21: Perform Security Guard Operations - Post 3 | E21: 12 | F21: Mo | G21: =ExG!G21*ExA!K$12+ExG!G21 -> 0 | H21: =G21*E21 -> 0
C22: AD | D22: Perform Security Guard Operations - Post 4 | E22: 12 | F22: Mo | G22: =ExG!G22*ExA!K$12+ExG!G22 -> 0 | H22: =G22*E22 -> 0
C23: AE | D23: Perform Security Guard Operations - Post 5 | E23: 12 | F23: Mo | G23: =ExG!G23*ExA!K$12+ExG!G23 -> 0 | H23: =G23*E23 -> 0
C24: AF | D24: Perform Security Guard Operations - Post 6 | E24: 12 | F24: Mo | G24: =ExG!G24*ExA!K$12+ExG!G24 -> 0 | H24: =G24*E24 -> 0
C25: AG | D25: Perform Security Guard Operations - Post 9 | E25: 12 | F25: Mo | G25: =ExG!G25*ExA!K$12+ExG!G25 -> 0 | H25: =G25*E25 -> 0
C26: AH | D26: Perform Security Guard Operations - Post 12 | E26: 12 | F26: Mo | G26: =ExG!G26*ExA!K$12+ExG!G26 -> 0 | H26: =G26*E26 -> 0
C27: AJ | D27: Perform Security Guard Operations - Post 13 | E27: 12 | F27: Mo | G27: =ExG!G27*ExA!K$12+ExG!G27 -> 0 | H27: =G27*E27 -> 0
B28: I | C28: 102 | D28: SUBTOTAL: ELINS | H28: =SUM(H19:H27) -> 0
B30: I | C30: 103 | D30: Guard Services to be performed at Naval Support Facility Carderock (NDW), West Bethesda, MD | E30: Est Qty | F30: Unit | G30: Unit Price | H30: Total Amount
C31: AA | D31: Perform Security Guard Operations - Gate 2 | E31: 12 | F31: Mo | G31: =ExG!G31*ExA!K$12+ExG!G31 -> 0 | H31: =G31*E31 -> 0
C32: AB | D32: Perform Security Guard Operations - Gate 3 | E32: 12 | F32: Mo | G32: =ExG!G32*ExA!K$12+ExG!G32 -> 0 | H32: =G32*E32 -> 0
C33: AC | D33: Perform Security Guard Operations - Relief Rover | E33: 12 | F33: Mo | G33: =ExG!G33*ExA!K$12+ExG!G33 -> 0 | H33: =G33*E33 -> 0
C34: AD | D34: Perform Security Guard Operations - Shift Supervisor | E34: 12 | F34: Mo | G34: =ExG!G34*ExA!K$12+ExG!G34 -> 0 | H34: =G34*E34 -> 0
B35: I | C35: 103 | D35: SUBTOTAL: ELINS | H35: =SUM(H31:H34) -> 0
B37: I | C37: 104 | D37: Guard Services to be performed at Naval Support Facility Arlington (NDW), Arlington, VA | E37: Est Qty | F37: Unit | G37: Unit Price | H37: Total Amount
C38: AA | D38: Perform Security Guard Operations - Entry/Exit Control Point | E38: 12 | F38: Mo | G38: =ExG!G38*ExA!K$12+ExG!G38 -> 0 | H38: =G38*E38 -> 0
B39: I | C39: 104 | D39: SUBTOTAL: ELINS | H39: =SUM(H38:H38) -> 0
B41: I | C41: 105 | D41: Guard Services to be performed at Strategic Service Program (SSP Bldg.200), WNY, Washington D.C | E41: Est Qty | F41: Unit | G41: Unit Price | H41: Total Amount
C42: AA | D42: Perform Security Guard Operations - 24 Hour Supervisor-Entry/Exit Control Point | E42: 12 | F42: Mo | G42: =ExG!G42*ExA!K$12+ExG!G42 -> 0 | H42: =E42*G42 -> 0
C43: AB | D43: Perform Security Guard Operations - 24 Hour -Entry/Exit Control Point | E43: 12 | F43: Mo | G43: =ExG!G43*ExA!K$12+ExG!G43 -> 0 | H43: =E43*G43 -> 0
C44: AC | D44: Perform Security Guard Operations-Entry/ Exit Control Point 12 Hrs/ 5 Days p/Wk | E44: 12 | F44: Mo | G44: =ExG!G44*ExA!K$12+ExG!G44 -> 0 | H44: =E44*G44 -> 0
C45: AD | D45: Perform Security Guard Operations - Roving Patrol 12 Hrs/ 5 Days p/Wk | E45: 12 | F45: Mo | G45: =ExG!G45*ExA!K$12+ExG!G45 -> 0 | H45: =E45*G45 -> 0
B46: I | C46: 105 | D46: SUBTOTAL: ELINS | H46: =SUM(H42:H45) -> 0
B48: I | C48: 200 | D48: Recurring Work: RESERVED - NOT USED
B50: I | C50: 300 | D50: Recurring Work: RESERVED - NOT USED
B52: I | C52: 400 | D52: Recurring Work: RESERVED - NOT USED
B54: I | C54: 500 | D54: Firm Fixed-Price Work: Naval Research Laboratories, Chesapeake Beach Division , MD (NDW) | E54: Est Qty | F54: Unit | G54: Unit Price | H54: Total Amount
C55: AA | D55: Perform Security Guard Operations- Bldg 6, Post 1 - PM | E55: 12 | F55: Mo | G55: =ExG!G55*ExA!K$12+ExG!G55 -> 0 | H55: =G55*E55 -> 0
...

Sheet ExJ
B2: Attachment 0200000-08 Exhibit Line Item Numbers (ELINs)
B7: Option Year 4 Non-Recurring Work ELINs
B8: ELIN | C8: Supplies/Services (Short Description) | D8: Est. Qty. | E8: Unit | F8: Unit Price | G8: Total Amount
B11: J001 AA | C11: Provide Un-Armed Guards to perform Security Services at a stationary post as specified in the task order. The Contrractor shall comply with Post Orders & SOP's required for each post. Post Orders and staffing requirements will be provided with task order. | D11: 2000 | E11: LH | F11: =ExH!F11*ExA!K$12+ExH!F11 -> 0 | G11: =+F11*D11 -> 0
B12: J001 AB | C12: Provide Armed Guards to perform Security Services at a stationary post as specified in the task order. The Contrractor shall comply with Post Orders & SOP's required for each post. Post Orders and staffing requirements will be provided with task order. | D12: 2000 | E12: LH | F12: =ExH!F12*ExA!K$12+ExH!F12 -> 0 | G12: =+F12*D12 -> 0
B13: J001 AC | C13: Provide Un-Armed Guards to perform Security Services at a roving patrol post as specified in the task order. The Contrractor shall comply with Post Orders & SOP's required for each post. Post Orders and staffing requirements will be provided with task order. | D13: 2000 | E13: LH | F13: =ExH!F13*ExA!K$12+ExH!F13 -> 0 | G13: =+F13*D13 -> 0
B14: J001 AD | C14: Provide Armed Guards to perform Security Services at a roving patrol post as specified in the task order. The Contrractor shall comply with Post Orders & SOP's required for each post. Post Orders and staffing requirements will be provided with task order. | D14: 2000 | E14: LH | F14: =ExH!F14*ExA!K$12+ExH!F14 -> 0 | G14: =F14*D14 -> 0
B16: Total Option Year 4 Non-Recurring Work - Not to Exceed | F16: =SUM(G11:G14) -> 0
