Workbook

Sheet Summary
D2: SPEECH LANGUAGE PATHOLOGIST, OCCUPTIONAL THERAPY AND SCHOOL PSYCHOLOGIST SERVICES ISLETA ELEMENTARY AND T'SIYA DAY SCHOOLS
D3: CLIN | E3: PERIOD OF PERFORMANCE | G3: Total
D4: 10 | E4: Base Year | G4: ='SLP Services'!H4+'OT Services'!H4+'Psych Services'!H4 -> 0
D5: 20 | E5: Option Year 1 | G5: ='SLP Services'!H5+'OT Services'!H5+'Psych Services'!H5 -> 0
D6: 30 | E6: Option Year 2 | G6: ='SLP Services'!H6+'OT Services'!H6+'Psych Services'!H6 -> 0
D7: 40 | E7: Option Year 3 | G7: ='SLP Services'!H7+'OT Services'!H7+'Psych Services'!H7 -> 0
D8: 50 | E8: Option Year 4 | G8: ='SLP Services'!H8+'OT Services'!H8+'Psych Services'!H8 -> 0
E9: Totals | G9: =SUM(G4:H8) -> 0

Sheet SLP Services
D2: SPEECH LANGUAGE PATHOLOGIST SERVICES
D3: CLIN | E3: PERIOD OF PERFORMANCE | F3: Labor Rate | G3: Estimated No. of Hrs | H3: Total
D4: 10 | E4: Base Year | F4: 0 | G4: 323 | H4: =F4*G4 -> 0
D5: 20 | E5: Option Year 1 | F5: 0 | G5: 323 | H5: =F5*G5 -> 0
D6: 30 | E6: Option Year 2 | F6: 0 | G6: 323 | H6: =F6*G6 -> 0
D7: 40 | E7: Option Year 3 | F7: 0 | G7: 323 | H7: =F7*G7 -> 0
D8: 50 | E8: Option Year 4 | F8: 0 | G8: 323 | H8: =F8*G8 -> 0
E9: Totals | F9: =SUM(F4:F8) -> 0 | G9: =SUM(G4:G8) -> 1615 | H9: =SUM(H4:H8) -> 0
D11: Labor Rate is an All-inclusive description of service in the scope of work. Number of on-site estimated service are estimated based on student enrollment.

Sheet OT Services
D2: OCCUPTIONAL THERAPY SERVICES
D3: CLIN | E3: PERIOD OF PERFORMANCE | F3: Labor Rate | G3: Estimated No. of Hrs | H3: Total
D4: 10 | E4: Base Year | F4: 0 | G4: 102 | H4: =F4*G4 -> 0
D5: 20 | E5: Option Year 1 | F5: 0 | G5: 102 | H5: =F5*G5 -> 0
D6: 30 | E6: Option Year 2 | F6: 0 | G6: 102 | H6: =F6*G6 -> 0
D7: 40 | E7: Option Year 3 | F7: 0 | G7: 102 | H7: =F7*G7 -> 0
D8: 50 | E8: Option Year 4 | F8: 0 | G8: 102 | H8: =F8*G8 -> 0
E9: Totals | F9: =SUM(F4:F8) -> 0 | G9: =SUM(G4:G8) -> 510 | H9: =SUM(H4:H8) -> 0
D11: Labor Rate is an All-inclusive description of service in the scope of work. Number of on-site estimated service are estimated based on student enrollment.

Sheet Psych Services
D2: SCHOOL PSYCHOLOGIST SERVICES
D3: CLIN | E3: PERIOD OF PERFORMANCE | F3: Labor Rate | G3: Estimated No. of Hrs. | H3: Total
D4: 10 | E4: Base Year | F4: 0 | G4: 305 | H4: =F4*G4 -> 0
D5: 20 | E5: Option Year 1 | F5: 0 | G5: 305 | H5: =F5*G5 -> 0
D6: 30 | E6: Option Year 2 | F6: 0 | G6: 305 | H6: =F6*G6 -> 0
D7: 40 | E7: Option Year 3 | F7: 0 | G7: 305 | H7: =F7*G7 -> 0
D8: 50 | E8: Option Year 4 | F8: 0 | G8: 305 | H8: =F8*G8 -> 0
E9: Totals | F9: =SUM(F4:F8) -> 0 | G9: =SUM(G4:G8) -> 1525 | H9: =SUM(H4:H8) -> 0
D11: Labor Rate is an All-inclusive description of service in the scope of work. Number of on-site estimated service are estimated based on student enrollment.
