Workbook

Sheet Format D
A1: Cost Price Spreadsheet
A2: Solicitation
A3: Offeror shall enter data in yellow highlighted fields only
A4: Offeror:
A5: Basic
A6: CLIN | B6: Contract Type | C6: Description | D6: Qty | E6: U/I | F6: Proposed Cost | G6: Fixed Fee | H6: Amount
A7: 1 | B7: Cost Plus Fixed Fee | C7: HH-60W Degraded Visual Environment System Research, Development, Test, and Evaluation (RDT&E) | D7: 1 | E7: LO | F7: ='Format A CLIN 0001'!N45 -> 0 | G7: ='Format A CLIN 0001'!N47 -> 0 | H7: =F7+G7 -> 0
A8: 2 | B8: Cost Plus Fixed Fee | C8: HH-60W Degraded Visual Environment System Prototype Installation Kit | D8: 1 | E8: KT | H8: =F8+G8 -> 0
A9: 3 | B9: Cost Plus Fixed Fee | C9: HH-60W Degraded Visual Environment System Verification Installation Kit | D9: 1 | E9: KT | H9: =F9+G9 -> 0
F10: Unit Price
A11: 4 | B11: Cost Plus Fixed Fee | C11: HH-60W Degraded Visual Environment System Lab/Simulator Kits | D11: 3 | E11: KT | F11: ='Format A CLIN 0004'!N24 -> 0 | H11: =F11+G11 -> 0
F12: Proposed Cost | G12: Fixed Fee
A13: 5 | B13: Cost Plus Fixed Fee | C13: HH-60W Degraded Visual Environment System Prototype Installation Labor | D13: 1 | E13: LO | F13: ='Format A CLIN 0005'!N50 -> 0 | H13: =F13+G13 -> 0
A14: 6 | B14: Cost Plus Fixed Fee | C14: HH-60W Degraded Visual Environment System Verification Installation Labor | D14: 1 | E14: LO | F14: ='Format A CLIN 0006'!N50 -> 0 | H14: =F14+G14 -> 0
F15: Unit Price
A16: 7 | B16: Firm Fixed Fee | C16: HH-60W Degraded Visual Environment System Familiarization | D16: 1 | E16: LO | H16: =F16+G16 -> 0
A17: 8 | B17: Cost Reimbursable - No Fee | C17: Contractor Travel | D17: 1 | E17: LO
A18: 9 | B18: Not Separately Priced | C18: Data | D18: 1 | E18: LO | F18: NSP | H18: NSP
A19: Basic Total | H19: =H7,H8,H9,H11,H13,H14,H16 -> #VALUE!
A20: Ordering Period 1
A21: CLIN | B21: Contract Type | C21: Description | D21: Qty | E21: U/I | F21: Unit Price | H21: Amount
A22: 1001 | B22: Cost Plus Fixed Fee | C22: HH-60W Degraded Visual Environment System Research, Development, Test, and Evaluation (RDT&E) | D22: 1 | E22: LO | F22: ='Format A CLIN 0001'!N60 -> 0 | H22: =F22+G22 -> 0
A23: 1002 | B23: Firm Fixed Fee | C23: HH-60W Degraded Visual Environment System Production Kits (A+B) | D23: 30 | E23: KT | H23: =F23+G23 -> 0
A24: 1003 | B24: Firm Fixed Fee | C24: HH-60W Degraded Visual Environment System Production Kit Spare (B Only) | D24: 3 | E24: KT | H24: =F24+G24 -> 0
A25: 1004 | B25: Cost Plus Fixed Fee | C25: HH-60W Degraded Visual Environment System Production Installation Labor (A+B) | D25: 1 | E25: LO | F25: ='Format A CLIN 0005'!N62 -> 0 | H25: =F25+G25 -> 0
A26: 1005 | B26: Cost Plus Fixed Fee | C26: HH-60W Degraded Visual Environment System Prototype Installation Labor | D26: 1 | E26: LO | F26: ='Format A CLIN 0005'!N63 -> 0 | H26: =F26+G26 -> 0
A27: 1006 | B27: Cost Plus Fixed Fee | C27: HH-60W Degraded Visual Environment System Verification Installation Labor | D27: 1 | E27: LO | F27: ='Format A CLIN 0006'!N63 -> 0 | H27: =F27+G27 -> 0
A28: 1007 | B28: Cost Reimbursable - No Fee | C28: Contractor Travel | D28: 1 | E28: LO
A29: 1008 | B29: Not Separately Priced | C29: Data | D29: 1 | E29: LO | F29: NSP | H29: NSP
A30: Ordering Period 1 Total | H30: =H22,H23,H24,H25,H26,H27 -> #VALUE!
A31: Ordering Period 2
A32: CLIN | B32: Contract Type | C32: Description | D32: Qty | E32: U/I | F32: Unit Price | H32: Amount
A33: 2001 | B33: Firm Fixed Fee | C33: HH-60W Degraded Visual Environment System Production Kits (A+B) | D33: 29 | E33: KT | H33: =F33+G33 -> 0
A34: 2002 | B34: Firm Fixed Fee | C34: HH-60W Degraded Visual Environment System Production Kit Spare (B Only) | D34: 3 | E34: KT | H34: =F34+G34 -> 0
A35: 2003 | B35: Cost Plus Fixed Fee | C35: HH-60W Degraded Visual Environment System Installation Labor (A+B) | D35: 1 | E35: LO | H35: =F35+G35 -> 0
A36: 2004 | B36: Cost Reimbursable - No Fee | C36: Contractor Travel | D36: 1 | E36: LO
A37: 2005 | B37: Not Separately Priced | C37: Data | D37: 1 | E37: LO | F37: NSP | H37: NSP
A38: Ordering Period 2 Total | H38: =H33,H34,H35 -> #VALUE!
A39: Ordering Period 3
A40: CLIN | B40: Contract Type | C40: Description | D40: Qty | E40: U/I | F40: Unit Price | H40: Amount
...

Sheet Format A CLIN 0001
A2: Non Recurring Engineering
A4: CLIN 0001 | B4: Basic (CLIN 0001) | N4: 0001 Total
B5: 2027 | E5: 2028 | H5: 2029
A6: COST/PRICE ELEMENT | B6: HOURS/BASE | C6: RATE | D6: 2027 Total | E6: HOURS/BASE | F6: RATE | G6: 2028 Total | H6: HOURS/BASE | I6: RATE | J6: 2029 Total | K6: HOURS/BASE | L6: RATE | M6: Total | N6: 0001 Total Amount
A7: DIRECT LABOR | B7: Labor Hours | E7: Labor Hours | H7: Labor Hours | K7: Labor Hours
A8: LABOR CATEGORY 1 | B8: 0 | C8: 0 | D8: =C8*B8 -> 0 | E8: 0 | F8: 0 | G8: =F8*E8 -> 0 | H8: 0 | I8: 0 | J8: =I8*H8 -> 0 | K8: 0 | L8: 0 | M8: =L8*K8 -> 0 | N8: =M8+J8+G8+D8 -> 0
A9: LABOR CATEGORY 2 | B9: 0 | C9: 0 | D9: =C9*B9 -> 0 | E9: 0 | F9: 0 | G9: =F9*E9 -> 0 | H9: 0 | I9: 0 | J9: =I9*H9 -> 0 | K9: 0 | L9: 0 | M9: =L9*K9 -> 0 | N9: =M9+J9+G9+D9 -> 0
A10: LABOR CATEGORY 3 | B10: 0 | C10: 0 | D10: =C10*B10 -> 0 | E10: 0 | F10: 0 | G10: =F10*E10 -> 0 | H10: 0 | I10: 0 | J10: =I10*H10 -> 0 | K10: 0 | L10: 0 | M10: =L10*K10 -> 0 | N10: =M10+J10+G10+D10 -> 0
A11: LABOR CATEGORY 4 | B11: 0 | C11: 0 | D11: =C11*B11 -> 0 | E11: 0 | F11: 0 | G11: =F11*E11 -> 0 | H11: 0 | I11: 0 | J11: =I11*H11 -> 0 | K11: 0 | L11: 0 | M11: =L11*K11 -> 0 | N11: =M11+J11+G11+D11 -> 0
A12: LABOR CATEGORY 5 | B12: 0 | C12: 0 | D12: =C12*B12 -> 0 | E12: 0 | F12: 0 | G12: =F12*E12 -> 0 | H12: 0 | I12: 0 | J12: =I12*H12 -> 0 | K12: 0 | L12: 0 | M12: =L12*K12 -> 0 | N12: =M12+J12+G12+D12 -> 0
A13: LABOR CATEGORY 6 | B13: 0 | C13: 0 | D13: =C13*B13 -> 0 | E13: 0 | F13: 0 | G13: =F13*E13 -> 0 | H13: 0 | I13: 0 | J13: =I13*H13 -> 0 | K13: 0 | L13: 0 | M13: =L13*K13 -> 0 | N13: =M13+J13+G13+D13 -> 0
A14: LABOR CATEGORY 7 | B14: 0 | C14: 0 | D14: =C14*B14 -> 0 | E14: 0 | F14: 0 | G14: =F14*E14 -> 0 | H14: 0 | I14: 0 | J14: =I14*H14 -> 0 | K14: 0 | L14: 0 | M14: =L14*K14 -> 0 | N14: =M14+J14+G14+D14 -> 0
A15: LABOR CATEGORY 8 | B15: 0 | C15: 0 | D15: =C15*B15 -> 0 | E15: 0 | F15: 0 | G15: =F15*E15 -> 0 | H15: 0 | I15: 0 | J15: =I15*H15 -> 0 | K15: 0 | L15: 0 | M15: =L15*K15 -> 0 | N15: =M15+J15+G15+D15 -> 0
A16: LABOR CATEGORY 9 | B16: 0 | C16: 0 | D16: =C16*B16 -> 0 | E16: 0 | F16: 0 | G16: =F16*E16 -> 0 | H16: 0 | I16: 0 | J16: =I16*H16 -> 0 | K16: 0 | L16: 0 | M16: =L16*K16 -> 0 | N16: =M16+J16+G16+D16 -> 0
A17: LABOR CATEGORY 10 | B17: 0 | C17: 0 | D17: =C17*B17 -> 0 | E17: 0 | F17: 0 | G17: =F17*E17 -> 0 | H17: 0 | I17: 0 | J17: =I17*H17 -> 0 | K17: 0 | L17: 0 | M17: =L17*K17 -> 0 | N17: =M17+J17+G17+D17 -> 0
A18: LABOR CATEGORY 11 | B18: 0 | C18: 0 | D18: =C18*B18 -> 0 | E18: 0 | F18: 0 | G18: =F18*E18 -> 0 | H18: 0 | I18: 0 | J18: =I18*H18 -> 0 | K18: 0 | L18: 0 | M18: =L18*K18 -> 0 | N18: =M18+J18+G18+D18 -> 0
A19: LABOR CATEGORY 12 | B19: 0 | C19: 0 | D19: =C19*B19 -> 0 | E19: 0 | F19: 0 | G19: =F19*E19 -> 0 | H19: 0 | I19: 0 | J19: =I19*H19 -> 0 | K19: 0 | L19: 0 | M19: =L19*K19 -> 0 | N19: =M19+J19+G19+D19 -> 0
A20: TOTAL DIRECT LABOR | B20: =SUM(B8:B19) -> 0 | D20: =SUM(D8:D19) -> 0 | E20: =SUM(E8:E19) -> 0 | G20: =SUM(G8:G19) -> 0 | H20: =SUM(H8:H19) -> 0 | J20: =SUM(J8:J19) -> 0 | K20: =SUM(K8:K19) -> 0 | M20: =SUM(M8:M19) -> 0 | N20: =SUM(N8:N19) -> 0
A22: ENG OVERHEAD | B22: 0 | C22: 0 | D22: =B22*C22 -> 0 | E22: 0 | F22: 0 | G22: =E22*F22 -> 0 | H22: 0 | I22: 0 | J22: =H22*I22 -> 0 | K22: 0 | L22: 0 | M22: =K22*L22 -> 0 | N22: =M22+J22+G22+D22 -> 0
A23: FLD OVERHEAD | B23: 0 | C23: 0 | D23: =B23*C23 -> 0 | E23: 0 | F23: 0 | G23: =E23*F23 -> 0 | H23: 0 | I23: 0 | J23: =H23*I23 -> 0 | K23: 0 | L23: 0 | M23: =K23*L23 -> 0 | N23: =M23+J23+G23+D23 -> 0
A24: MFG OVERHEAD | B24: 0 | C24: 0 | D24: =B24*C24 -> 0 | E24: 0 | F24: 0 | G24: =E24*F24 -> 0 | H24: 0 | I24: 0 | J24: =H24*I24 -> 0 | K24: 0 | L24: 0 | M24: =K24*L24 -> 0 | N24: =M24+J24+G24+D24 -> 0
A25: TOTAL INDIRECT LABOR EXPENSE | D25: =SUM(D22:D24) -> 0 | E25: 0 | G25: =SUM(G22:G24) -> 0 | J25: =SUM(J22:J24) -> 0 | M25: =SUM(M22:M24) -> 0 | N25: =SUM(N22:N24) -> 0
A27: SUB-TIER VENDOR (SUBCONTRACTOR/INTERCOMPANY/TEAMMATE)
A28: SUB-TIER VENDOR 1 | D28: 0 | G28: 0 | J28: 0 | M28: 0 | N28: =M28+J28+G28+D28 -> 0
A29: SUB-TIER VENDOR 2 | D29: 0 | G29: 0 | J29: 0 | M29: 0 | N29: =M29+J29+G29+D29 -> 0
A30: SUB-TIER VENDOR 3 | D30: 0 | G30: 0 | J30: 0 | M30: 0 | N30: =M30+J30+G30+D30 -> 0
A31: TOTAL SUB-TIER VENDOR COSTS/PRICES | D31: =SUM(D28:D30) -> 0 | G31: =SUM(G28:G30) -> 0 | J31: =SUM(J28:J30) -> 0 | M31: =SUM(M28:M30) -> 0 | N31: =SUM(N28:N30) -> 0
A32: SUBTOTAL | D32: =D20+D25+D31 -> 0 | G32: =G20+G25+G31 -> 0 | J32: =J20+J25+J31 -> 0 | M32: =M20+M25+M31 -> 0 | N32: =M32+J32+G32+D32 -> 0
A34: G&A | B34: 0 | C34: 0 | D34: =B34*C34 -> 0 | E34: 0 | F34: 0 | G34: =E34*F34 -> 0 | H34: 0 | I34: 0 | J34: =H34*I34 -> 0 | K34: 0 | L34: 0 | M34: =K34*L34 -> 0 | N34: =M34+J34+G34+D34 -> 0
A36: SUBTOTAL COST | D36: =D32+D34 -> 0 | G36: =G32+G34 -> 0 | J36: =J32+J34 -> 0 | M36: =M32+M34 -> 0 | N36: =N32+N34 -> 0
A38: FACILITIES CAPITAL COST OF MONEY
A39: ENG DIRECT LABOR | B39: 0 | C39: 0 | D39: =B39*C39 -> 0 | E39: 0 | F39: 0 | G39: =E39*F39 -> 0 | H39: 0 | I39: 0 | J39: =H39*I39 -> 0 | K39: 0 | L39: 0 | M39: =K39*L39 -> 0 | N39: =M39+J39+G39+D39 -> 0
A40: FLD DIRECT LABOR | B40: 0 | C40: 0 | D40: =B40*C40 -> 0 | E40: 0 | F40: 0 | G40: =E40*F40 -> 0 | H40: 0 | I40: 0 | J40: =H40*I40 -> 0 | K40: 0 | L40: 0 | M40: =K40*L40 -> 0 | N40: =M40+J40+G40+D40 -> 0
A41: MFG DIRECT LABOR | B41: 0 | C41: 0 | D41: =B41*C41 -> 0 | E41: 0 | F41: 0 | G41: =E41*F41 -> 0 | H41: 0 | I41: 0 | J41: =H41*I41 -> 0 | K41: 0 | L41: 0 | M41: =K41*L41 -> 0 | N41: =M41+J41+G41+D41 -> 0
A42: G&A | B42: 0 | C42: 0 | D42: =B42*C42 -> 0 | E42: 0 | F42: 0 | G42: =E42*F42 -> 0 | H42: 0 | I42: 0 | J42: =H42*I42 -> 0 | K42: 0 | L42: 0 | M42: =K42*L42 -> 0 | N42: =M42+J42+G42+D42 -> 0
A43: TOTAL FCCM | D43: =SUM(D39:D42) -> 0 | G43: =SUM(G39:G42) -> 0 | J43: =SUM(J39:J42) -> 0 | M43: =SUM(M39:M42) -> 0 | N43: =SUM(N39:N42) -> 0
A45: TOTAL COST | D45: =D36+D43 -> 0 | G45: =G36+G43 -> 0 | J45: =J36+J43 -> 0 | M45: =M36+M43 -> 0 | N45: =N36+N43 -> 0
B46: =#REF! -> #REF! | H46: =#REF! -> #REF!
A47: FIXED FEE | B47: =D36 -> 0 | C47: 0 | D47: =B47*C47 -> 0 | E47: =G36 -> 0 | F47: 0 | G47: =E47*F47 -> 0 | H47: =J36 -> 0 | I47: 0 | J47: =H47*I47 -> 0 | K47: =M36 -> 0 | L47: 0 | M47: =K47*L47 -> 0 | N47: =M47+J47+G47+D47 -> 0
B48: =#REF! -> #REF! | H48: =#REF! -> #REF!
...

Sheet Format A CLIN 0002
A3: HH-60W Degraded Visual Environment System Prototype Installation Kit
A4: CLIN 0002 | B4: Basic (CLIN 0002) | N4: 0002 Total
B5: 2027 | E5: 2028 | H5: 2029
A7: DIRECT MATERIAL | D7: 0 | G7: 0 | J7: 0 | M7: 0 | N7: =M7+J7+G7+D7 -> 0
A8: MATERIAL OVERHEAD | B8: 0 | C8: 0 | D8: =B8*C8 -> 0 | E8: 0 | F8: 0 | G8: =E8*F8 -> 0 | H8: 0 | I8: 0 | J8: =H8*I8 -> 0 | K8: 0 | L8: 0 | M8: =K8*L8 -> 0 | N8: =M8+J8+G8+D8 -> 0
A9: TOTAL MATERIAL | D9: =SUM(D7:D8) -> 0 | G9: =SUM(G7:G8) -> 0 | J9: =SUM(J7:J8) -> 0 | M9: =SUM(M7:M8) -> 0 | N9: =SUM(N7:N8) -> 0
A11: G&A | B11: 0 | C11: 0 | D11: =B11*C11 -> 0 | E11: 0 | F11: 0 | G11: =E11*F11 -> 0 | H11: 0 | I11: 0 | J11: =H11*I11 -> 0 | K11: 0 | L11: 0 | M11: =K11*L11 -> 0 | N11: =M11+J11+G11+D11 -> 0
A13: SUBTOTAL COST | D13: =D9+D11 -> 0 | G13: =G11+G9 -> 0 | J13: =J11+J9 -> 0 | M13: =M11+M9 -> 0 | N13: =N11+N9 -> 0
A15: FACILITIES CAPITAL COST OF MONEY
A16: G&A | B16: 0 | C16: 0 | D16: =B16*C16 -> 0 | E16: 0 | F16: 0 | G16: =E16*F16 -> 0 | H16: 0 | I16: 0 | J16: =H16*I16 -> 0 | K16: 0 | L16: 0 | M16: =K16*L16 -> 0 | N16: =M16+J16+G16+D16 -> 0
A17: TOTAL FCCM | D17: =SUM(D16:D16) -> 0 | G17: =SUM(G16:G16) -> 0 | J17: =SUM(J16:J16) -> 0 | M17: =SUM(M16:M16) -> 0 | N17: =SUM(N16:N16) -> 0
A19: TOTAL COST | D19: =D13+D17 -> 0 | G19: =G13+G17 -> 0 | J19: =J13+J17 -> 0 | M19: =M13+M17 -> 0 | N19: =N13+N17 -> 0
A21: FIXED FEE | B21: =D13 -> 0 | C21: 0 | D21: =B21*C21 -> 0 | E21: =G13 -> 0 | F21: 0 | G21: =E21*F21 -> 0 | H21: =J13 -> 0 | I21: 0 | J21: =H21*I21 -> 0 | K21: =M13 -> 0 | L21: 0 | M21: =K21*L21 -> 0 | N21: =M21+J21+G21+D21 -> 0
A24: TOTAL PRICE | D24: =D19+D21 -> 0 | G24: =G19+G21 -> 0 | J24: =J19+J21 -> 0 | M24: =M19+M21 -> 0 | N24: =N19+N21 -> 0
A25: Notes:
A26: 1. Cost format A may be revised as required to be consistent with the contractor's approved accounting system.
A27: 2. The numbers contained in the RFP Exhibit are examples only -- remove or replace in proposal.
A28: 3. The Period of Performance (PoP) for CLIN 0002 is 18 Months. The offeror shall fill out the above model for the applicable PoP.
A29: 4. Total Cost and Fee shall roll into Format D CLIN 0002 pricing.
A30: 5. The proposed material costs shall match the prices proposed in the Consolidated Bill of Material as referenced in Section L Volume VI.

Sheet Format A CLIN 0003
A3: HH-60W Degraded Visual Environment System Verification Installation Kit
A4: CLIN 0003 | B4: Basic (CLIN 0003) | N4: 0003 Total
B5: 2027 | E5: 2028 | H5: 2029
A7: DIRECT MATERIAL | D7: 0 | G7: 0 | J7: 0 | M7: 0 | N7: =M7+J7+G7+D7 -> 0
A8: MATERIAL OVERHEAD | B8: 0 | C8: 0 | D8: =B8*C8 -> 0 | E8: 0 | F8: 0 | G8: =E8*F8 -> 0 | H8: 0 | I8: 0 | J8: =H8*I8 -> 0 | K8: 0 | L8: 0 | M8: =K8*L8 -> 0 | N8: =M8+J8+G8+D8 -> 0
A9: TOTAL MATERIAL | D9: =SUM(D7:D8) -> 0 | G9: =SUM(G7:G8) -> 0 | J9: =SUM(J7:J8) -> 0 | M9: =SUM(M7:M8) -> 0 | N9: =SUM(N7:N8) -> 0
A11: G&A | B11: 0 | C11: 0 | D11: =B11*C11 -> 0 | E11: 0 | F11: 0 | G11: =E11*F11 -> 0 | H11: 0 | I11: 0 | J11: =H11*I11 -> 0 | K11: 0 | L11: 0 | M11: =K11*L11 -> 0 | N11: =M11+J11+G11+D11 -> 0
A13: SUBTOTAL COST | D13: =D9+D11 -> 0 | G13: =G11+G9 -> 0 | J13: =J11+J9 -> 0 | M13: =M11+M9 -> 0 | N13: =N11+N9 -> 0
A15: FACILITIES CAPITAL COST OF MONEY
A16: G&A | B16: 0 | C16: 0 | D16: =B16*C16 -> 0 | E16: 0 | F16: 0 | G16: =E16*F16 -> 0 | H16: 0 | I16: 0 | J16: =H16*I16 -> 0 | K16: 0 | L16: 0 | M16: =K16*L16 -> 0 | N16: =M16+J16+G16+D16 -> 0
A17: TOTAL FCCM | D17: =SUM(D16:D16) -> 0 | G17: =SUM(G16:G16) -> 0 | J17: =SUM(J16:J16) -> 0 | M17: =SUM(M16:M16) -> 0 | N17: =SUM(N16:N16) -> 0
A19: TOTAL COST | D19: =D13+D17 -> 0 | G19: =G13+G17 -> 0 | J19: =J13+J17 -> 0 | M19: =M13+M17 -> 0 | N19: =N13+N17 -> 0
A21: FIXED FEE | B21: =D13 -> 0 | C21: 0 | D21: =B21*C21 -> 0 | E21: =G13 -> 0 | F21: 0 | G21: =E21*F21 -> 0 | H21: =J13 -> 0 | I21: 0 | J21: =H21*I21 -> 0 | K21: =M13 -> 0 | L21: 0 | M21: =K21*L21 -> 0 | N21: =M21+J21+G21+D21 -> 0
A24: TOTAL PRICE | D24: =D19+D21 -> 0 | G24: =G19+G21 -> 0 | J24: =J19+J21 -> 0 | M24: =M19+M21 -> 0 | N24: =N19+N21 -> 0
A25: Notes:
A26: 1. Cost format A may be revised as required to be consistent with the contractor's approved accounting system.
A27: 2. The numbers contained in the RFP Exhibit are examples only -- remove or replace in proposal.
A28: 3. The Period of Performance (PoP) for CLIN 0003 is 24 Months. The offeror shall fill out the above model for the applicable PoP.
A29: 4. Total Cost and Fee shall roll into Format D CLIN 0003 pricing.
A30: 5. The proposed material costs shall match the prices proposed in the Consolidated Bill of Material as referenced in Section L Volume VI.

Sheet Format A CLIN 0004
A3: HH-60W Degraded Visual Environment System Lab/Simulator Kits
A4: CLIN 0004 | B4: Basic (CLIN 0004) | N4: 0004 Total
B5: 2027 | E5: 2028 | H5: 2029
A7: DIRECT MATERIAL | D7: 0 | G7: 0 | J7: 0 | M7: 0 | N7: =M7+J7+G7+D7 -> 0
A8: MATERIAL OVERHEAD | B8: 0 | C8: 0 | D8: =B8*C8 -> 0 | E8: 0 | F8: 0 | G8: =E8*F8 -> 0 | H8: 0 | I8: 0 | J8: =H8*I8 -> 0 | K8: 0 | L8: 0 | M8: =K8*L8 -> 0 | N8: =M8+J8+G8+D8 -> 0
A9: TOTAL MATERIAL | D9: =SUM(D7:D8) -> 0 | G9: =SUM(G7:G8) -> 0 | J9: =SUM(J7:J8) -> 0 | M9: =SUM(M7:M8) -> 0 | N9: =SUM(N7:N8) -> 0
A11: G&A | B11: 0 | C11: 0 | D11: =B11*C11 -> 0 | E11: 0 | F11: 0 | G11: =E11*F11 -> 0 | H11: 0 | I11: 0 | J11: =H11*I11 -> 0 | K11: 0 | L11: 0 | M11: =K11*L11 -> 0 | N11: =M11+J11+G11+D11 -> 0
A13: SUBTOTAL COST | D13: =D9+D11 -> 0 | G13: =G11+G9 -> 0 | J13: =J11+J9 -> 0 | M13: =M11+M9 -> 0 | N13: =N11+N9 -> 0
A15: FACILITIES CAPITAL COST OF MONEY
A16: G&A | B16: 0 | C16: 0 | D16: =B16*C16 -> 0 | E16: 0 | F16: 0 | G16: =E16*F16 -> 0 | H16: 0 | I16: 0 | J16: =H16*I16 -> 0 | K16: 0 | L16: 0 | M16: =K16*L16 -> 0 | N16: =M16+J16+G16+D16 -> 0
A17: TOTAL FCCM | D17: =SUM(D16:D16) -> 0 | G17: =SUM(G16:G16) -> 0 | J17: =SUM(J16:J16) -> 0 | M17: =SUM(M16:M16) -> 0 | N17: =SUM(N16:N16) -> 0
A19: TOTAL COST | D19: =D13+D17 -> 0 | G19: =G13+G17 -> 0 | J19: =J13+J17 -> 0 | M19: =M13+M17 -> 0 | N19: =N13+N17 -> 0
A21: FIXED FEE | B21: =D13 -> 0 | C21: 0 | D21: =B21*C21 -> 0 | E21: =G13 -> 0 | F21: 0 | G21: =E21*F21 -> 0 | H21: =J13 -> 0 | I21: 0 | J21: =H21*I21 -> 0 | K21: =M13 -> 0 | L21: 0 | M21: =K21*L21 -> 0 | N21: =M21+J21+G21+D21 -> 0
A24: TOTAL PRICE | D24: =D19+D21 -> 0 | G24: =G19+G21 -> 0 | J24: =J19+J21 -> 0 | M24: =M19+M21 -> 0 | N24: =N19+N21 -> 0
A25: Notes:
A26: 1. Cost format A may be revised as required to be consistent with the contractor's approved accounting system.
A27: 2. The numbers contained in the RFP Exhibit are examples only -- remove or replace in proposal.
A28: 3. The Period of Performance (PoP) for CLIN 0004 is 18 Months. The offeror shall fill out the above model for the applicable PoP.
A29: 4. Total Cost and Fee shall roll into Format D CLIN 0004 pricing.
A30: 5. The proposed material costs shall match the prices proposed in the Consolidated Bill of Material as referenced in Section L Volume VI.

Sheet Format A CLIN 0005
A2: HH-60W Degraded Visual Environment System Protoype Installation Labor
A4: CLIN 0005 | B4: Basic (CLIN 0005) | N4: 0005 Total
B5: 2027 | E5: 2028 | H5: 2029
A6: COST/PRICE ELEMENT | B6: HOURS/BASE | C6: RATE | D6: 2027 Total | E6: HOURS/BASE | F6: RATE | G6: 2028 Total | H6: HOURS/BASE | I6: RATE | J6: 2029 Total | K6: HOURS/BASE | L6: RATE | M6: Total | N6: 0005 Total Amount
A7: DIRECT LABOR | B7: Labor Hours | E7: Labor Hours | H7: Labor Hours | K7: Labor Hours
A8: LABOR CATEGORY 1 | B8: 0 | C8: 0 | D8: =C8*B8 -> 0 | E8: 0 | F8: 0 | G8: =F8*E8 -> 0 | H8: 0 | I8: 0 | J8: =I8*H8 -> 0 | K8: 0 | L8: 0 | M8: =L8*K8 -> 0 | N8: =M8+J8+G8+D8 -> 0
A9: LABOR CATEGORY 2 | B9: 0 | C9: 0 | D9: =C9*B9 -> 0 | E9: 0 | F9: 0 | G9: =F9*E9 -> 0 | H9: 0 | I9: 0 | J9: =I9*H9 -> 0 | K9: 0 | L9: 0 | M9: =L9*K9 -> 0 | N9: =M9+J9+G9+D9 -> 0
A10: LABOR CATEGORY 3 | B10: 0 | C10: 0 | D10: =C10*B10 -> 0 | E10: 0 | F10: 0 | G10: =F10*E10 -> 0 | H10: 0 | I10: 0 | J10: =I10*H10 -> 0 | K10: 0 | L10: 0 | M10: =L10*K10 -> 0 | N10: =M10+J10+G10+D10 -> 0
A11: LABOR CATEGORY 4 | B11: 0 | C11: 0 | D11: =C11*B11 -> 0 | E11: 0 | F11: 0 | G11: =F11*E11 -> 0 | H11: 0 | I11: 0 | J11: =I11*H11 -> 0 | K11: 0 | L11: 0 | M11: =L11*K11 -> 0 | N11: =M11+J11+G11+D11 -> 0
A12: LABOR CATEGORY 5 | B12: 0 | C12: 0 | D12: =C12*B12 -> 0 | E12: 0 | F12: 0 | G12: =F12*E12 -> 0 | H12: 0 | I12: 0 | J12: =I12*H12 -> 0 | K12: 0 | L12: 0 | M12: =L12*K12 -> 0 | N12: =M12+J12+G12+D12 -> 0
A13: LABOR CATEGORY 6 | B13: 0 | C13: 0 | D13: =C13*B13 -> 0 | E13: 0 | F13: 0 | G13: =F13*E13 -> 0 | H13: 0 | I13: 0 | J13: =I13*H13 -> 0 | K13: 0 | L13: 0 | M13: =L13*K13 -> 0 | N13: =M13+J13+G13+D13 -> 0
A14: LABOR CATEGORY 7 | B14: 0 | C14: 0 | D14: =C14*B14 -> 0 | E14: 0 | F14: 0 | G14: =F14*E14 -> 0 | H14: 0 | I14: 0 | J14: =I14*H14 -> 0 | K14: 0 | L14: 0 | M14: =L14*K14 -> 0 | N14: =M14+J14+G14+D14 -> 0
A15: LABOR CATEGORY 8 | B15: 0 | C15: 0 | D15: =C15*B15 -> 0 | E15: 0 | F15: 0 | G15: =F15*E15 -> 0 | H15: 0 | I15: 0 | J15: =I15*H15 -> 0 | K15: 0 | L15: 0 | M15: =L15*K15 -> 0 | N15: =M15+J15+G15+D15 -> 0
A16: LABOR CATEGORY 9 | B16: 0 | C16: 0 | D16: =C16*B16 -> 0 | E16: 0 | F16: 0 | G16: =F16*E16 -> 0 | H16: 0 | I16: 0 | J16: =I16*H16 -> 0 | K16: 0 | L16: 0 | M16: =L16*K16 -> 0 | N16: =M16+J16+G16+D16 -> 0
A17: LABOR CATEGORY 10 | B17: 0 | C17: 0 | D17: =C17*B17 -> 0 | E17: 0 | F17: 0 | G17: =F17*E17 -> 0 | H17: 0 | I17: 0 | J17: =I17*H17 -> 0 | K17: 0 | L17: 0 | M17: =L17*K17 -> 0 | N17: =M17+J17+G17+D17 -> 0
A18: LABOR CATEGORY 11 | B18: 0 | C18: 0 | D18: =C18*B18 -> 0 | E18: 0 | F18: 0 | G18: =F18*E18 -> 0 | H18: 0 | I18: 0 | J18: =I18*H18 -> 0 | K18: 0 | L18: 0 | M18: =L18*K18 -> 0 | N18: =M18+J18+G18+D18 -> 0
A19: LABOR CATEGORY 12 | B19: 0 | C19: 0 | D19: =C19*B19 -> 0 | E19: 0 | F19: 0 | G19: =F19*E19 -> 0 | H19: 0 | I19: 0 | J19: =I19*H19 -> 0 | K19: 0 | L19: 0 | M19: =L19*K19 -> 0 | N19: =M19+J19+G19+D19 -> 0
A20: TOTAL DIRECT LABOR | B20: =SUM(B8:B19) -> 0 | D20: =SUM(D8:D19) -> 0 | E20: =SUM(E8:E19) -> 0 | G20: =SUM(G8:G19) -> 0 | H20: =SUM(H8:H19) -> 0 | J20: =SUM(J8:J19) -> 0 | K20: =SUM(K8:K19) -> 0 | M20: =SUM(M8:M19) -> 0 | N20: =SUM(N8:N19) -> 0
A22: ENG OVERHEAD | B22: 0 | C22: 0 | D22: =B22*C22 -> 0 | E22: 0 | F22: 0 | G22: =E22*F22 -> 0 | H22: 0 | I22: 0 | J22: =H22*I22 -> 0 | K22: 0 | L22: 0 | M22: =K22*L22 -> 0 | N22: =M22+J22+G22+D22 -> 0
A23: FLD OVERHEAD | B23: 0 | C23: 0 | D23: =B23*C23 -> 0 | E23: 0 | F23: 0 | G23: =E23*F23 -> 0 | H23: 0 | I23: 0 | J23: =H23*I23 -> 0 | K23: 0 | L23: 0 | M23: =K23*L23 -> 0 | N23: =M23+J23+G23+D23 -> 0
A24: MFG OVERHEAD | B24: 0 | C24: 0 | D24: =B24*C24 -> 0 | E24: 0 | F24: 0 | G24: =E24*F24 -> 0 | H24: 0 | I24: 0 | J24: =H24*I24 -> 0 | K24: 0 | L24: 0 | M24: =K24*L24 -> 0 | N24: =M24+J24+G24+D24 -> 0
A25: TOTAL INDIRECT LABOR EXPENSE | D25: =SUM(D22:D24) -> 0 | E25: 0 | G25: =SUM(G22:G24) -> 0 | J25: =SUM(J22:J24) -> 0 | M25: =SUM(M22:M24) -> 0 | N25: =SUM(N22:N24) -> 0
A27: SUB-TIER VENDOR (SUBCONTRACTOR/INTERCOMPANY/TEAMMATE)
A28: SUB-TIER VENDOR 1 | D28: 0 | G28: 0 | J28: 0 | M28: 0 | N28: =M28+J28+G28+D28 -> 0
A29: SUB-TIER VENDOR 2 | D29: 0 | G29: 0 | J29: 0 | M29: 0 | N29: =M29+J29+G29+D29 -> 0
A30: SUB-TIER VENDOR 3 | D30: 0 | G30: 0 | J30: 0 | M30: 0 | N30: =M30+J30+G30+D30 -> 0
A31: TOTAL SUB-TIER VENDOR COSTS/PRICES | D31: =SUM(D28:D30) -> 0 | G31: =SUM(G28:G30) -> 0 | J31: =SUM(J28:J30) -> 0 | M31: =SUM(M28:M30) -> 0 | N31: =SUM(N28:N30) -> 0
A32: SUBTOTAL | D32: =D20+D25+D31 -> 0 | G32: =G20+G25+G31 -> 0 | J32: =J20+J25+J31 -> 0 | M32: =M20+M25+M31 -> 0 | N32: =M32+J32+G32+D32 -> 0
A34: G&A | B34: 0 | C34: 0 | D34: =B34*C34 -> 0 | E34: 0 | F34: 0 | G34: =E34*F34 -> 0 | H34: 0 | I34: 0 | J34: =H34*I34 -> 0 | K34: 0 | L34: 0 | M34: =K34*L34 -> 0 | N34: =M34+J34+G34+D34 -> 0
A36: SUBTOTAL COST | D36: =D32+D34 -> 0 | G36: =G32+G34 -> 0 | J36: =J32+J34 -> 0 | M36: =M32+M34 -> 0 | N36: =N32+N34 -> 0
A38: FACILITIES CAPITAL COST OF MONEY
A39: ENG DIRECT LABOR | B39: 0 | C39: 0 | D39: =B39*C39 -> 0 | E39: 0 | F39: 0 | G39: =E39*F39 -> 0 | H39: 0 | I39: 0 | J39: =H39*I39 -> 0 | K39: 0 | L39: 0 | M39: =K39*L39 -> 0 | N39: =M39+J39+G39+D39 -> 0
A40: FLD DIRECT LABOR | B40: 0 | C40: 0 | D40: =B40*C40 -> 0 | E40: 0 | F40: 0 | G40: =E40*F40 -> 0 | H40: 0 | I40: 0 | J40: =H40*I40 -> 0 | K40: 0 | L40: 0 | M40: =K40*L40 -> 0 | N40: =M40+J40+G40+D40 -> 0
A41: MFG DIRECT LABOR | B41: 0 | C41: 0 | D41: =B41*C41 -> 0 | E41: 0 | F41: 0 | G41: =E41*F41 -> 0 | H41: 0 | I41: 0 | J41: =H41*I41 -> 0 | K41: 0 | L41: 0 | M41: =K41*L41 -> 0 | N41: =M41+J41+G41+D41 -> 0
A42: G&A | B42: 0 | C42: 0 | D42: =B42*C42 -> 0 | E42: 0 | F42: 0 | G42: =E42*F42 -> 0 | H42: 0 | I42: 0 | J42: =H42*I42 -> 0 | K42: 0 | L42: 0 | M42: =K42*L42 -> 0 | N42: =M42+J42+G42+D42 -> 0
A43: TOTAL FCCM | D43: =SUM(D39:D42) -> 0 | G43: =SUM(G39:G42) -> 0 | J43: =SUM(J39:J42) -> 0 | M43: =SUM(M39:M42) -> 0 | N43: =SUM(N39:N42) -> 0
A45: TOTAL COST | D45: =D36+D43 -> 0 | G45: =G36+G43 -> 0 | J45: =J36+J43 -> 0 | M45: =M36+M43 -> 0 | N45: =N36+N43 -> 0
B46: =#REF! -> #REF! | H46: =#REF! -> #REF!
A47: FIXED FEE | B47: =D36 -> 0 | C47: 0 | D47: =B47*C47 -> 0 | E47: =G36 -> 0 | F47: 0 | G47: =E47*F47 -> 0 | H47: =J36 -> 0 | I47: 0 | J47: =H47*I47 -> 0 | K47: =M36 -> 0 | L47: 0 | M47: =K47*L47 -> 0 | N47: =M47+J47+G47+D47 -> 0
B48: =#REF! -> #REF! | H48: =#REF! -> #REF!
...

Sheet Format A CLIN 0006
A2: HH-60W Degraded Visual Environment System Verification Installation Labor
A4: CLIN 0006 | B4: Basic (CLIN 0006) | N4: 0006 Total
B5: 2027 | E5: 2028 | H5: 2029
A6: COST/PRICE ELEMENT | B6: HOURS/BASE | C6: RATE | D6: 2027 Total | E6: HOURS/BASE | F6: RATE | G6: 2028 Total | H6: HOURS/BASE | I6: RATE | J6: 2029 Total | K6: HOURS/BASE | L6: RATE | M6: Total | N6: 0006 Total Amount
A7: DIRECT LABOR | B7: Labor Hours | E7: Labor Hours | H7: Labor Hours | K7: Labor Hours
A8: LABOR CATEGORY 1 | B8: 0 | C8: 0 | D8: =C8*B8 -> 0 | E8: 0 | F8: 0 | G8: =F8*E8 -> 0 | H8: 0 | I8: 0 | J8: =I8*H8 -> 0 | K8: 0 | L8: 0 | M8: =L8*K8 -> 0 | N8: =M8+J8+G8+D8 -> 0
A9: LABOR CATEGORY 2 | B9: 0 | C9: 0 | D9: =C9*B9 -> 0 | E9: 0 | F9: 0 | G9: =F9*E9 -> 0 | H9: 0 | I9: 0 | J9: =I9*H9 -> 0 | K9: 0 | L9: 0 | M9: =L9*K9 -> 0 | N9: =M9+J9+G9+D9 -> 0
A10: LABOR CATEGORY 3 | B10: 0 | C10: 0 | D10: =C10*B10 -> 0 | E10: 0 | F10: 0 | G10: =F10*E10 -> 0 | H10: 0 | I10: 0 | J10: =I10*H10 -> 0 | K10: 0 | L10: 0 | M10: =L10*K10 -> 0 | N10: =M10+J10+G10+D10 -> 0
A11: LABOR CATEGORY 4 | B11: 0 | C11: 0 | D11: =C11*B11 -> 0 | E11: 0 | F11: 0 | G11: =F11*E11 -> 0 | H11: 0 | I11: 0 | J11: =I11*H11 -> 0 | K11: 0 | L11: 0 | M11: =L11*K11 -> 0 | N11: =M11+J11+G11+D11 -> 0
A12: LABOR CATEGORY 5 | B12: 0 | C12: 0 | D12: =C12*B12 -> 0 | E12: 0 | F12: 0 | G12: =F12*E12 -> 0 | H12: 0 | I12: 0 | J12: =I12*H12 -> 0 | K12: 0 | L12: 0 | M12: =L12*K12 -> 0 | N12: =M12+J12+G12+D12 -> 0
A13: LABOR CATEGORY 6 | B13: 0 | C13: 0 | D13: =C13*B13 -> 0 | E13: 0 | F13: 0 | G13: =F13*E13 -> 0 | H13: 0 | I13: 0 | J13: =I13*H13 -> 0 | K13: 0 | L13: 0 | M13: =L13*K13 -> 0 | N13: =M13+J13+G13+D13 -> 0
A14: LABOR CATEGORY 7 | B14: 0 | C14: 0 | D14: =C14*B14 -> 0 | E14: 0 | F14: 0 | G14: =F14*E14 -> 0 | H14: 0 | I14: 0 | J14: =I14*H14 -> 0 | K14: 0 | L14: 0 | M14: =L14*K14 -> 0 | N14: =M14+J14+G14+D14 -> 0
A15: LABOR CATEGORY 8 | B15: 0 | C15: 0 | D15: =C15*B15 -> 0 | E15: 0 | F15: 0 | G15: =F15*E15 -> 0 | H15: 0 | I15: 0 | J15: =I15*H15 -> 0 | K15: 0 | L15: 0 | M15: =L15*K15 -> 0 | N15: =M15+J15+G15+D15 -> 0
A16: LABOR CATEGORY 9 | B16: 0 | C16: 0 | D16: =C16*B16 -> 0 | E16: 0 | F16: 0 | G16: =F16*E16 -> 0 | H16: 0 | I16: 0 | J16: =I16*H16 -> 0 | K16: 0 | L16: 0 | M16: =L16*K16 -> 0 | N16: =M16+J16+G16+D16 -> 0
A17: LABOR CATEGORY 10 | B17: 0 | C17: 0 | D17: =C17*B17 -> 0 | E17: 0 | F17: 0 | G17: =F17*E17 -> 0 | H17: 0 | I17: 0 | J17: =I17*H17 -> 0 | K17: 0 | L17: 0 | M17: =L17*K17 -> 0 | N17: =M17+J17+G17+D17 -> 0
A18: LABOR CATEGORY 11 | B18: 0 | C18: 0 | D18: =C18*B18 -> 0 | E18: 0 | F18: 0 | G18: =F18*E18 -> 0 | H18: 0 | I18: 0 | J18: =I18*H18 -> 0 | K18: 0 | L18: 0 | M18: =L18*K18 -> 0 | N18: =M18+J18+G18+D18 -> 0
A19: LABOR CATEGORY 12 | B19: 0 | C19: 0 | D19: =C19*B19 -> 0 | E19: 0 | F19: 0 | G19: =F19*E19 -> 0 | H19: 0 | I19: 0 | J19: =I19*H19 -> 0 | K19: 0 | L19: 0 | M19: =L19*K19 -> 0 | N19: =M19+J19+G19+D19 -> 0
A20: TOTAL DIRECT LABOR | B20: =SUM(B8:B19) -> 0 | D20: =SUM(D8:D19) -> 0 | E20: =SUM(E8:E19) -> 0 | G20: =SUM(G8:G19) -> 0 | H20: =SUM(H8:H19) -> 0 | J20: =SUM(J8:J19) -> 0 | K20: =SUM(K8:K19) -> 0 | M20: =SUM(M8:M19) -> 0 | N20: =SUM(N8:N19) -> 0
A22: ENG OVERHEAD | B22: 0 | C22: 0 | D22: =B22*C22 -> 0 | E22: 0 | F22: 0 | G22: =E22*F22 -> 0 | H22: 0 | I22: 0 | J22: =H22*I22 -> 0 | K22: 0 | L22: 0 | M22: =K22*L22 -> 0 | N22: =M22+J22+G22+D22 -> 0
A23: FLD OVERHEAD | B23: 0 | C23: 0 | D23: =B23*C23 -> 0 | E23: 0 | F23: 0 | G23: =E23*F23 -> 0 | H23: 0 | I23: 0 | J23: =H23*I23 -> 0 | K23: 0 | L23: 0 | M23: =K23*L23 -> 0 | N23: =M23+J23+G23+D23 -> 0
A24: MFG OVERHEAD | B24: 0 | C24: 0 | D24: =B24*C24 -> 0 | E24: 0 | F24: 0 | G24: =E24*F24 -> 0 | H24: 0 | I24: 0 | J24: =H24*I24 -> 0 | K24: 0 | L24: 0 | M24: =K24*L24 -> 0 | N24: =M24+J24+G24+D24 -> 0
A25: TOTAL INDIRECT LABOR EXPENSE | D25: =SUM(D22:D24) -> 0 | E25: 0 | G25: =SUM(G22:G24) -> 0 | J25: =SUM(J22:J24) -> 0 | M25: =SUM(M22:M24) -> 0 | N25: =SUM(N22:N24) -> 0
A27: SUB-TIER VENDOR (SUBCONTRACTOR/INTERCOMPANY/TEAMMATE)
A28: SUB-TIER VENDOR 1 | D28: 0 | G28: 0 | J28: 0 | M28: 0 | N28: =M28+J28+G28+D28 -> 0
A29: SUB-TIER VENDOR 2 | D29: 0 | G29: 0 | J29: 0 | M29: 0 | N29: =M29+J29+G29+D29 -> 0
A30: SUB-TIER VENDOR 3 | D30: 0 | G30: 0 | J30: 0 | M30: 0 | N30: =M30+J30+G30+D30 -> 0
A31: TOTAL SUB-TIER VENDOR COSTS/PRICES | D31: =SUM(D28:D30) -> 0 | G31: =SUM(G28:G30) -> 0 | J31: =SUM(J28:J30) -> 0 | M31: =SUM(M28:M30) -> 0 | N31: =SUM(N28:N30) -> 0
A32: SUBTOTAL | D32: =D20+D25+D31 -> 0 | G32: =G20+G25+G31 -> 0 | J32: =J20+J25+J31 -> 0 | M32: =M20+M25+M31 -> 0 | N32: =M32+J32+G32+D32 -> 0
A34: G&A | B34: 0 | C34: 0 | D34: =B34*C34 -> 0 | E34: 0 | F34: 0 | G34: =E34*F34 -> 0 | H34: 0 | I34: 0 | J34: =H34*I34 -> 0 | K34: 0 | L34: 0 | M34: =K34*L34 -> 0 | N34: =M34+J34+G34+D34 -> 0
A36: SUBTOTAL COST | D36: =D32+D34 -> 0 | G36: =G32+G34 -> 0 | J36: =J32+J34 -> 0 | M36: =M32+M34 -> 0 | N36: =N32+N34 -> 0
A38: FACILITIES CAPITAL COST OF MONEY
A39: ENG DIRECT LABOR | B39: 0 | C39: 0 | D39: =B39*C39 -> 0 | E39: 0 | F39: 0 | G39: =E39*F39 -> 0 | H39: 0 | I39: 0 | J39: =H39*I39 -> 0 | K39: 0 | L39: 0 | M39: =K39*L39 -> 0 | N39: =M39+J39+G39+D39 -> 0
A40: FLD DIRECT LABOR | B40: 0 | C40: 0 | D40: =B40*C40 -> 0 | E40: 0 | F40: 0 | G40: =E40*F40 -> 0 | H40: 0 | I40: 0 | J40: =H40*I40 -> 0 | K40: 0 | L40: 0 | M40: =K40*L40 -> 0 | N40: =M40+J40+G40+D40 -> 0
A41: MFG DIRECT LABOR | B41: 0 | C41: 0 | D41: =B41*C41 -> 0 | E41: 0 | F41: 0 | G41: =E41*F41 -> 0 | H41: 0 | I41: 0 | J41: =H41*I41 -> 0 | K41: 0 | L41: 0 | M41: =K41*L41 -> 0 | N41: =M41+J41+G41+D41 -> 0
A42: G&A | B42: 0 | C42: 0 | D42: =B42*C42 -> 0 | E42: 0 | F42: 0 | G42: =E42*F42 -> 0 | H42: 0 | I42: 0 | J42: =H42*I42 -> 0 | K42: 0 | L42: 0 | M42: =K42*L42 -> 0 | N42: =M42+J42+G42+D42 -> 0
A43: TOTAL FCCM | D43: =SUM(D39:D42) -> 0 | G43: =SUM(G39:G42) -> 0 | J43: =SUM(J39:J42) -> 0 | M43: =SUM(M39:M42) -> 0 | N43: =SUM(N39:N42) -> 0
A45: TOTAL COST | D45: =D36+D43 -> 0 | G45: =G36+G43 -> 0 | J45: =J36+J43 -> 0 | M45: =M36+M43 -> 0 | N45: =N36+N43 -> 0
B46: =#REF! -> #REF! | H46: =#REF! -> #REF!
A47: FIXED FEE | B47: =D36 -> 0 | C47: 0 | D47: =B47*C47 -> 0 | E47: =G36 -> 0 | F47: 0 | G47: =E47*F47 -> 0 | H47: =J36 -> 0 | I47: 0 | J47: =H47*I47 -> 0 | K47: =M36 -> 0 | L47: 0 | M47: =K47*L47 -> 0 | N47: =M47+J47+G47+D47 -> 0
B48: =#REF! -> #REF! | H48: =#REF! -> #REF!
...

Sheet Format A CLIN 1001
A2: HH-60W Degraded Visual Environment System Non Recurring Engineering
A4: CLIN 1001 | B4: Ordering Period 1 (CLIN 1001) | N4: 1001 Total
B5: 2029 | E5: 2030 | H5: 2031
A6: COST/PRICE ELEMENT | B6: HOURS/BASE | C6: RATE | D6: 2029 Total | E6: HOURS/BASE | F6: RATE | G6: 2030 Total | H6: HOURS/BASE | I6: RATE | J6: 2031 Total | K6: HOURS/BASE | L6: RATE | M6: Total | N6: 1001 Total Amount
A7: DIRECT LABOR | B7: Labor Hours | E7: Labor Hours | H7: Labor Hours | K7: Labor Hours
A8: LABOR CATEGORY 1 | B8: 0 | C8: 0 | D8: =C8*B8 -> 0 | E8: 0 | F8: 0 | G8: =F8*E8 -> 0 | H8: 0 | I8: 0 | J8: =I8*H8 -> 0 | K8: 0 | L8: 0 | M8: =L8*K8 -> 0 | N8: =M8+J8+G8+D8 -> 0
A9: LABOR CATEGORY 2 | B9: 0 | C9: 0 | D9: =C9*B9 -> 0 | E9: 0 | F9: 0 | G9: =F9*E9 -> 0 | H9: 0 | I9: 0 | J9: =I9*H9 -> 0 | K9: 0 | L9: 0 | M9: =L9*K9 -> 0 | N9: =M9+J9+G9+D9 -> 0
A10: LABOR CATEGORY 3 | B10: 0 | C10: 0 | D10: =C10*B10 -> 0 | E10: 0 | F10: 0 | G10: =F10*E10 -> 0 | H10: 0 | I10: 0 | J10: =I10*H10 -> 0 | K10: 0 | L10: 0 | M10: =L10*K10 -> 0 | N10: =M10+J10+G10+D10 -> 0
A11: LABOR CATEGORY 4 | B11: 0 | C11: 0 | D11: =C11*B11 -> 0 | E11: 0 | F11: 0 | G11: =F11*E11 -> 0 | H11: 0 | I11: 0 | J11: =I11*H11 -> 0 | K11: 0 | L11: 0 | M11: =L11*K11 -> 0 | N11: =M11+J11+G11+D11 -> 0
A12: LABOR CATEGORY 5 | B12: 0 | C12: 0 | D12: =C12*B12 -> 0 | E12: 0 | F12: 0 | G12: =F12*E12 -> 0 | H12: 0 | I12: 0 | J12: =I12*H12 -> 0 | K12: 0 | L12: 0 | M12: =L12*K12 -> 0 | N12: =M12+J12+G12+D12 -> 0
A13: LABOR CATEGORY 6 | B13: 0 | C13: 0 | D13: =C13*B13 -> 0 | E13: 0 | F13: 0 | G13: =F13*E13 -> 0 | H13: 0 | I13: 0 | J13: =I13*H13 -> 0 | K13: 0 | L13: 0 | M13: =L13*K13 -> 0 | N13: =M13+J13+G13+D13 -> 0
A14: LABOR CATEGORY 7 | B14: 0 | C14: 0 | D14: =C14*B14 -> 0 | E14: 0 | F14: 0 | G14: =F14*E14 -> 0 | H14: 0 | I14: 0 | J14: =I14*H14 -> 0 | K14: 0 | L14: 0 | M14: =L14*K14 -> 0 | N14: =M14+J14+G14+D14 -> 0
A15: LABOR CATEGORY 8 | B15: 0 | C15: 0 | D15: =C15*B15 -> 0 | E15: 0 | F15: 0 | G15: =F15*E15 -> 0 | H15: 0 | I15: 0 | J15: =I15*H15 -> 0 | K15: 0 | L15: 0 | M15: =L15*K15 -> 0 | N15: =M15+J15+G15+D15 -> 0
A16: LABOR CATEGORY 9 | B16: 0 | C16: 0 | D16: =C16*B16 -> 0 | E16: 0 | F16: 0 | G16: =F16*E16 -> 0 | H16: 0 | I16: 0 | J16: =I16*H16 -> 0 | K16: 0 | L16: 0 | M16: =L16*K16 -> 0 | N16: =M16+J16+G16+D16 -> 0
A17: LABOR CATEGORY 10 | B17: 0 | C17: 0 | D17: =C17*B17 -> 0 | E17: 0 | F17: 0 | G17: =F17*E17 -> 0 | H17: 0 | I17: 0 | J17: =I17*H17 -> 0 | K17: 0 | L17: 0 | M17: =L17*K17 -> 0 | N17: =M17+J17+G17+D17 -> 0
A18: LABOR CATEGORY 11 | B18: 0 | C18: 0 | D18: =C18*B18 -> 0 | E18: 0 | F18: 0 | G18: =F18*E18 -> 0 | H18: 0 | I18: 0 | J18: =I18*H18 -> 0 | K18: 0 | L18: 0 | M18: =L18*K18 -> 0 | N18: =M18+J18+G18+D18 -> 0
A19: LABOR CATEGORY 12 | B19: 0 | C19: 0 | D19: =C19*B19 -> 0 | E19: 0 | F19: 0 | G19: =F19*E19 -> 0 | H19: 0 | I19: 0 | J19: =I19*H19 -> 0 | K19: 0 | L19: 0 | M19: =L19*K19 -> 0 | N19: =M19+J19+G19+D19 -> 0
A20: TOTAL DIRECT LABOR | B20: =SUM(B8:B19) -> 0 | D20: =SUM(D8:D19) -> 0 | E20: =SUM(E8:E19) -> 0 | G20: =SUM(G8:G19) -> 0 | H20: =SUM(H8:H19) -> 0 | J20: =SUM(J8:J19) -> 0 | K20: =SUM(K8:K19) -> 0 | M20: =SUM(M8:M19) -> 0 | N20: =SUM(N8:N19) -> 0
A22: ENG OVERHEAD | B22: 0 | C22: 0 | D22: =B22*C22 -> 0 | E22: 0 | F22: 0 | G22: =E22*F22 -> 0 | H22: 0 | I22: 0 | J22: =H22*I22 -> 0 | K22: 0 | L22: 0 | M22: =K22*L22 -> 0 | N22: =M22+J22+G22+D22 -> 0
A23: FLD OVERHEAD | B23: 0 | C23: 0 | D23: =B23*C23 -> 0 | E23: 0 | F23: 0 | G23: =E23*F23 -> 0 | H23: 0 | I23: 0 | J23: =H23*I23 -> 0 | K23: 0 | L23: 0 | M23: =K23*L23 -> 0 | N23: =M23+J23+G23+D23 -> 0
A24: MFG OVERHEAD | B24: 0 | C24: 0 | D24: =B24*C24 -> 0 | E24: 0 | F24: 0 | G24: =E24*F24 -> 0 | H24: 0 | I24: 0 | J24: =H24*I24 -> 0 | K24: 0 | L24: 0 | M24: =K24*L24 -> 0 | N24: =M24+J24+G24+D24 -> 0
A25: TOTAL INDIRECT LABOR EXPENSE | D25: =SUM(D22:D24) -> 0 | E25: 0 | G25: =SUM(G22:G24) -> 0 | J25: =SUM(J22:J24) -> 0 | M25: =SUM(M22:M24) -> 0 | N25: =SUM(N22:N24) -> 0
A27: SUB-TIER VENDOR (SUBCONTRACTOR/INTERCOMPANY/TEAMMATE)
A28: SUB-TIER VENDOR 1 | D28: 0 | G28: 0 | J28: 0 | M28: 0 | N28: =M28+J28+G28+D28 -> 0
A29: SUB-TIER VENDOR 2 | D29: 0 | G29: 0 | J29: 0 | M29: 0 | N29: =M29+J29+G29+D29 -> 0
A30: SUB-TIER VENDOR 3 | D30: 0 | G30: 0 | J30: 0 | M30: 0 | N30: =M30+J30+G30+D30 -> 0
A31: TOTAL SUB-TIER VENDOR COSTS/PRICES | D31: =SUM(D28:D30) -> 0 | G31: =SUM(G28:G30) -> 0 | J31: =SUM(J28:J30) -> 0 | M31: =SUM(M28:M30) -> 0 | N31: =SUM(N28:N30) -> 0
A32: SUBTOTAL | D32: =D20+D25+D31 -> 0 | G32: =G20+G25+G31 -> 0 | J32: =J20+J25+J31 -> 0 | M32: =M20+M25+M31 -> 0 | N32: =M32+J32+G32+D32 -> 0
A34: G&A | B34: 0 | C34: 0 | D34: =B34*C34 -> 0 | E34: 0 | F34: 0 | G34: =E34*F34 -> 0 | H34: 0 | I34: 0 | J34: =H34*I34 -> 0 | K34: 0 | L34: 0 | M34: =K34*L34 -> 0 | N34: =M34+J34+G34+D34 -> 0
A36: SUBTOTAL COST | D36: =D32+D34 -> 0 | G36: =G32+G34 -> 0 | J36: =J32+J34 -> 0 | M36: =M32+M34 -> 0 | N36: =N32+N34 -> 0
A38: FACILITIES CAPITAL COST OF MONEY
A39: ENG DIRECT LABOR | B39: 0 | C39: 0 | D39: =B39*C39 -> 0 | E39: 0 | F39: 0 | G39: =E39*F39 -> 0 | H39: 0 | I39: 0 | J39: =H39*I39 -> 0 | K39: 0 | L39: 0 | M39: =K39*L39 -> 0 | N39: =M39+J39+G39+D39 -> 0
A40: FLD DIRECT LABOR | B40: 0 | C40: 0 | D40: =B40*C40 -> 0 | E40: 0 | F40: 0 | G40: =E40*F40 -> 0 | H40: 0 | I40: 0 | J40: =H40*I40 -> 0 | K40: 0 | L40: 0 | M40: =K40*L40 -> 0 | N40: =M40+J40+G40+D40 -> 0
A41: MFG DIRECT LABOR | B41: 0 | C41: 0 | D41: =B41*C41 -> 0 | E41: 0 | F41: 0 | G41: =E41*F41 -> 0 | H41: 0 | I41: 0 | J41: =H41*I41 -> 0 | K41: 0 | L41: 0 | M41: =K41*L41 -> 0 | N41: =M41+J41+G41+D41 -> 0
A42: G&A | B42: 0 | C42: 0 | D42: =B42*C42 -> 0 | E42: 0 | F42: 0 | G42: =E42*F42 -> 0 | H42: 0 | I42: 0 | J42: =H42*I42 -> 0 | K42: 0 | L42: 0 | M42: =K42*L42 -> 0 | N42: =M42+J42+G42+D42 -> 0
A43: TOTAL FCCM | D43: =SUM(D39:D42) -> 0 | G43: =SUM(G39:G42) -> 0 | J43: =SUM(J39:J42) -> 0 | M43: =SUM(M39:M42) -> 0 | N43: =SUM(N39:N42) -> 0
A45: TOTAL COST | D45: =D36+D43 -> 0 | G45: =G36+G43 -> 0 | J45: =J36+J43 -> 0 | M45: =M36+M43 -> 0 | N45: =N36+N43 -> 0
B46: =#REF! -> #REF! | H46: =#REF! -> #REF!
A47: FIXED FEE | B47: =D36 -> 0 | C47: 0 | D47: =B47*C47 -> 0 | E47: =G36 -> 0 | F47: 0 | G47: =E47*F47 -> 0 | H47: =J36 -> 0 | I47: 0 | J47: =H47*I47 -> 0 | K47: =M36 -> 0 | L47: 0 | M47: =K47*L47 -> 0 | N47: =M47+J47+G47+D47 -> 0
B48: =#REF! -> #REF! | H48: =#REF! -> #REF!
...

Sheet Format A CLIN 1004
A2: HH-60W Degraded Visual Environment System Production Installation Labor
A4: CLIN 1004 | B4: Oredering Period 1 (CLIN 1004) | N4: 1004 Total
B5: 2029 | E5: 2030 | H5: 2031
A6: COST/PRICE ELEMENT | B6: HOURS/BASE | C6: RATE | D6: 2029 Total | E6: HOURS/BASE | F6: RATE | G6: 2030 Total | H6: HOURS/BASE | I6: RATE | J6: 2031 Total | K6: HOURS/BASE | L6: RATE | M6: Total | N6: 1004 Total Amount
A7: DIRECT LABOR | B7: Labor Hours | E7: Labor Hours | H7: Labor Hours | K7: Labor Hours
A8: LABOR CATEGORY 1 | B8: 0 | C8: 0 | D8: =C8*B8 -> 0 | E8: 0 | F8: 0 | G8: =F8*E8 -> 0 | H8: 0 | I8: 0 | J8: =I8*H8 -> 0 | K8: 0 | L8: 0 | M8: =L8*K8 -> 0 | N8: =M8+J8+G8+D8 -> 0
A9: LABOR CATEGORY 2 | B9: 0 | C9: 0 | D9: =C9*B9 -> 0 | E9: 0 | F9: 0 | G9: =F9*E9 -> 0 | H9: 0 | I9: 0 | J9: =I9*H9 -> 0 | K9: 0 | L9: 0 | M9: =L9*K9 -> 0 | N9: =M9+J9+G9+D9 -> 0
A10: LABOR CATEGORY 3 | B10: 0 | C10: 0 | D10: =C10*B10 -> 0 | E10: 0 | F10: 0 | G10: =F10*E10 -> 0 | H10: 0 | I10: 0 | J10: =I10*H10 -> 0 | K10: 0 | L10: 0 | M10: =L10*K10 -> 0 | N10: =M10+J10+G10+D10 -> 0
A11: LABOR CATEGORY 4 | B11: 0 | C11: 0 | D11: =C11*B11 -> 0 | E11: 0 | F11: 0 | G11: =F11*E11 -> 0 | H11: 0 | I11: 0 | J11: =I11*H11 -> 0 | K11: 0 | L11: 0 | M11: =L11*K11 -> 0 | N11: =M11+J11+G11+D11 -> 0
A12: LABOR CATEGORY 5 | B12: 0 | C12: 0 | D12: =C12*B12 -> 0 | E12: 0 | F12: 0 | G12: =F12*E12 -> 0 | H12: 0 | I12: 0 | J12: =I12*H12 -> 0 | K12: 0 | L12: 0 | M12: =L12*K12 -> 0 | N12: =M12+J12+G12+D12 -> 0
A13: LABOR CATEGORY 6 | B13: 0 | C13: 0 | D13: =C13*B13 -> 0 | E13: 0 | F13: 0 | G13: =F13*E13 -> 0 | H13: 0 | I13: 0 | J13: =I13*H13 -> 0 | K13: 0 | L13: 0 | M13: =L13*K13 -> 0 | N13: =M13+J13+G13+D13 -> 0
A14: LABOR CATEGORY 7 | B14: 0 | C14: 0 | D14: =C14*B14 -> 0 | E14: 0 | F14: 0 | G14: =F14*E14 -> 0 | H14: 0 | I14: 0 | J14: =I14*H14 -> 0 | K14: 0 | L14: 0 | M14: =L14*K14 -> 0 | N14: =M14+J14+G14+D14 -> 0
A15: LABOR CATEGORY 8 | B15: 0 | C15: 0 | D15: =C15*B15 -> 0 | E15: 0 | F15: 0 | G15: =F15*E15 -> 0 | H15: 0 | I15: 0 | J15: =I15*H15 -> 0 | K15: 0 | L15: 0 | M15: =L15*K15 -> 0 | N15: =M15+J15+G15+D15 -> 0
A16: LABOR CATEGORY 9 | B16: 0 | C16: 0 | D16: =C16*B16 -> 0 | E16: 0 | F16: 0 | G16: =F16*E16 -> 0 | H16: 0 | I16: 0 | J16: =I16*H16 -> 0 | K16: 0 | L16: 0 | M16: =L16*K16 -> 0 | N16: =M16+J16+G16+D16 -> 0
A17: LABOR CATEGORY 10 | B17: 0 | C17: 0 | D17: =C17*B17 -> 0 | E17: 0 | F17: 0 | G17: =F17*E17 -> 0 | H17: 0 | I17: 0 | J17: =I17*H17 -> 0 | K17: 0 | L17: 0 | M17: =L17*K17 -> 0 | N17: =M17+J17+G17+D17 -> 0
A18: LABOR CATEGORY 11 | B18: 0 | C18: 0 | D18: =C18*B18 -> 0 | E18: 0 | F18: 0 | G18: =F18*E18 -> 0 | H18: 0 | I18: 0 | J18: =I18*H18 -> 0 | K18: 0 | L18: 0 | M18: =L18*K18 -> 0 | N18: =M18+J18+G18+D18 -> 0
A19: LABOR CATEGORY 12 | B19: 0 | C19: 0 | D19: =C19*B19 -> 0 | E19: 0 | F19: 0 | G19: =F19*E19 -> 0 | H19: 0 | I19: 0 | J19: =I19*H19 -> 0 | K19: 0 | L19: 0 | M19: =L19*K19 -> 0 | N19: =M19+J19+G19+D19 -> 0
A20: TOTAL DIRECT LABOR | B20: =SUM(B8:B19) -> 0 | D20: =SUM(D8:D19) -> 0 | E20: =SUM(E8:E19) -> 0 | G20: =SUM(G8:G19) -> 0 | H20: =SUM(H8:H19) -> 0 | J20: =SUM(J8:J19) -> 0 | K20: =SUM(K8:K19) -> 0 | M20: =SUM(M8:M19) -> 0 | N20: =SUM(N8:N19) -> 0
A22: ENG OVERHEAD | B22: 0 | C22: 0 | D22: =B22*C22 -> 0 | E22: 0 | F22: 0 | G22: =E22*F22 -> 0 | H22: 0 | I22: 0 | J22: =H22*I22 -> 0 | K22: 0 | L22: 0 | M22: =K22*L22 -> 0 | N22: =M22+J22+G22+D22 -> 0
A23: FLD OVERHEAD | B23: 0 | C23: 0 | D23: =B23*C23 -> 0 | E23: 0 | F23: 0 | G23: =E23*F23 -> 0 | H23: 0 | I23: 0 | J23: =H23*I23 -> 0 | K23: 0 | L23: 0 | M23: =K23*L23 -> 0 | N23: =M23+J23+G23+D23 -> 0
A24: MFG OVERHEAD | B24: 0 | C24: 0 | D24: =B24*C24 -> 0 | E24: 0 | F24: 0 | G24: =E24*F24 -> 0 | H24: 0 | I24: 0 | J24: =H24*I24 -> 0 | K24: 0 | L24: 0 | M24: =K24*L24 -> 0 | N24: =M24+J24+G24+D24 -> 0
A25: TOTAL INDIRECT LABOR EXPENSE | D25: =SUM(D22:D24) -> 0 | E25: 0 | G25: =SUM(G22:G24) -> 0 | J25: =SUM(J22:J24) -> 0 | M25: =SUM(M22:M24) -> 0 | N25: =SUM(N22:N24) -> 0
A27: SUB-TIER VENDOR (SUBCONTRACTOR/INTERCOMPANY/TEAMMATE)
A28: SUB-TIER VENDOR 1 | D28: 0 | G28: 0 | J28: 0 | M28: 0 | N28: =M28+J28+G28+D28 -> 0
A29: SUB-TIER VENDOR 2 | D29: 0 | G29: 0 | J29: 0 | M29: 0 | N29: =M29+J29+G29+D29 -> 0
A30: SUB-TIER VENDOR 3 | D30: 0 | G30: 0 | J30: 0 | M30: 0 | N30: =M30+J30+G30+D30 -> 0
A31: TOTAL SUB-TIER VENDOR COSTS/PRICES | D31: =SUM(D28:D30) -> 0 | G31: =SUM(G28:G30) -> 0 | J31: =SUM(J28:J30) -> 0 | M31: =SUM(M28:M30) -> 0 | N31: =SUM(N28:N30) -> 0
A32: SUBTOTAL | D32: =D20+D25+D31 -> 0 | G32: =G20+G25+G31 -> 0 | J32: =J20+J25+J31 -> 0 | M32: =M20+M25+M31 -> 0 | N32: =M32+J32+G32+D32 -> 0
A34: G&A | B34: 0 | C34: 0 | D34: =B34*C34 -> 0 | E34: 0 | F34: 0 | G34: =E34*F34 -> 0 | H34: 0 | I34: 0 | J34: =H34*I34 -> 0 | K34: 0 | L34: 0 | M34: =K34*L34 -> 0 | N34: =M34+J34+G34+D34 -> 0
A36: SUBTOTAL COST | D36: =D32+D34 -> 0 | G36: =G32+G34 -> 0 | J36: =J32+J34 -> 0 | M36: =M32+M34 -> 0 | N36: =N32+N34 -> 0
A38: FACILITIES CAPITAL COST OF MONEY
A39: ENG DIRECT LABOR | B39: 0 | C39: 0 | D39: =B39*C39 -> 0 | E39: 0 | F39: 0 | G39: =E39*F39 -> 0 | H39: 0 | I39: 0 | J39: =H39*I39 -> 0 | K39: 0 | L39: 0 | M39: =K39*L39 -> 0 | N39: =M39+J39+G39+D39 -> 0
A40: FLD DIRECT LABOR | B40: 0 | C40: 0 | D40: =B40*C40 -> 0 | E40: 0 | F40: 0 | G40: =E40*F40 -> 0 | H40: 0 | I40: 0 | J40: =H40*I40 -> 0 | K40: 0 | L40: 0 | M40: =K40*L40 -> 0 | N40: =M40+J40+G40+D40 -> 0
A41: MFG DIRECT LABOR | B41: 0 | C41: 0 | D41: =B41*C41 -> 0 | E41: 0 | F41: 0 | G41: =E41*F41 -> 0 | H41: 0 | I41: 0 | J41: =H41*I41 -> 0 | K41: 0 | L41: 0 | M41: =K41*L41 -> 0 | N41: =M41+J41+G41+D41 -> 0
A42: G&A | B42: 0 | C42: 0 | D42: =B42*C42 -> 0 | E42: 0 | F42: 0 | G42: =E42*F42 -> 0 | H42: 0 | I42: 0 | J42: =H42*I42 -> 0 | K42: 0 | L42: 0 | M42: =K42*L42 -> 0 | N42: =M42+J42+G42+D42 -> 0
A43: TOTAL FCCM | D43: =SUM(D39:D42) -> 0 | G43: =SUM(G39:G42) -> 0 | J43: =SUM(J39:J42) -> 0 | M43: =SUM(M39:M42) -> 0 | N43: =SUM(N39:N42) -> 0
A45: TOTAL COST | D45: =D36+D43 -> 0 | G45: =G36+G43 -> 0 | J45: =J36+J43 -> 0 | M45: =M36+M43 -> 0 | N45: =N36+N43 -> 0
B46: =#REF! -> #REF! | H46: =#REF! -> #REF!
A47: FIXED FEE | B47: =D36 -> 0 | C47: 0 | D47: =B47*C47 -> 0 | E47: =G36 -> 0 | F47: 0 | G47: =E47*F47 -> 0 | H47: =J36 -> 0 | I47: 0 | J47: =H47*I47 -> 0 | K47: =M36 -> 0 | L47: 0 | M47: =K47*L47 -> 0 | N47: =M47+J47+G47+D47 -> 0
B48: =#REF! -> #REF! | H48: =#REF! -> #REF!
...

Sheet Format A CLIN 1005
A2: HH-60W Degraded Visual Environment System Protoype Installation Labor
A4: CLIN 1005 | B4: Ordering Period 1 (CLIN 1005) | N4: 1005 Total
B5: 2029 | E5: 2030 | H5: 2031
A6: COST/PRICE ELEMENT | B6: HOURS/BASE | C6: RATE | D6: 2029 Total | E6: HOURS/BASE | F6: RATE | G6: 2030 Total | H6: HOURS/BASE | I6: RATE | J6: 2031 Total | K6: HOURS/BASE | L6: RATE | M6: Total | N6: 1005 Total Amount
A7: DIRECT LABOR | B7: Labor Hours | E7: Labor Hours | H7: Labor Hours | K7: Labor Hours
A8: LABOR CATEGORY 1 | B8: 0 | C8: 0 | D8: =C8*B8 -> 0 | E8: 0 | F8: 0 | G8: =F8*E8 -> 0 | H8: 0 | I8: 0 | J8: =I8*H8 -> 0 | K8: 0 | L8: 0 | M8: =L8*K8 -> 0 | N8: =M8+J8+G8+D8 -> 0
A9: LABOR CATEGORY 2 | B9: 0 | C9: 0 | D9: =C9*B9 -> 0 | E9: 0 | F9: 0 | G9: =F9*E9 -> 0 | H9: 0 | I9: 0 | J9: =I9*H9 -> 0 | K9: 0 | L9: 0 | M9: =L9*K9 -> 0 | N9: =M9+J9+G9+D9 -> 0
A10: LABOR CATEGORY 3 | B10: 0 | C10: 0 | D10: =C10*B10 -> 0 | E10: 0 | F10: 0 | G10: =F10*E10 -> 0 | H10: 0 | I10: 0 | J10: =I10*H10 -> 0 | K10: 0 | L10: 0 | M10: =L10*K10 -> 0 | N10: =M10+J10+G10+D10 -> 0
A11: LABOR CATEGORY 4 | B11: 0 | C11: 0 | D11: =C11*B11 -> 0 | E11: 0 | F11: 0 | G11: =F11*E11 -> 0 | H11: 0 | I11: 0 | J11: =I11*H11 -> 0 | K11: 0 | L11: 0 | M11: =L11*K11 -> 0 | N11: =M11+J11+G11+D11 -> 0
A12: LABOR CATEGORY 5 | B12: 0 | C12: 0 | D12: =C12*B12 -> 0 | E12: 0 | F12: 0 | G12: =F12*E12 -> 0 | H12: 0 | I12: 0 | J12: =I12*H12 -> 0 | K12: 0 | L12: 0 | M12: =L12*K12 -> 0 | N12: =M12+J12+G12+D12 -> 0
A13: LABOR CATEGORY 6 | B13: 0 | C13: 0 | D13: =C13*B13 -> 0 | E13: 0 | F13: 0 | G13: =F13*E13 -> 0 | H13: 0 | I13: 0 | J13: =I13*H13 -> 0 | K13: 0 | L13: 0 | M13: =L13*K13 -> 0 | N13: =M13+J13+G13+D13 -> 0
A14: LABOR CATEGORY 7 | B14: 0 | C14: 0 | D14: =C14*B14 -> 0 | E14: 0 | F14: 0 | G14: =F14*E14 -> 0 | H14: 0 | I14: 0 | J14: =I14*H14 -> 0 | K14: 0 | L14: 0 | M14: =L14*K14 -> 0 | N14: =M14+J14+G14+D14 -> 0
A15: LABOR CATEGORY 8 | B15: 0 | C15: 0 | D15: =C15*B15 -> 0 | E15: 0 | F15: 0 | G15: =F15*E15 -> 0 | H15: 0 | I15: 0 | J15: =I15*H15 -> 0 | K15: 0 | L15: 0 | M15: =L15*K15 -> 0 | N15: =M15+J15+G15+D15 -> 0
A16: LABOR CATEGORY 9 | B16: 0 | C16: 0 | D16: =C16*B16 -> 0 | E16: 0 | F16: 0 | G16: =F16*E16 -> 0 | H16: 0 | I16: 0 | J16: =I16*H16 -> 0 | K16: 0 | L16: 0 | M16: =L16*K16 -> 0 | N16: =M16+J16+G16+D16 -> 0
A17: LABOR CATEGORY 10 | B17: 0 | C17: 0 | D17: =C17*B17 -> 0 | E17: 0 | F17: 0 | G17: =F17*E17 -> 0 | H17: 0 | I17: 0 | J17: =I17*H17 -> 0 | K17: 0 | L17: 0 | M17: =L17*K17 -> 0 | N17: =M17+J17+G17+D17 -> 0
A18: LABOR CATEGORY 11 | B18: 0 | C18: 0 | D18: =C18*B18 -> 0 | E18: 0 | F18: 0 | G18: =F18*E18 -> 0 | H18: 0 | I18: 0 | J18: =I18*H18 -> 0 | K18: 0 | L18: 0 | M18: =L18*K18 -> 0 | N18: =M18+J18+G18+D18 -> 0
A19: LABOR CATEGORY 12 | B19: 0 | C19: 0 | D19: =C19*B19 -> 0 | E19: 0 | F19: 0 | G19: =F19*E19 -> 0 | H19: 0 | I19: 0 | J19: =I19*H19 -> 0 | K19: 0 | L19: 0 | M19: =L19*K19 -> 0 | N19: =M19+J19+G19+D19 -> 0
A20: TOTAL DIRECT LABOR | B20: =SUM(B8:B19) -> 0 | D20: =SUM(D8:D19) -> 0 | E20: =SUM(E8:E19) -> 0 | G20: =SUM(G8:G19) -> 0 | H20: =SUM(H8:H19) -> 0 | J20: =SUM(J8:J19) -> 0 | K20: =SUM(K8:K19) -> 0 | M20: =SUM(M8:M19) -> 0 | N20: =SUM(N8:N19) -> 0
A22: ENG OVERHEAD | B22: 0 | C22: 0 | D22: =B22*C22 -> 0 | E22: 0 | F22: 0 | G22: =E22*F22 -> 0 | H22: 0 | I22: 0 | J22: =H22*I22 -> 0 | K22: 0 | L22: 0 | M22: =K22*L22 -> 0 | N22: =M22+J22+G22+D22 -> 0
A23: FLD OVERHEAD | B23: 0 | C23: 0 | D23: =B23*C23 -> 0 | E23: 0 | F23: 0 | G23: =E23*F23 -> 0 | H23: 0 | I23: 0 | J23: =H23*I23 -> 0 | K23: 0 | L23: 0 | M23: =K23*L23 -> 0 | N23: =M23+J23+G23+D23 -> 0
A24: MFG OVERHEAD | B24: 0 | C24: 0 | D24: =B24*C24 -> 0 | E24: 0 | F24: 0 | G24: =E24*F24 -> 0 | H24: 0 | I24: 0 | J24: =H24*I24 -> 0 | K24: 0 | L24: 0 | M24: =K24*L24 -> 0 | N24: =M24+J24+G24+D24 -> 0
A25: TOTAL INDIRECT LABOR EXPENSE | D25: =SUM(D22:D24) -> 0 | E25: 0 | G25: =SUM(G22:G24) -> 0 | J25: =SUM(J22:J24) -> 0 | M25: =SUM(M22:M24) -> 0 | N25: =SUM(N22:N24) -> 0
A27: SUB-TIER VENDOR (SUBCONTRACTOR/INTERCOMPANY/TEAMMATE)
A28: SUB-TIER VENDOR 1 | D28: 0 | G28: 0 | J28: 0 | M28: 0 | N28: =M28+J28+G28+D28 -> 0
A29: SUB-TIER VENDOR 2 | D29: 0 | G29: 0 | J29: 0 | M29: 0 | N29: =M29+J29+G29+D29 -> 0
A30: SUB-TIER VENDOR 3 | D30: 0 | G30: 0 | J30: 0 | M30: 0 | N30: =M30+J30+G30+D30 -> 0
A31: TOTAL SUB-TIER VENDOR COSTS/PRICES | D31: =SUM(D28:D30) -> 0 | G31: =SUM(G28:G30) -> 0 | J31: =SUM(J28:J30) -> 0 | M31: =SUM(M28:M30) -> 0 | N31: =SUM(N28:N30) -> 0
A32: SUBTOTAL | D32: =D20+D25+D31 -> 0 | G32: =G20+G25+G31 -> 0 | J32: =J20+J25+J31 -> 0 | M32: =M20+M25+M31 -> 0 | N32: =M32+J32+G32+D32 -> 0
A34: G&A | B34: 0 | C34: 0 | D34: =B34*C34 -> 0 | E34: 0 | F34: 0 | G34: =E34*F34 -> 0 | H34: 0 | I34: 0 | J34: =H34*I34 -> 0 | K34: 0 | L34: 0 | M34: =K34*L34 -> 0 | N34: =M34+J34+G34+D34 -> 0
A36: SUBTOTAL COST | D36: =D32+D34 -> 0 | G36: =G32+G34 -> 0 | J36: =J32+J34 -> 0 | M36: =M32+M34 -> 0 | N36: =N32+N34 -> 0
A38: FACILITIES CAPITAL COST OF MONEY
A39: ENG DIRECT LABOR | B39: 0 | C39: 0 | D39: =B39*C39 -> 0 | E39: 0 | F39: 0 | G39: =E39*F39 -> 0 | H39: 0 | I39: 0 | J39: =H39*I39 -> 0 | K39: 0 | L39: 0 | M39: =K39*L39 -> 0 | N39: =M39+J39+G39+D39 -> 0
A40: FLD DIRECT LABOR | B40: 0 | C40: 0 | D40: =B40*C40 -> 0 | E40: 0 | F40: 0 | G40: =E40*F40 -> 0 | H40: 0 | I40: 0 | J40: =H40*I40 -> 0 | K40: 0 | L40: 0 | M40: =K40*L40 -> 0 | N40: =M40+J40+G40+D40 -> 0
A41: MFG DIRECT LABOR | B41: 0 | C41: 0 | D41: =B41*C41 -> 0 | E41: 0 | F41: 0 | G41: =E41*F41 -> 0 | H41: 0 | I41: 0 | J41: =H41*I41 -> 0 | K41: 0 | L41: 0 | M41: =K41*L41 -> 0 | N41: =M41+J41+G41+D41 -> 0
A42: G&A | B42: 0 | C42: 0 | D42: =B42*C42 -> 0 | E42: 0 | F42: 0 | G42: =E42*F42 -> 0 | H42: 0 | I42: 0 | J42: =H42*I42 -> 0 | K42: 0 | L42: 0 | M42: =K42*L42 -> 0 | N42: =M42+J42+G42+D42 -> 0
A43: TOTAL FCCM | D43: =SUM(D39:D42) -> 0 | G43: =SUM(G39:G42) -> 0 | J43: =SUM(J39:J42) -> 0 | M43: =SUM(M39:M42) -> 0 | N43: =SUM(N39:N42) -> 0
A45: TOTAL COST | D45: =D36+D43 -> 0 | G45: =G36+G43 -> 0 | J45: =J36+J43 -> 0 | M45: =M36+M43 -> 0 | N45: =N36+N43 -> 0
B46: =#REF! -> #REF! | H46: =#REF! -> #REF!
A47: FIXED FEE | B47: =D36 -> 0 | C47: 0 | D47: =B47*C47 -> 0 | E47: =G36 -> 0 | F47: 0 | G47: =E47*F47 -> 0 | H47: =J36 -> 0 | I47: 0 | J47: =H47*I47 -> 0 | K47: =M36 -> 0 | L47: 0 | M47: =K47*L47 -> 0 | N47: =M47+J47+G47+D47 -> 0
B48: =#REF! -> #REF! | H48: =#REF! -> #REF!
...

Sheet Format A CLIN 1006
A2: HH-60W Degraded Visual Environment System Verification Installation Labor
A4: CLIN 1006 | B4: Ordering Period 1 (CLIN 1006) | N4: 1006 Total
B5: 2029 | E5: 2030 | H5: 2031
A6: COST/PRICE ELEMENT | B6: HOURS/BASE | C6: RATE | D6: 2029 Total | E6: HOURS/BASE | F6: RATE | G6: 2030 Total | H6: HOURS/BASE | I6: RATE | J6: 2031 Total | K6: HOURS/BASE | L6: RATE | M6: Total | N6: 1006 Total Amount
A7: DIRECT LABOR | B7: Labor Hours | E7: Labor Hours | H7: Labor Hours | K7: Labor Hours
A8: LABOR CATEGORY 1 | B8: 0 | C8: 0 | D8: =C8*B8 -> 0 | E8: 0 | F8: 0 | G8: =F8*E8 -> 0 | H8: 0 | I8: 0 | J8: =I8*H8 -> 0 | K8: 0 | L8: 0 | M8: =L8*K8 -> 0 | N8: =M8+J8+G8+D8 -> 0
A9: LABOR CATEGORY 2 | B9: 0 | C9: 0 | D9: =C9*B9 -> 0 | E9: 0 | F9: 0 | G9: =F9*E9 -> 0 | H9: 0 | I9: 0 | J9: =I9*H9 -> 0 | K9: 0 | L9: 0 | M9: =L9*K9 -> 0 | N9: =M9+J9+G9+D9 -> 0
A10: LABOR CATEGORY 3 | B10: 0 | C10: 0 | D10: =C10*B10 -> 0 | E10: 0 | F10: 0 | G10: =F10*E10 -> 0 | H10: 0 | I10: 0 | J10: =I10*H10 -> 0 | K10: 0 | L10: 0 | M10: =L10*K10 -> 0 | N10: =M10+J10+G10+D10 -> 0
A11: LABOR CATEGORY 4 | B11: 0 | C11: 0 | D11: =C11*B11 -> 0 | E11: 0 | F11: 0 | G11: =F11*E11 -> 0 | H11: 0 | I11: 0 | J11: =I11*H11 -> 0 | K11: 0 | L11: 0 | M11: =L11*K11 -> 0 | N11: =M11+J11+G11+D11 -> 0
A12: LABOR CATEGORY 5 | B12: 0 | C12: 0 | D12: =C12*B12 -> 0 | E12: 0 | F12: 0 | G12: =F12*E12 -> 0 | H12: 0 | I12: 0 | J12: =I12*H12 -> 0 | K12: 0 | L12: 0 | M12: =L12*K12 -> 0 | N12: =M12+J12+G12+D12 -> 0
A13: LABOR CATEGORY 6 | B13: 0 | C13: 0 | D13: =C13*B13 -> 0 | E13: 0 | F13: 0 | G13: =F13*E13 -> 0 | H13: 0 | I13: 0 | J13: =I13*H13 -> 0 | K13: 0 | L13: 0 | M13: =L13*K13 -> 0 | N13: =M13+J13+G13+D13 -> 0
A14: LABOR CATEGORY 7 | B14: 0 | C14: 0 | D14: =C14*B14 -> 0 | E14: 0 | F14: 0 | G14: =F14*E14 -> 0 | H14: 0 | I14: 0 | J14: =I14*H14 -> 0 | K14: 0 | L14: 0 | M14: =L14*K14 -> 0 | N14: =M14+J14+G14+D14 -> 0
A15: LABOR CATEGORY 8 | B15: 0 | C15: 0 | D15: =C15*B15 -> 0 | E15: 0 | F15: 0 | G15: =F15*E15 -> 0 | H15: 0 | I15: 0 | J15: =I15*H15 -> 0 | K15: 0 | L15: 0 | M15: =L15*K15 -> 0 | N15: =M15+J15+G15+D15 -> 0
A16: LABOR CATEGORY 9 | B16: 0 | C16: 0 | D16: =C16*B16 -> 0 | E16: 0 | F16: 0 | G16: =F16*E16 -> 0 | H16: 0 | I16: 0 | J16: =I16*H16 -> 0 | K16: 0 | L16: 0 | M16: =L16*K16 -> 0 | N16: =M16+J16+G16+D16 -> 0
A17: LABOR CATEGORY 10 | B17: 0 | C17: 0 | D17: =C17*B17 -> 0 | E17: 0 | F17: 0 | G17: =F17*E17 -> 0 | H17: 0 | I17: 0 | J17: =I17*H17 -> 0 | K17: 0 | L17: 0 | M17: =L17*K17 -> 0 | N17: =M17+J17+G17+D17 -> 0
A18: LABOR CATEGORY 11 | B18: 0 | C18: 0 | D18: =C18*B18 -> 0 | E18: 0 | F18: 0 | G18: =F18*E18 -> 0 | H18: 0 | I18: 0 | J18: =I18*H18 -> 0 | K18: 0 | L18: 0 | M18: =L18*K18 -> 0 | N18: =M18+J18+G18+D18 -> 0
A19: LABOR CATEGORY 12 | B19: 0 | C19: 0 | D19: =C19*B19 -> 0 | E19: 0 | F19: 0 | G19: =F19*E19 -> 0 | H19: 0 | I19: 0 | J19: =I19*H19 -> 0 | K19: 0 | L19: 0 | M19: =L19*K19 -> 0 | N19: =M19+J19+G19+D19 -> 0
A20: TOTAL DIRECT LABOR | B20: =SUM(B8:B19) -> 0 | D20: =SUM(D8:D19) -> 0 | E20: =SUM(E8:E19) -> 0 | G20: =SUM(G8:G19) -> 0 | H20: =SUM(H8:H19) -> 0 | J20: =SUM(J8:J19) -> 0 | K20: =SUM(K8:K19) -> 0 | M20: =SUM(M8:M19) -> 0 | N20: =SUM(N8:N19) -> 0
A22: ENG OVERHEAD | B22: 0 | C22: 0 | D22: =B22*C22 -> 0 | E22: 0 | F22: 0 | G22: =E22*F22 -> 0 | H22: 0 | I22: 0 | J22: =H22*I22 -> 0 | K22: 0 | L22: 0 | M22: =K22*L22 -> 0 | N22: =M22+J22+G22+D22 -> 0
A23: FLD OVERHEAD | B23: 0 | C23: 0 | D23: =B23*C23 -> 0 | E23: 0 | F23: 0 | G23: =E23*F23 -> 0 | H23: 0 | I23: 0 | J23: =H23*I23 -> 0 | K23: 0 | L23: 0 | M23: =K23*L23 -> 0 | N23: =M23+J23+G23+D23 -> 0
A24: MFG OVERHEAD | B24: 0 | C24: 0 | D24: =B24*C24 -> 0 | E24: 0 | F24: 0 | G24: =E24*F24 -> 0 | H24: 0 | I24: 0 | J24: =H24*I24 -> 0 | K24: 0 | L24: 0 | M24: =K24*L24 -> 0 | N24: =M24+J24+G24+D24 -> 0
A25: TOTAL INDIRECT LABOR EXPENSE | D25: =SUM(D22:D24) -> 0 | E25: 0 | G25: =SUM(G22:G24) -> 0 | J25: =SUM(J22:J24) -> 0 | M25: =SUM(M22:M24) -> 0 | N25: =SUM(N22:N24) -> 0
A27: SUB-TIER VENDOR (SUBCONTRACTOR/INTERCOMPANY/TEAMMATE)
A28: SUB-TIER VENDOR 1 | D28: 0 | G28: 0 | J28: 0 | M28: 0 | N28: =M28+J28+G28+D28 -> 0
A29: SUB-TIER VENDOR 2 | D29: 0 | G29: 0 | J29: 0 | M29: 0 | N29: =M29+J29+G29+D29 -> 0
A30: SUB-TIER VENDOR 3 | D30: 0 | G30: 0 | J30: 0 | M30: 0 | N30: =M30+J30+G30+D30 -> 0
A31: TOTAL SUB-TIER VENDOR COSTS/PRICES | D31: =SUM(D28:D30) -> 0 | G31: =SUM(G28:G30) -> 0 | J31: =SUM(J28:J30) -> 0 | M31: =SUM(M28:M30) -> 0 | N31: =SUM(N28:N30) -> 0
A32: SUBTOTAL | D32: =D20+D25+D31 -> 0 | G32: =G20+G25+G31 -> 0 | J32: =J20+J25+J31 -> 0 | M32: =M20+M25+M31 -> 0 | N32: =M32+J32+G32+D32 -> 0
A34: G&A | B34: 0 | C34: 0 | D34: =B34*C34 -> 0 | E34: 0 | F34: 0 | G34: =E34*F34 -> 0 | H34: 0 | I34: 0 | J34: =H34*I34 -> 0 | K34: 0 | L34: 0 | M34: =K34*L34 -> 0 | N34: =M34+J34+G34+D34 -> 0
A36: SUBTOTAL COST | D36: =D32+D34 -> 0 | G36: =G32+G34 -> 0 | J36: =J32+J34 -> 0 | M36: =M32+M34 -> 0 | N36: =N32+N34 -> 0
A38: FACILITIES CAPITAL COST OF MONEY
A39: ENG DIRECT LABOR | B39: 0 | C39: 0 | D39: =B39*C39 -> 0 | E39: 0 | F39: 0 | G39: =E39*F39 -> 0 | H39: 0 | I39: 0 | J39: =H39*I39 -> 0 | K39: 0 | L39: 0 | M39: =K39*L39 -> 0 | N39: =M39+J39+G39+D39 -> 0
A40: FLD DIRECT LABOR | B40: 0 | C40: 0 | D40: =B40*C40 -> 0 | E40: 0 | F40: 0 | G40: =E40*F40 -> 0 | H40: 0 | I40: 0 | J40: =H40*I40 -> 0 | K40: 0 | L40: 0 | M40: =K40*L40 -> 0 | N40: =M40+J40+G40+D40 -> 0
A41: MFG DIRECT LABOR | B41: 0 | C41: 0 | D41: =B41*C41 -> 0 | E41: 0 | F41: 0 | G41: =E41*F41 -> 0 | H41: 0 | I41: 0 | J41: =H41*I41 -> 0 | K41: 0 | L41: 0 | M41: =K41*L41 -> 0 | N41: =M41+J41+G41+D41 -> 0
A42: G&A | B42: 0 | C42: 0 | D42: =B42*C42 -> 0 | E42: 0 | F42: 0 | G42: =E42*F42 -> 0 | H42: 0 | I42: 0 | J42: =H42*I42 -> 0 | K42: 0 | L42: 0 | M42: =K42*L42 -> 0 | N42: =M42+J42+G42+D42 -> 0
A43: TOTAL FCCM | D43: =SUM(D39:D42) -> 0 | G43: =SUM(G39:G42) -> 0 | J43: =SUM(J39:J42) -> 0 | M43: =SUM(M39:M42) -> 0 | N43: =SUM(N39:N42) -> 0
A45: TOTAL COST | D45: =D36+D43 -> 0 | G45: =G36+G43 -> 0 | J45: =J36+J43 -> 0 | M45: =M36+M43 -> 0 | N45: =N36+N43 -> 0
B46: =#REF! -> #REF! | H46: =#REF! -> #REF!
A47: FIXED FEE | B47: =D36 -> 0 | C47: 0 | D47: =B47*C47 -> 0 | E47: =G36 -> 0 | F47: 0 | G47: =E47*F47 -> 0 | H47: =J36 -> 0 | I47: 0 | J47: =H47*I47 -> 0 | K47: =M36 -> 0 | L47: 0 | M47: =K47*L47 -> 0 | N47: =M47+J47+G47+D47 -> 0
B48: =#REF! -> #REF! | H48: =#REF! -> #REF!
...

Sheet Format A CLIN 2003
A2: HH-60W Degraded Visual Environment System Production Installation Labor
A4: CLIN 2003 | B4: Ordering Period 2 (CLIN 2003) | N4: 2003 Total
B5: 3031 | E5: 3032
A6: COST/PRICE ELEMENT | B6: HOURS/BASE | C6: RATE | D6: 2031 Total | E6: HOURS/BASE | F6: RATE | G6: 2032 Total | H6: HOURS/BASE | I6: RATE | J6: Total | K6: HOURS/BASE | L6: RATE | M6: Total | N6: 2003 Total Amount
A7: DIRECT LABOR | B7: Labor Hours | E7: Labor Hours | H7: Labor Hours | K7: Labor Hours
A8: LABOR CATEGORY 1 | B8: 0 | C8: 0 | D8: =C8*B8 -> 0 | E8: 0 | F8: 0 | G8: =F8*E8 -> 0 | H8: 0 | I8: 0 | J8: =I8*H8 -> 0 | K8: 0 | L8: 0 | M8: =L8*K8 -> 0 | N8: =M8+J8+G8+D8 -> 0
A9: LABOR CATEGORY 2 | B9: 0 | C9: 0 | D9: =C9*B9 -> 0 | E9: 0 | F9: 0 | G9: =F9*E9 -> 0 | H9: 0 | I9: 0 | J9: =I9*H9 -> 0 | K9: 0 | L9: 0 | M9: =L9*K9 -> 0 | N9: =M9+J9+G9+D9 -> 0
A10: LABOR CATEGORY 3 | B10: 0 | C10: 0 | D10: =C10*B10 -> 0 | E10: 0 | F10: 0 | G10: =F10*E10 -> 0 | H10: 0 | I10: 0 | J10: =I10*H10 -> 0 | K10: 0 | L10: 0 | M10: =L10*K10 -> 0 | N10: =M10+J10+G10+D10 -> 0
A11: LABOR CATEGORY 4 | B11: 0 | C11: 0 | D11: =C11*B11 -> 0 | E11: 0 | F11: 0 | G11: =F11*E11 -> 0 | H11: 0 | I11: 0 | J11: =I11*H11 -> 0 | K11: 0 | L11: 0 | M11: =L11*K11 -> 0 | N11: =M11+J11+G11+D11 -> 0
A12: LABOR CATEGORY 5 | B12: 0 | C12: 0 | D12: =C12*B12 -> 0 | E12: 0 | F12: 0 | G12: =F12*E12 -> 0 | H12: 0 | I12: 0 | J12: =I12*H12 -> 0 | K12: 0 | L12: 0 | M12: =L12*K12 -> 0 | N12: =M12+J12+G12+D12 -> 0
A13: LABOR CATEGORY 6 | B13: 0 | C13: 0 | D13: =C13*B13 -> 0 | E13: 0 | F13: 0 | G13: =F13*E13 -> 0 | H13: 0 | I13: 0 | J13: =I13*H13 -> 0 | K13: 0 | L13: 0 | M13: =L13*K13 -> 0 | N13: =M13+J13+G13+D13 -> 0
A14: LABOR CATEGORY 7 | B14: 0 | C14: 0 | D14: =C14*B14 -> 0 | E14: 0 | F14: 0 | G14: =F14*E14 -> 0 | H14: 0 | I14: 0 | J14: =I14*H14 -> 0 | K14: 0 | L14: 0 | M14: =L14*K14 -> 0 | N14: =M14+J14+G14+D14 -> 0
A15: LABOR CATEGORY 8 | B15: 0 | C15: 0 | D15: =C15*B15 -> 0 | E15: 0 | F15: 0 | G15: =F15*E15 -> 0 | H15: 0 | I15: 0 | J15: =I15*H15 -> 0 | K15: 0 | L15: 0 | M15: =L15*K15 -> 0 | N15: =M15+J15+G15+D15 -> 0
A16: LABOR CATEGORY 9 | B16: 0 | C16: 0 | D16: =C16*B16 -> 0 | E16: 0 | F16: 0 | G16: =F16*E16 -> 0 | H16: 0 | I16: 0 | J16: =I16*H16 -> 0 | K16: 0 | L16: 0 | M16: =L16*K16 -> 0 | N16: =M16+J16+G16+D16 -> 0
A17: LABOR CATEGORY 10 | B17: 0 | C17: 0 | D17: =C17*B17 -> 0 | E17: 0 | F17: 0 | G17: =F17*E17 -> 0 | H17: 0 | I17: 0 | J17: =I17*H17 -> 0 | K17: 0 | L17: 0 | M17: =L17*K17 -> 0 | N17: =M17+J17+G17+D17 -> 0
A18: LABOR CATEGORY 11 | B18: 0 | C18: 0 | D18: =C18*B18 -> 0 | E18: 0 | F18: 0 | G18: =F18*E18 -> 0 | H18: 0 | I18: 0 | J18: =I18*H18 -> 0 | K18: 0 | L18: 0 | M18: =L18*K18 -> 0 | N18: =M18+J18+G18+D18 -> 0
A19: LABOR CATEGORY 12 | B19: 0 | C19: 0 | D19: =C19*B19 -> 0 | E19: 0 | F19: 0 | G19: =F19*E19 -> 0 | H19: 0 | I19: 0 | J19: =I19*H19 -> 0 | K19: 0 | L19: 0 | M19: =L19*K19 -> 0 | N19: =M19+J19+G19+D19 -> 0
A20: TOTAL DIRECT LABOR | B20: =SUM(B8:B19) -> 0 | D20: =SUM(D8:D19) -> 0 | E20: =SUM(E8:E19) -> 0 | G20: =SUM(G8:G19) -> 0 | H20: =SUM(H8:H19) -> 0 | J20: =SUM(J8:J19) -> 0 | K20: =SUM(K8:K19) -> 0 | M20: =SUM(M8:M19) -> 0 | N20: =SUM(N8:N19) -> 0
A22: ENG OVERHEAD | B22: 0 | C22: 0 | D22: =B22*C22 -> 0 | E22: 0 | F22: 0 | G22: =E22*F22 -> 0 | H22: 0 | I22: 0 | J22: =H22*I22 -> 0 | K22: 0 | L22: 0 | M22: =K22*L22 -> 0 | N22: =M22+J22+G22+D22 -> 0
A23: FLD OVERHEAD | B23: 0 | C23: 0 | D23: =B23*C23 -> 0 | E23: 0 | F23: 0 | G23: =E23*F23 -> 0 | H23: 0 | I23: 0 | J23: =H23*I23 -> 0 | K23: 0 | L23: 0 | M23: =K23*L23 -> 0 | N23: =M23+J23+G23+D23 -> 0
A24: MFG OVERHEAD | B24: 0 | C24: 0 | D24: =B24*C24 -> 0 | E24: 0 | F24: 0 | G24: =E24*F24 -> 0 | H24: 0 | I24: 0 | J24: =H24*I24 -> 0 | K24: 0 | L24: 0 | M24: =K24*L24 -> 0 | N24: =M24+J24+G24+D24 -> 0
A25: TOTAL INDIRECT LABOR EXPENSE | D25: =SUM(D22:D24) -> 0 | E25: 0 | G25: =SUM(G22:G24) -> 0 | J25: =SUM(J22:J24) -> 0 | M25: =SUM(M22:M24) -> 0 | N25: =SUM(N22:N24) -> 0
A27: SUB-TIER VENDOR (SUBCONTRACTOR/INTERCOMPANY/TEAMMATE)
A28: SUB-TIER VENDOR 1 | D28: 0 | G28: 0 | J28: 0 | M28: 0 | N28: =M28+J28+G28+D28 -> 0
A29: SUB-TIER VENDOR 2 | D29: 0 | G29: 0 | J29: 0 | M29: 0 | N29: =M29+J29+G29+D29 -> 0
