Workbook
Name Providers: #REF!

Sheet Overview_Instructions
A1: Attachment L-07: Business Case Analysis Template
B2: Business Case Analysis Template
B4: Commercial LEO Destination System (CLDS)
B5: Revenue, Cost and Commercial Segment Project Financing Instructions
B7: Overview
B8: - The purpose of this workbook is to collect projected yearly revenue, cost and basis of estimate information for the CLDS from CY 2027 through CY 2042
B9: - This workbook has separate worksheets for Cost Summary BOE, ProForma Cash Flow, Cost BOE Breakdown and Corporate Contribution
B10: - The Business and Technical Approaches should all correlate with one another. The types of Revenue and Cost Projections included in the offeror's workbook should be reflected in their Commercialization, Financial and Technical Approach sections of other documents.
B11: - Below are instructions covering each of these worksheets
B13: Cost Summary BOE Instructions
B14: - CLIN 1: Cost of Design and Development: Provide the costs associated with Design and Development effort for the period of performance.
B15: - CLIN 2: Cost of Design, Flight Unit Build/Test, Certification, Transportation Delta Certification: Provide the costs associated with production, integration and test of the flight element(s), including any loose outfitting hardware such as cables or crew provisions launched separately (if applicable); Provide cost associated with each element including launch vehicle transportation for each element.
B16: - CLIN 3: Operations Costs: This includes but is not limited to sustaining engineering, Mission Ops (both ground segment, vehicle processing and on-orbit activities). Also, provide the costs associated with each revenue stream. Include the crew and cargo transportation to and from orbit. Please enter costs into the years that costs are incurred for these services. The CLIN 3 Operations costs is for End-to-End Services which can incorporate GFTSS as the transportation methodology in the End-to-End pricing. If the Offeror proposes multiple mission types to be available the Offeror should trace the costs to their IMS. ASSUMPTIONS: -CLIN 3 shall assume NASA will buy Early Services if offered (Mission A or B) the first year they are available (but no more than 2 early A or B missions) -CLIN 3 shall assume NASA will buy a Standard Services Mission the first year it is available and continue at a rate of 2, 6-month missions per year, with 2 NASA crew on each Mission.
... B32: - Offeror shall fill in the grey cells

Sheet Cost Summary BOE
A1: CLDS Cost Summary BOE
A2: Provider:
A3: Dollars In Millions
A5: CLIN 1 INITIAL DEVELOPMENT
A6: Elements Of Cost | B6: CY27 | D6: CY28 | F6: CY29 | H6: CY30 | J6: CY31 | L6: CY32 | N6: CY33 | P6: CY34 | R6: CY35 | T6: CY36 | V6: CY37 | X6: CY38 | Z6: CY39 | AB6: CY40 | AD6: CY41 | AF6: CY42 | AH6: Total
B7: 4/1/2027-12/31/2027 | D7: 1/1/2028-12/31/2028 | F7: 1/1/2029-12/31/2029 | H7: 1/1/2030-12/31/2030 | J7: 1/1/2031-12/31/2031 | L7: 1/1/2032-12/31/2032 | N7: 1/1/2033-12/31/2033 | P7: 1/1/2034-12/31/2034 | R7: 1/1/2035-12/31/2035 | T7: 1/1/2036-12/31/2036 | V7: 1/1/2037-12/31/2037 | X7: 1/1/2038-12/31/2038 | Z7: 1/1/2039-12/31/2039 | AB7: 1/1/2040-12/31/2040 | AD7: 1/1/2041-12/31/2041 | AF7: 1/1/2042-3/31/2042
A8: Proposed Labor Cost (fully burdened)
A9: Total Labor | C9: 0 | E9: 0 | G9: 0 | I9: 0 | K9: 0 | M9: 0 | O9: 0 | Q9: 0 | S9: 0 | U9: 0 | W9: 0 | Y9: 0 | AA9: 0 | AC9: 0 | AE9: 0 | AG9: 0 | AH9: =C9+E9 -> 0
A11: Subcontractors Cost (fully burdened)
A12: Total Subcontractor | C12: 0 | E12: 0 | G12: 0 | I12: 0 | K12: 0 | M12: 0 | O12: 0 | Q12: 0 | S12: 0 | U12: 0 | W12: 0 | Y12: 0 | AA12: 0 | AC12: 0 | AE12: 0 | AG12: 0 | AH12: =C12+E12 -> 0
A14: Non-Labor Resources (unburdened)
A15: Material | C15: 0 | E15: 0 | G15: 0 | I15: 0 | K15: 0 | M15: 0 | O15: 0 | Q15: 0 | S15: 0 | U15: 0 | W15: 0 | Y15: 0 | AA15: 0 | AC15: 0 | AE15: 0 | AG15: 0 | AH15: =C15+E15 -> 0
A16: Equipment | C16: 0 | E16: 0 | G16: 0 | I16: 0 | K16: 0 | M16: 0 | O16: 0 | Q16: 0 | S16: 0 | U16: 0 | W16: 0 | Y16: 0 | AA16: 0 | AC16: 0 | AE16: 0 | AG16: 0 | AH16: =C16+E16 -> 0
A17: Other Direct Costs | C17: 0 | E17: 0 | G17: 0 | I17: 0 | K17: 0 | M17: 0 | O17: 0 | Q17: 0 | S17: 0 | U17: 0 | W17: 0 | Y17: 0 | AA17: 0 | AC17: 0 | AE17: 0 | AG17: 0 | AH17: =C17+E17 -> 0
A18: Travel | C18: 0 | E18: 0 | G18: 0 | I18: 0 | K18: 0 | M18: 0 | O18: 0 | Q18: 0 | S18: 0 | U18: 0 | W18: 0 | Y18: 0 | AA18: 0 | AC18: 0 | AE18: 0 | AG18: 0 | AH18: =C18+E18 -> 0
A19: Total Non-Labor | C19: =SUM(C15:C18) -> 0 | E19: =SUM(E15:E18) -> 0 | G19: =SUM(G15:G18) -> 0 | I19: =SUM(I15:I18) -> 0 | K19: =SUM(K15:K18) -> 0 | M19: =SUM(M15:M18) -> 0 | O19: =SUM(O15:O18) -> 0 | Q19: =SUM(Q15:Q18) -> 0 | S19: =SUM(S15:S18) -> 0 | U19: =SUM(U15:U18) -> 0 | W19: =SUM(W15:W18) -> 0 | Y19: =SUM(Y15:Y18) -> 0 | AA19: =SUM(AA15:AA18) -> 0 | AC19: =SUM(AC15:AC18) -> 0 | AE19: =SUM(AE15:AE18) -> 0 | AG19: =SUM(AG15:AG18) -> 0 | AH19: =C19+E19 -> 0
A21: Indirect Cost (Non-Labor)
A22: Total Indirect | C22: 0 | E22: 0 | G22: 0 | I22: 0 | K22: 0 | M22: 0 | O22: 0 | Q22: 0 | S22: 0 | U22: 0 | W22: 0 | Y22: 0 | AA22: 0 | AC22: 0 | AE22: 0 | AG22: 0 | AH22: =C22+E22 -> 0
A24: Total | B24: =IF(AH24=0,0,C24/$AH$24) -> 0 | C24: =C9+C12+C19+C22 -> 0 | D24: =IF($AH$24=0,0,E24/$AH$24) -> 0 | E24: =E9+E12+E19+E22 -> 0 | G24: 0 | I24: 0 | K24: 0 | M24: 0 | O24: 0 | Q24: 0 | S24: 0 | U24: 0 | W24: 0 | Y24: 0 | AA24: 0 | AC24: 0 | AE24: 0 | AG24: 0 | AH24: =C24+E24 -> 0 | AI24: Total price to contractor (not to NASA)
A27: CLIN 2 CLDS DEVELOPMENT & CERTIFICATION
A28: Element #1 (repeat if multiple elements)
A29: Elements Of Cost | B29: CY27 | D29: CY28 | F29: CY29 | H29: CY30 | J29: CY31 | L29: CY32 | N29: CY33 | P29: CY34 | R29: CY35 | T29: CY36 | V29: CY37 | X29: CY38 | Z29: CY39 | AB29: CY40 | AD29: CY41 | AF29: CY42 | AH29: Total
B30: 4/1/2027-12/31/2027 | D30: 1/1/2028-12/31/2028 | F30: 1/1/2029-12/31/2029 | H30: 1/1/2030-12/31/2030 | J30: 1/1/2031-12/31/2031 | L30: 1/1/2032-12/31/2032 | N30: 1/1/2033-12/31/2033 | P30: 1/1/2034-12/31/2034 | R30: 1/1/2035-12/31/2035 | T30: 1/1/2036-12/31/2036 | V30: 1/1/2037-12/31/2037 | X30: 1/1/2038-12/31/2038 | Z30: 1/1/2039-12/31/2039 | AB30: 1/1/2040-12/31/2040 | AD30: 1/1/2041-12/31/2041 | AF30: 1/1/2042-3/31/2042
A31: Proposed Labor Cost (fully burdened)
A32: Total Labor | C32: 0 | E32: 0 | G32: 0 | I32: 0 | K32: 0 | M32: 0 | O32: 0 | Q32: 0 | S32: 0 | U32: 0 | W32: 0 | Y32: 0 | AA32: 0 | AC32: 0 | AE32: 0 | AG32: 0 | AH32: =E32+G32+I32+K32+M32+O32+Q32+S32+U32+W32+Y32+AA32+AC32+AE32+AG32 -> 0
A34: Subcontractors Cost (fully burdened)
A35: Transportation - Launch Vehicle | C35: 0 | E35: 0 | G35: 0 | I35: 0 | K35: 0 | M35: 0 | O35: 0 | Q35: 0 | S35: 0 | U35: 0 | W35: 0 | Y35: 0 | AA35: 0 | AC35: 0 | AE35: 0 | AG35: 0 | AH35: =E35+G35+I35+K35+M35+O35+Q35+S35+U35+W35+Y35+AA35+AC35+AE35+AG35 -> 0
A36: Delta Certification - Crew/Cargo Vehicle | C36: 0 | E36: 0 | G36: 0 | I36: 0 | K36: 0 | M36: 0 | O36: 0 | Q36: 0 | S36: 0 | U36: 0 | W36: 0 | Y36: 0 | AA36: 0 | AC36: 0 | AE36: 0 | AG36: 0 | AH36: =E36+G36+I36+K36+M36+O36+Q36+S36+U36+W36+Y36+AA36+AC36+AE36+AG36 -> 0
A37: Total Subcontractor | C37: 0 | E37: =SUM(E35:E36) -> 0 | G37: =SUM(G35:G36) -> 0 | I37: =SUM(I35:I36) -> 0 | K37: =SUM(K35:K36) -> 0 | M37: =SUM(M35:M36) -> 0 | O37: =SUM(O35:O36) -> 0 | Q37: =SUM(Q35:Q36) -> 0 | S37: =SUM(S35:S36) -> 0 | U37: =SUM(U35:U36) -> 0 | W37: =SUM(W35:W36) -> 0 | Y37: =SUM(Y35:Y36) -> 0 | AA37: =SUM(AA35:AA36) -> 0 | AC37: =SUM(AC35:AC36) -> 0 | AE37: =SUM(AE35:AE36) -> 0 | AG37: =SUM(AG35:AG36) -> 0 | AH37: =E37+G37+I37+K37+M37+O37+Q37+S37+U37+W37+Y37+AA37+AC37+AE37+AG37 -> 0
A39: Non-Labor Resources (unburdened)
A40: Material | C40: 0 | E40: 0 | G40: 0 | I40: 0 | K40: 0 | M40: 0 | O40: 0 | Q40: 0 | S40: 0 | U40: 0 | W40: 0 | Y40: 0 | AA40: 0 | AC40: 0 | AE40: 0 | AG40: 0 | AH40: =E40+G40+I40+K40+M40+O40+Q40+S40+U40+W40+Y40+AA40+AC40+AE40+AG40 -> 0
A41: Equipment | C41: 0 | E41: 0 | G41: 0 | I41: 0 | K41: 0 | M41: 0 | O41: 0 | Q41: 0 | S41: 0 | U41: 0 | W41: 0 | Y41: 0 | AA41: 0 | AC41: 0 | AE41: 0 | AG41: 0 | AH41: =E41+G41+I41+K41+M41+O41+Q41+S41+U41+W41+Y41+AA41+AC41+AE41+AG41 -> 0
A42: Other Direct Costs | C42: 0 | E42: 0 | G42: 0 | I42: 0 | K42: 0 | M42: 0 | O42: 0 | Q42: 0 | S42: 0 | U42: 0 | W42: 0 | Y42: 0 | AA42: 0 | AC42: 0 | AE42: 0 | AG42: 0 | AH42: =E42+G42+I42+K42+M42+O42+Q42+S42+U42+W42+Y42+AA42+AC42+AE42+AG42 -> 0
A43: Travel | C43: 0 | E43: 0 | G43: 0 | I43: 0 | K43: 0 | M43: 0 | O43: 0 | Q43: 0 | S43: 0 | U43: 0 | W43: 0 | Y43: 0 | AA43: 0 | AC43: 0 | AE43: 0 | AG43: 0 | AH43: =E43+G43+I43+K43+M43+O43+Q43+S43+U43+W43+Y43+AA43+AC43+AE43+AG43 -> 0
A44: Total Non-Labor | C44: 0 | E44: =SUM(E40:E43) -> 0 | G44: =SUM(G40:G43) -> 0 | I44: =SUM(I40:I43) -> 0 | K44: =SUM(K40:K43) -> 0 | M44: =SUM(M40:M43) -> 0 | O44: =SUM(O40:O43) -> 0 | Q44: =SUM(Q40:Q43) -> 0 | S44: =SUM(S40:S43) -> 0 | U44: =SUM(U40:U43) -> 0 | W44: =SUM(W40:W43) -> 0 | Y44: =SUM(Y40:Y43) -> 0 | AA44: =SUM(AA40:AA43) -> 0 | AC44: =SUM(AC40:AC43) -> 0 | AE44: =SUM(AE40:AE43) -> 0 | AG44: =SUM(AG40:AG43) -> 0 | AH44: =SUM(AH40:AH43) -> 0
A46: Indirect Cost (Non-Labor)
A47: Total Indirect | C47: 0 | E47: 0 | G47: 0 | I47: 0 | K47: 0 | M47: 0 | O47: 0 | Q47: 0 | S47: 0 | U47: 0 | W47: 0 | Y47: 0 | AA47: 0 | AC47: 0 | AE47: 0 | AG47: 0 | AH47: =E47+G47+I47+K47+M47+O47+Q47+S47+U47+W47+Y47+AA47+AC47+AE47+AG47 -> 0
A49: Total | B49: 0 | C49: 0 | D49: =IF(AH49=0,0,E49/$AH$49) -> 0 | E49: =E47+E44+E37+E32 -> 0 | F49: =IF(AH49=0,0,G49/$AH$49) -> 0 | G49: =G47+G44+G37+G32 -> 0 | H49: =IF(AH49=0,0,I49/$AH$49) -> 0 | I49: =I47+I44+I37+I32 -> 0 | J49: =IF(AH49=0,0,K49/$AH$49) -> 0 | K49: =K47+K44+K37+K32 -> 0 | L49: =IF(AH49=0,0,M49/$AH$49) -> 0 | M49: =M47+M44+M37+M32 -> 0 | N49: =IF(AH49=0,0,O49/$AH$49) -> 0 | O49: =O47+O44+O37+O32 -> 0 | P49: =IF(AH49=0,0,Q49/$AH$49) -> 0 | Q49: =Q47+Q44+Q37+Q32 -> 0 | R49: =IF(AH49=0,0,S49/$AH$49) -> 0 | S49: =S47+S44+S37+S32 -> 0 | T49: =IF(AH49=0,0,U49/$AH$49) -> 0 | U49: =U47+U44+U37+U32 -> 0 | V49: =IF(AH49=0,0,W49/$AH$49) -> 0 | W49: =W47+W44+W37+W32 -> 0 | X49: =IF(AH49=0,0,Y49/$AH$49) -> 0 | Y49: =Y47+Y44+Y37+Y32 -> 0 | Z49: =IF(AH49=0,0,AA49/$AH$49) -> 0 | AA49: =AA47+AA44+AA37+AA32 -> 0 | AB49: =IF(AH49=0,0,AC49/$AH$49) -> 0 | AC49: =AC47+AC44+AC37+AC32 -> 0 | AD49: =IF(AH49=0,0,AE49/$AH$49) -> 0 | AE49: =AE47+AE44+AE37+AE32 -> 0 | AF49: =IF(H49=0,0,AG49/$AH$49) -> 0 | AG49: =AG47+AG44+AG37+AG32 -> 0 | AH49: =E49+G49+I49+K49+M49+O49+Q49+S49+U49+W49+Y49+AA49+AC49+AE49+AG49 -> 0
A52: CLIN 2 CLDS DEVELOPMENT & CERTIFICATION
A53: Element #2 (repeat if multiple elements)
...

Sheet ProForma Cash Flow
B1: CLDS ProForma_Revenue and Cost Information
B2: Provider:
B3: Dollars In Millions
B5: Pro Forma Operating Income/Loss Statement
B7: Operating Revenue/Investments ($M)
B9: Enterprise-Related Revenue | D9: CY27 | E9: CY28 | F9: CY29 | G9: CY30 | H9: CY31 | I9: CY32 | J9: CY33 | K9: CY34 | L9: CY35 | M9: CY36 | N9: CY37 | O9: CY38 | P9: CY39 | Q9: CY40 | R9: CY41 | S9: CY42 | T9: Total | U9: Narrative Explanation (proposal pg # if applicable)
B11: Non-Mission Specific Revenue | D11: =SUM(D12:D16) -> 0 | E11: =SUM(E12:E16) -> 0 | F11: =SUM(F12:F16) -> 0 | G11: =SUM(G12:G16) -> 0 | H11: =SUM(H12:H16) -> 0 | I11: =SUM(I12:I16) -> 0 | J11: =SUM(J12:J16) -> 0 | K11: =SUM(K12:K16) -> 0 | ... S11: =SUM(S12:S16) -> 0 | T11: =SUM(D11:S11) -> 0
C12: NASA Development & Certification Contribution | D12: OFI | E12: OFI | F12: OFI | G12: OFI | H12: OFI | I12: OFI | J12: OFI | K12: OFI | L12: OFI | M12: OFI | N12: OFI | O12: OFI | P12: OFI | Q12: OFI | R12: OFI | S12: OFI | T12: =SUM(D12:S12) -> 0
C13: Loans | D13: OFI | E13: OFI | F13: OFI | G13: OFI | H13: OFI | I13: OFI | J13: OFI | K13: OFI | L13: OFI | M13: OFI | N13: OFI | O13: OFI | P13: OFI | Q13: OFI | R13: OFI | S13: OFI | T13: =SUM(D13:S13) -> 0 | U13: To include financing details; identify each source and individual value
C14: Investment | D14: OFI | E14: OFI | F14: OFI | G14: OFI | H14: OFI | I14: OFI | J14: OFI | K14: OFI | L14: OFI | M14: OFI | N14: OFI | O14: OFI | P14: OFI | Q14: OFI | R14: OFI | S14: OFI | T14: =SUM(D14:S14) -> 0 | U14: To include investment details; identify each source and individual value
C15: Corporate Contribution | D15: OFI | E15: OFI | F15: OFI | G15: OFI | H15: OFI | I15: OFI | J15: OFI | K15: OFI | L15: OFI | M15: OFI | N15: OFI | O15: OFI | P15: OFI | Q15: OFI | R15: OFI | S15: OFI | T15: =SUM(D15:S15) -> 0
C16: Other (Include Description) | D16: OFI | E16: OFI | F16: OFI | G16: OFI | H16: OFI | I16: OFI | J16: OFI | K16: OFI | L16: OFI | M16: OFI | N16: OFI | O16: OFI | P16: OFI | Q16: OFI | R16: OFI | S16: OFI | T16: =SUM(D16:S16) -> 0 | U16: Other sources; identify each source and individual value
B18: Utilization | D18: =SUM(D19:D21) -> 0 | E18: =SUM(E19:E21) -> 0 | F18: =SUM(F19:F21) -> 0 | G18: =SUM(G19:G21) -> 0 | H18: =SUM(H19:H21) -> 0 | I18: =SUM(I19:I21) -> 0 | J18: =SUM(J19:J21) -> 0 | K18: =SUM(K19:K21) -> 0 | ... S18: =SUM(S19:S21) -> 0 | T18: =SUM(D18:S18) -> 0
C19: NASA | D19: OFI | E19: OFI | F19: OFI | G19: OFI | H19: OFI | I19: OFI | J19: OFI | K19: OFI | L19: OFI | M19: OFI | N19: OFI | O19: OFI | P19: OFI | Q19: OFI | R19: OFI | S19: OFI | T19: =SUM(D19:S19) -> 0
C20: Sovereign Govt. | D20: OFI | E20: OFI | F20: OFI | G20: OFI | H20: OFI | I20: OFI | J20: OFI | K20: OFI | L20: OFI | M20: OFI | N20: OFI | O20: OFI | P20: OFI | Q20: OFI | R20: OFI | S20: OFI | T20: =SUM(D20:S20) -> 0
C21: Commercial Sales | D21: OFI | E21: OFI | F21: OFI | G21: OFI | H21: OFI | I21: OFI | J21: OFI | K21: OFI | L21: OFI | M21: OFI | N21: OFI | O21: OFI | P21: OFI | Q21: OFI | R21: OFI | S21: OFI | T21: =SUM(D21:S21) -> 0
B23: Seat Sales | D23: =SUM(D24:D29) -> 0 | E23: =SUM(E24:E29) -> 0 | F23: =SUM(F24:F29) -> 0 | G23: =SUM(G24:G29) -> 0 | H23: =SUM(H24:H29) -> 0 | I23: =SUM(I24:I29) -> 0 | J23: =SUM(J24:J29) -> 0 | K23: =SUM(K24:K29) -> 0 | ... S23: =SUM(S24:S29) -> 0 | T23: =SUM(D23:S23) -> 0
C24: NASA Transportation | D24: OFI | E24: OFI | F24: OFI | G24: OFI | H24: OFI | I24: OFI | J24: OFI | K24: OFI | L24: OFI | M24: OFI | N24: OFI | O24: OFI | P24: OFI | Q24: OFI | R24: OFI | S24: OFI | T24: =SUM(D24:S24) -> 0
C25: NASA Habitiation | D25: OFI | E25: OFI | F25: OFI | G25: OFI | H25: OFI | I25: OFI | J25: OFI | K25: OFI | L25: OFI | M25: OFI | N25: OFI | O25: OFI | P25: OFI | Q25: OFI | R25: OFI | S25: OFI | T25: =SUM(D25:S25) -> 0
C26: Sovereign Govt. Transportation | D26: OFI | E26: OFI | F26: OFI | G26: OFI | H26: OFI | I26: OFI | J26: OFI | K26: OFI | L26: OFI | M26: OFI | N26: OFI | O26: OFI | P26: OFI | Q26: OFI | R26: OFI | S26: OFI | T26: =SUM(D26:S26) -> 0
C27: Sovereign Govt. Habitation | D27: OFI | E27: OFI | F27: OFI | G27: OFI | H27: OFI | I27: OFI | J27: OFI | K27: OFI | L27: OFI | M27: OFI | N27: OFI | O27: OFI | P27: OFI | Q27: OFI | R27: OFI | S27: OFI | T27: =SUM(D27:S27) -> 0
C28: Commercial Sales Transportation | D28: OFI | E28: OFI | F28: OFI | G28: OFI | H28: OFI | I28: OFI | J28: OFI | K28: OFI | L28: OFI | M28: OFI | N28: OFI | O28: OFI | P28: OFI | Q28: OFI | R28: OFI | S28: OFI | T28: =SUM(D28:S28) -> 0
C29: Commercial Sales Habitation | D29: OFI | E29: OFI | F29: OFI | G29: OFI | H29: OFI | I29: OFI | J29: OFI | K29: OFI | L29: OFI | M29: OFI | N29: OFI | O29: OFI | P29: OFI | Q29: OFI | R29: OFI | S29: OFI | T29: =SUM(D29:S29) -> 0
B31: Total Revenue | D31: =D11+D18+D23 -> 0 | E31: =E11+E18+E23 -> 0 | F31: =F11+F18+F23 -> 0 | G31: =G11+G18+G23 -> 0 | H31: =H11+H18+H23 -> 0 | I31: =I11+I18+I23 -> 0 | J31: =J11+J18+J23 -> 0 | K31: =K11+K18+K23 -> 0 | ... T31: =T11+T18+T23 -> 0
B33: Operating Cost ($M)
B35: Enterprise Costs | D35: CY27 | E35: CY28 | F35: CY29 | G35: CY30 | H35: CY31 | I35: CY32 | J35: CY33 | K35: CY34 | L35: CY35 | M35: CY36 | N35: CY37 | O35: CY38 | P35: CY39 | Q35: CY40 | R35: CY41 | S35: CY42 | T35: Total | U35: Proposal Pg. Reference
B37: CLIN 1 - Total Line | D37: ='Cost Summary BOE'!C24 -> 0 | E37: ='Cost Summary BOE'!E24 -> 0 | T37: =D37+E37 -> 0
B38: CLIN 2 - Total Line | E38: ='Cost Summary BOE'!E183 -> 0 | F38: ='Cost Summary BOE'!G183 -> 0 | G38: ='Cost Summary BOE'!I183 -> 0 | H38: ='Cost Summary BOE'!K183 -> 0 | I38: ='Cost Summary BOE'!M183 -> 0 | J38: ='Cost Summary BOE'!O183 -> 0 | K38: ='Cost Summary BOE'!Q183 -> 0 | L38: ='Cost Summary BOE'!S183 -> 0 | M38: ='Cost Summary BOE'!U183 -> 0 | N38: ='Cost Summary BOE'!W183 -> 0 | O38: ='Cost Summary BOE'!Y183 -> 0 | P38: ='Cost Summary BOE'!AA183 -> 0 | Q38: ='Cost Summary BOE'!AC183 -> 0 | R38: ='Cost Summary BOE'!AE183 -> 0 | S38: ='Cost Summary BOE'!AG183 -> 0 | T38: =SUM(E38:S38) -> 0
B39: CLIN 3 - Total Line | E39: ='Cost Summary BOE'!E207 -> 0 | F39: ='Cost Summary BOE'!G207 -> 0 | G39: ='Cost Summary BOE'!I207 -> 0 | H39: ='Cost Summary BOE'!K207 -> 0 | I39: ='Cost Summary BOE'!M207 -> 0 | J39: ='Cost Summary BOE'!O207 -> 0 | K39: ='Cost Summary BOE'!Q207 -> 0 | L39: ='Cost Summary BOE'!S207 -> 0 | M39: ='Cost Summary BOE'!U207 -> 0 | N39: ='Cost Summary BOE'!W207 -> 0 | O39: ='Cost Summary BOE'!Y207 -> 0 | P39: ='Cost Summary BOE'!AA207 -> 0 | Q39: ='Cost Summary BOE'!AC207 -> 0 | R39: ='Cost Summary BOE'!AE207 -> 0 | S39: ='Cost Summary BOE'!AG207 -> 0 | T39: =SUM(E39:S39) -> 0
B40: Yearly Total Costs | D40: =SUM(D37:D39) -> 0 | E40: =SUM(E37:E39) -> 0 | F40: =SUM(F37:F39) -> 0 | G40: =SUM(G37:G39) -> 0 | H40: =SUM(H37:H39) -> 0 | I40: =SUM(I37:I39) -> 0 | J40: =SUM(J37:J39) -> 0 | K40: =SUM(K37:K39) -> 0 | ... T40: =SUM(T37:T39) -> 0
B42: Cash Flow ($M)
B43: Year | D43: CY27 | E43: CY28 | F43: CY29 | G43: CY30 | H43: CY31 | I43: CY32 | J43: CY33 | K43: CY34 | L43: CY35 | M43: CY36 | N43: CY37 | O43: CY38 | P43: CY39 | Q43: CY40 | R43: CY41 | S43: CY42 | T43: Total | U43: Proposal Pg. Reference
B44: Positive/Negative Cash Flow | D44: =D31-D40 -> 0 | E44: =E31-E40 -> 0 | F44: =F31-F40 -> 0 | G44: =G31-G40 -> 0 | H44: =H31-H40 -> 0 | I44: =I31-I40 -> 0 | J44: =J31-J40 -> 0 | K44: =K31-K40 -> 0 | ... S44: =S31-S40 -> 0 | T44: =SUM(D44:S44) -> 0
B45: Cumulative Positive/Negative Cash Flow | D45: =D44 -> 0 | E45: =D45+E44 -> 0 | F45: =E45+F44 -> 0 | G45: =F45+G44 -> 0 | H45: =G45+H44 -> 0 | I45: =H45+I44 -> 0 | J45: =I45+J44 -> 0 | K45: =J45+K44 -> 0 | L45: =K45+L44 -> 0 | ... S45: =R45+S44 -> 0 | T45: =SUM(D45:S45) -> 0

Sheet Cost BOE Breakdown
B1: CLDS Cost BOE Breakdown
B2: Provider:
B3: Dollars In Millions
B5: Cost BOE Breakdown
B7: CLDS Non-Recurring Engineering (NRE) Cost | D7: $M | E7: Basis of Estimate for NRE Costs with page referance in proposal
E8: This represents the total NRE for Element #1 by lowest reportable work element, including reimbursable NASA services
B9: Element #1
B10: Work Element 1 (I.e. Major components, program management, overhead, etc) - OFI
B11: Work Element 2 - OFI
B12: Work Element 3 - OFI
B13: OFI
B14: Element #2
B15: Element #3
B16: Element #4
B17: OFI
B18: Total Hardware Development Subtotal
B20: Recurring Engineering (RE) Flight Unit Build/ Integrate / Test Cost | D20: $M | E20: Basis of Estimate for Recurring Cost with page referance in proposal
E21: This represents the total RE for Element #1 by lowest reportable work element, including reimbursable NASA services
B22: Element #1
B23: Work Element 1 - OFI
B24: Work Element 2 - OFI
B25: Work Element 3 - OFI
B26: OFI
B27: Element #2
B28: Element #3
B29: Element #4
B30: OFI
B31: Spares (Only if pre-positioned or bulk buy)
B32: Incremental Outfitting Hardware and Delivery (if applicable)
B33: Build/Test
... B35: Total Flight Unit Build, Integration and Test Costs Subtotal
B37: Operations Costs | D37: $M | E37: Basis of Estimate for Operations Costs with page referance in proposal
E38: Define quantity and type of crew per year, length of crew stay, and quantity of consumables and experiments flown per year
B39: Sustaining Engineering
B40: Ground Segment
B41: Mission Control/Operations
B42: Mission Integration
B43: Space/Space and Space/Ground Comm
B44: IT, Security
B45: Other (OFI)
...

Sheet Corporate Contribution
A1: Attachment L-07: Commercial LEO Destination Contract
A2: Corporate Contribution Worksheet
A4: PROVIDER NAME:
A6: PRIOR CONTRACTOR INVESTMENTS
B7: Fair market value of un-reimbursed* use of equipment and facilities: | F7: 1
B8: Cost (not including fee) of un-reimbursed* Direct Labor: | F8: 1
B9: Un-reimbursed* Materials and Other Direct Costs (not including travel or fee): | F9: 1
B10: Completed Internal Research and Development projects | C10: 1 | D10: % Applicable: | E10: 0.5 | F10: =C10*E10 -> 0.5
B11: SUBTOTAL | F11: =F7+F8+F9+F10 -> 3.5
A12: COINCIDENT CONTRACTOR INVESTMENT**
B13: Fair market value of un-reimbursed* use of equipment and Facilities | F13: 1
B14: Cost (not including fee) of un-reimbursed* Direct Labor | F14: 1
B15: Un-reimbursed* Materials and Other Direct Costs (inc. Travel, not including fee) | F15: 1
B16: SUBTOTAL | F16: =F13+F14+F15 -> 3
A17: CALCULATED TOTAL ALLOWABLE CORPORATE CONTRIBUTION | F17: =MIN(2*F16,(F16+F11)) -> 6
A19: GOVERNMENT RESOURCES** (GFP/GFE/Subject Matter Expertise)
B20: Estimated value of federally funded participants and/or the non-reimbursable use of federal government facilities | F20: 1
A22: REQUESTED PRICE TO GOVERNMENT** (SHOULD NOT INCLUDE COST OF REIMBURSABLE NASA RESOURCES OR FUTURE PURCHASED SERVICES) | F22: 1
A24: CALCULATED OVERALL EFFORT** | F24: =F17+F20+F22 -> 8
A25: CALCULATED CORPORATE CONTRIBUTION | E25: =F17/F24 -> 0.75
A27: *Un-reimbursed means not funded in any way by the U.S. Government. External State or private funding is acceptable.
A28: **Through CLIN 2
