Workbook

Sheet A01 Base R
A1: ATTACHMENT J-0200000-13
A2: EXHIBIT LINE ITEM NUMBERS (ELINS)
A3: CONTRACT # (will be added after contract award)
A4: EXHIBIT A - CLIN 0001
A5: Period of Performance (POP): One (1) year. Specific dates will be established at time of contract award.
A7: Line Item 0001 Recurring Work Price - Base Period
A8: PROVIDE PRICES FOR RECURRING WORK - IN ACCORDANCE WITH SECTION C, SPEC ITEM 3
A9: ELINs A001 through A021
A10: ELIN/Sub ELIN | C10: Description | D10: Quantity | E10: Unit of Issue | F10: Unit Price | G10: Total
A11: STATION (ST)
A12: 1503010 | C12: Custodial
A13: - Prestige
A14: 1 | B14: AA | C14: Services for Station-funded facilities/spaces indicated as Prestige in the Custodial Inventory and Floor Plans provided in J-1503010-08 performed at the COLS 2 frequencies specified per the MCICOM COLS listed in J-1503010-03. | D14: 12 | E14: MO | G14: =F14*D14 -> 0
A15: - Standard
A16: =A14 -> 1 | B16: AB | C16: Services for Station-funded facilities/spaces indicated as Standard in the Custodial Inventory and Floor Plans provided in J-1503010-08 performed at the COLS 3 Full Additional Measure Level 3 frequencies specified per the MCICOM COLS listed in J-1503010-03. | D16: 12 | E16: MO | G16: =F16*D16 -> 0
A17: - Iwakuni City
A18: =A16 -> 1 | B18: AC | C18: Services for designated Station-funded facilities/spaces in the Custodial Inventory and Floor Plans provided in J-1503010-08 performed at the service frequencies agreed-upon by Iwakuni City listed in J-1503010-06. | D18: 12 | E18: MO | G18: =F18*D18 -> 0
A19: - CYP Facilities
A20: =A18 -> 1 | B20: AD | C20: Services for Station-funded facilities/spaces indicated as Governed Service Areas in the Custodial Inventory and Floor Plans provided in J-1503010-08 performed at the frequencies specified for Mandated Service Classes for CYP Facilities in J-1503010-07. | D20: 12 | E20: MO | G20: =F20*D20 -> 0
A22: 1503020 | C22: Pest Control
A23: =A14+1 -> 2 | B23: AA | C23: Services for Station-funded facilities/spaces listed in the Frequencies for Scheduled Work provided in J-1503020-06 performed at the frequencies specified therein. | D23: 12 | E23: MO | G23: =F23*D23 -> 0
A24: =A23 -> 2 | B24: AB | C24: Pest Control Service Orders for Station-funded facilities/spaces. | D24: 30 | E24: EA | G24: =F24*D24 -> 0
A25: =A24 -> 2 | B25: AC | C25: Pest Management Reporting per Spec Item 3.3 for Station-funded facilities/spaces | D25: 12 | E25: MO | G25: =F25*D25 -> 0
A27: 1503050 | C27: Grounds Maintenance
A28: =A23+1 -> 3 | B28: AA | C28: Spec Item 3.1 Improved Grounds: Services for Station-funded areas indicated as Prestige in the site maps for Improved Grounds Areas provided in J-1503050-06 performed as specified in the PWS per MCICOM COLS 2 (Prestige) listed in J-1503050-05. | D28: 12 | E28: MO | G28: =F28*D28 -> 0
A29: =A28 -> 3 | B29: AB | C29: Spec Item 3.1 Improved Grounds: Services for Station-funded areas indicated as COLS 3 in the site maps for Improved Grounds Areas provided in J-1503050-06 performed as specified in the PWS per MCICOM COLS 3 Full Base Measures listed in J-1503050-05. | D29: 12 | E29: MO | G29: =F29*D29 -> 0
A30: =A29 -> 3 | B30: AC | C30: Spec Item 3.2 Operational Areas: Services for Station-funded areas indicated as Station-funded in the site maps for Operational Areas provided in J-1503050-17 (Atago Hills Clear Zones), J-1503050-18 (SOFU Communication Site), and Main Base Security Fence and Spider Fence Areas provided in J-1503050-12 performed as specified in the PWS. | D30: 12 | E30: MO | G30: =F30*D30 -> 0
A31: =A29 -> 3 | B31: AD | C31: Spec Item 3.3 Storm Drainage Systems: Services for Station-funded areas indicated as Station-funded in the site maps for Storm Drainage Maps provided in J-1503050-20 performed as specified in the PWS. | D31: 12 | E31: MO | G31: =F31*D31 -> 0
A32: =A31 -> 3 | B32: AE | C32: Spec Item 3.4 Atago Retention Ponds: Services for Station-funded areas indicated as Station-funded in the site map and specific detailes of each pond for Atago Rtention Ponds provided in J-1503050-19 performed as specified in the PWS. | D32: 12 | E32: MO | G32: =F32*D32 -> 0
F34: STATION Subtotal | G34: =SUM(G14:G33) -> 0
A36: 36TH CONTINGENCY RESPONSE GROUP (36 CRG) (STATION REIMBURSABLE)
A37: 1503010 | C37: Custodial
A38: 4 | B38: AA | C38: Services for 36 CRG-funded facilities/spaces listed in the Custodial Inventory and Floor Plans provided in J-1503010-08 performed at the frequencies specified by the applicable service frequencies listed in J-1503010-05. | D38: 12 | E38: MO | G38: =F38*D38 -> 0
F40: 36CRG Subtotal | G40: =G38 -> 0
A42: AIR MOBILITY COMMAND (AMC) (STATION REIMBURSABLE)
A43: 1503010 | C43: Custodial
A44: 5 | B44: AA | C44: Services for AMC-funded facilities/spaces listed in the Custodial Inventory and Floor Plans provided in J-1503010-08 performed at the frequencies specified by the applicable service frequencies listed in J-1503010-05. | D44: 12 | E44: MO | G44: =F44*D44 -> 0
F46: AMC Subtotal | G46: =G44 -> 0
A48: FAMILY HOUSING (FH)
A49: 1503010 | C49: Custodial
...

Sheet A02 Base N-R
A1: ='A01 Base R'!A1:G1 -> ATTACHMENT J-0200000-13
A2: EXHIBIT LINE ITEM NUMBERS (ELINS)
A3: ='A01 Base R'!A3:G3 -> CONTRACT # (will be added after contract award)
A4: EXHIBIT A - CLIN 0002
A5: ='A01 Base R'!A5:G5 -> Period of Performance (POP): One (1) year. Specific dates will be established at time of contract award.
A7: Line Item 0002 Non-Recurring Work - Base Period
A8: PROVIDE PRICES FOR NON-RECURRING WORK - IN ACCORDANCE WITH SECTION C, SPEC ITEM 4
A9: ELINs A700 through A902
A11: Part Number (ELIN) | B11: Part Name (Product) | C11: Long Description | D11: Estimated Quantity | E11: Unit of Issue (UOI) | F11: Price | G11: Extended Price (Price x Estimated Quantity)
A12: Unit Priced Task (UPT) Work
A13: 1503010 Custodial
A14: A700 | B14: Emptying Waste Containers | C14: The Contractor shall empty a waste container and ensure it is clean and sanitary. Waterproof liners shall be replaced if soiled or unserviceable. All waste that is dropped during the waste removal process shall be picked up and properly disposed of. All spills that occur during the waste removal process shall be properly treated and cleaned. All collected waste shall be moved to a designated waste container or waste deposit area. | D14: 2 | E14: EA | G14: =F14*D14 -> 0
A15: 1 | B15: Emptying Recycling Containers | C15: The Contractor shall empty a recycling container and ensure it is clean and sanitary. Waterproof liners shall be replaced if soiled or unserviceable. All recyclable material that is dropped during the removal process shall be picked up. All spills that occur during the removal process shall be properly treated and cleaned. All collected recyclable material shall be moved to the designated building collection site. | D15: 2 | E15: EA | G15: =F15*D15 -> 0
A16: =A15+1 -> 2 | B16: Low Area Cleaning | C16: The Contractor shall dust and wipe clean all furniture and fixtures (e.g., partitions, radiators, hand rails, grilles, ledges, sills, walls, moldings, baseboards, doors, and light fixtures) to a maximum height of 2.5 meters above floor level. The Contractor shall ensure the surfaces are clean. *The square meterage will be based on the floor area of the room. e.g., If this service is ordered for one (1) SM, the work will include cleaning all surfaces within the 1 SM floor area up to a height of 2.5 meters. | D16: 200 | E16: SM | G16: =F16*D16 -> 0
A17: =A16+1 -> 3 | B17: Lunch/Break Room Cleaning | C17: The Contractor shall clean sinks, countertops, trash containers, exterior surfaces of kitchen appliances (e.g., refrigerators, cooking equipment, coffee makers), and dining areas, including tables and chairs. If present, soap and paper towel dispensers shall be refilled. The Contractor shall collect all waste from the lunch/break room and move it to a designated waste container or waste deposit area. All waste that is dropped during the waste removal process shall be picked up and properly disposed of. *The square meterage will be based on the floor area of the room. The unit price shall cover the cost of cleaning all the items listed above (sinks, tables, etc.) that are located within the area. | D17: 100 | E17: SM | G17: =F17*D17 -> 0
A18: =A17+1 -> 4 | B18: High Area Cleaning (up to four meters) | C18: The Contractor shall dust and wipe clean all surfaces above 2.5 meters from floor level up to 4 meters (e.g., overhead piping and conduits, light fixtures, ceiling fans, vents, ducts, furniture tops, and ceiling areas). The Contractor shall clean the exterior and interior surfaces of the light fixture. The Contractor shall ensure that overhead fixtures are protected from damage. High area cleaning includes removal of all debris created, including debris falling into low areas. *The square meterage will be based on the floor area of the room. e.g., If this service is ordered for one (1) SM, the work will include cleaning all surfaces within the 1 SM floor area from a height of 2.5 meters up to 4 meters. | D18: 150 | E18: SM | G18: =F18*D18 -> 0
A19: =A18+1 -> 5 | B19: High Area Cleaning (up to seven meters) | C19: The Contractor shall dust and wipe clean all surfaces above 2.5 meters from floor level up to 7 meters (e.g., overhead piping and conduits, light fixtures, ceiling fans, vents, ducts, furniture tops, and ceiling areas). The Contractor shall clean the exterior and interior surfaces of the light fixture. The Contractor shall ensure that overhead fixtures are protected from damage. High area cleaning includes removal of all debris created, including debris falling into low areas. *The square meterage will be based on the floor area of the room. e.g., If this service is ordered for one (1) SM, the work will include cleaning all surfaces within the 1 SM floor area from a height of 2.5 meters up to 7 meters. | D19: 150 | E19: SM | G19: =F19*D19 -> 0
A20: =A19+1 -> 6 | B20: Interior Window Cleaning (No Fall Protection required) | C20: The Contractor shall clean windows and adjacent areas including window sashes, sills, woodwork, and other surroundings of glass to ensure surfaces are free of dirt and provide a clear, streak-, smudge- and mark-free appearance. If screens are present, the Contractor shall remove and clean the screen such that it is free of debris and dust before reinstalling over cleaned windows. Work will not be considered complete until screens are reinstalled. *This line item is for cleaning interior windows that will not require fall protection for cleaning. | D20: 100 | E20: SM | G20: =F20*D20 -> 0
A21: =A20+1 -> 7 | B21: Exterior Window Cleaning (No Fall Protection required) | C21: The Contractor shall clean windows and adjacent areas including window sashes, sills, woodwork, and other surroundings of glass to ensure surfaces are free of dirt and provide a clear, streak-, smudge- and mark-free appearance. If screens are present, the Contractor shall remove and clean the screen such that it is free of debris and dust before reinstalling over cleaned windows. Work will not be considered complete until screens are reinstalled. *This line item is for cleaning exterior windows that will not require fall protection for cleaning. | D21: 100 | E21: SM | G21: =F21*D21 -> 0
A22: =A21+1 -> 8 | B22: Window Blinds Cleaning | C22: The Contractor shall clean both sides of blinds and all associated accessories (e.g., head rails, cords, tapes, cornices). Blinds may be removed for cleaning. If removed, work will not be considered complete until they are reinstalled, dried for use, and function as initially intended. | D22: 50 | E22: SM | G22: =F22*D22 -> 0
A23: =A22+1 -> 9 | B23: Entrance Cleaning | C23: The Contractor shall clean entrance surfaces including, but not limited to, doors, associated transoms, and sidelights. Surfaces shall be free of all dirt and provide a clear, streak-, smudge- and mark-free appearance regardless of height. All doors, including hardware, shall be disinfected. | D23: 50 | E23: SM | G23: =F23*D23 -> 0
A24: =A23+1 -> 10 | B24: Interior Glass Surfaces Cleaning | C24: The Contractor shall clean glass surfaces (such as interior doors, partitions, and walls) to ensure the surfaces are free of all dirt and provide a clear, streak-, smudge- and mark-free appearance regardless of height. | D24: 50 | E24: SM | G24: =F24*D24 -> 0
A25: =A24+1 -> 11 | B25: Drinking Fountains Cleaning | C25: The Contractor shall clean a drinking fountain to ensure all of its surfaces are free of graffiti, stains, smudges, and scale. Surfaces shall be properly disinfected. | D25: 3 | E25: EA | G25: =F25*D25 -> 0
A26: =A25+1 -> 12 | B26: Light Fixture Cleaning (No Fall Protection required) | C26: The Contractor shall clean all interior and exterior surfaces of a light fixture. If the lamp or bulb is removed for cleaning, it shall be properly reinstalled upon completion of the cleaning. The Contractor shall conduct an operational check prior to and after cleaning the light fixture. | D26: 10 | E26: EA | G26: =F26*D26 -> 0
A27: =A26+1 -> 13 | B27: Wall and Ceiling Area Cleaning | C27: The Contractor shall clean interior wall surfaces to a maximum height of 3 meters above floor level. Surfaces shall include, but are not limited to, baseboards, footing, and handrails. Additionally, spider webs on the ceiling areas shall be removed regardless of height. All debris and dust that are dropped during cleaning services shall be picked up and properly disposed of. *The unit price per SM is based on the wall surface area to be cleaned. | D27: 150 | E27: SM | G27: =F27*D27 -> 0
... A51: =A50+1 -> 37 | B51: BOQ/BEQ Change of Occupancy Deep Cleaning - over 250 SF up to 450 SF | C51: The Contractor shall provide the following Change of Occupancy Deep Cleaning services for a BOQ or BEQ unit over 250 SF (approx. 23 SM) up to 450 SF (approx. 42 SM) in size, in addition to all BOQ/BEQ Change of Occupancy Standard Cleaning tasks listed in A736: • Floors: Strip and wax hard surface floors. Perform carpet deep cleaning where applicable. • Walls and Corners: Remove heavy dirt, marks, and stains. Remove stickers, tape, and residue. • Ceilings: Remove dust and cobwebs. Inspect and clean areas showing mildew or buildup. • Windows and Blinds: Clean window blinds. • Furniture: Deep clean furniture surfaces and remove buildup or stains. • Kitchen: Deep clean kitchen surfaces and remove grease buildup. Clean inside cabinets and drawers. • Appliances: Move all appliances as necessary to clean behind and beneath them. • Bathroom: Scrub shower walls, floors, and fixtures to remove soap scum and buildup. Clean tile grout to remove buildup and mildew. Clean the interior of exhaust fans. Upon completion of cleaning services, the unit shall be: - Free of trash, debris, dust, and stains - Clean and sanitized - Ready for Unaccompanied Housing inspection and new resident occupancy Note 1: The unit is expected to be vacant of all personal belongings and trash prior to the commencement of work. However, the Contractor shall be responsible for removing and properly disposing of any items remaining in the unit. Note 2: The unit price for this ELIN shall include all the tasks including those listed in the A736. This price will not be an additional charge to the Standard Cleaning ELIN. | D51: 90 | E51: UN | G51: =F51*D51 -> 0
A53: 1503050 Grounds Maintenance and Landscaping
A54: =A51+1 -> 38 | B54: Grass Cutting (flat ground, less than one foot (30 cm) in height) - up to 10 SM | C54: The Contractor shall provide all labor, materials and equipment to cut grass in designated areas, up to 10 square meters. Grass (inclusive of weeds and other invasive vegetation) shall be cut to a uniform height of 25 mm (1 inch). All clippings and debris shall be removed and properly disposed of. This work only applies to flat grounds where the grass does not exceed one foot (30 cm) in height. | D54: 100 | E54: EA | G54: =F54*D54 -> 0
A55: =A54+1 -> 39 | B55: Grass Cutting (flat ground, less than one foot (30 cm) in height) - up to 100 SM | C55: The Contractor shall provide all labor, materials and equipment to cut grass in designated areas, up to 100 square meters. Grass (inclusive of weeds and other invasive vegetation) shall be cut to a uniform height of 25 mm (1 inch). All clippings and debris shall be removed and properly disposed of. This work only applies to flat grounds where the grass does not exceed one foot (30 cm) in height. | D55: 50 | E55: EA | G55: =F55*D55 -> 0
A56: =A55+1 -> 40 | B56: Grass Cutting (flat ground, less than three feet (91 cm) in height) - up to 10 SM | C56: The Contractor shall provide all labor, materials and equipment to cut grass in designated areas, up to 10 square meters. Grass (inclusive of weeds and other invasive vegetation) shall be cut to a uniform height of 25 mm (1 inch). All clippings and debris shall be removed and properly disposed of. This work only applies to flat grounds where the grass does not exceed three feet (91 cm) in height. | D56: 100 | E56: EA | G56: =F56*D56 -> 0
A57: =A56+1 -> 41 | B57: Grass Cutting (flat ground, less than three feet (91 cm) in height) - up to 100 SM | C57: The Contractor shall provide all labor, materials and equipment to cut grass in designated areas, up to 100 square meters. Grass (inclusive of weeds and other invasive vegetation) shall be cut to a uniform height of 25 mm (1 inch). All clippings and debris shall be removed and properly disposed of. This work only applies to flat grounds where the grass does not exceed three feet (91 cm) in height. | D57: 50 | E57: EA | G57: =F57*D57 -> 0
A58: =A57+1 -> 42 | B58: Grass Cutting (slope ground, less than three feet (91 cm) in height) - up to 10 SM | C58: The Contractor shall provide all labor, materials and equipment to cut grass in designated areas, up to 10 square meters. Grass (inclusive of weeds and other invasive vegetation) shall be cut to a uniform height of 25 mm (1 inch). All clippings and debris shall be removed and properly disposed of. This work only applies to slope grounds where the grass does not exceed three feet (91 cm) in height. | D58: 100 | E58: EA | G58: =F58*D58 -> 0
A59: =A58+1 -> 43 | B59: Grass Cutting (slope ground, less than three feet (91 cm) in height) - up to 100 SM | C59: The Contractor shall provide all labor, materials and equipment to cut grass in designated areas, up to 100 square meters. Grass (inclusive of weeds and other invasive vegetation) shall be cut to a uniform height of 25 mm (1 inch). All clippings and debris shall be removed and properly disposed of. This work only applies to slope grounds where the grass does not exceed three feet (91 cm) in height. | D59: 50 | E59: EA | G59: =F59*D59 -> 0
A60: =A59+1 -> 44 | B60: Grass Cutting (flat ground, less than five feet (152 cm) in height) - up to 10 SM | C60: The Contractor shall provide all labor, materials and equipment to cut grass in designated areas, up to 10 square meters. Grass (inclusive of weeds and other invasive vegetation) shall be cut to a uniform height of 25 mm (1 inch). All clippings and debris shall be removed and properly disposed of. This work only applies to flat grounds where the grass does not exceed five feet (152 cm) in height. | D60: 100 | E60: EA | G60: =F60*D60 -> 0
A61: =A60+1 -> 45 | B61: Grass Cutting (flat ground, less than five feet (152 cm) in height) - up to 100 SM | C61: The Contractor shall provide all labor, materials and equipment to cut grass in designated areas, up to 100 square meters. Grass (inclusive of weeds and other invasive vegetation) shall be cut to a uniform height of 25 mm (1 inch). All clippings and debris shall be removed and properly disposed of. This work only applies to flat grounds where the grass does not exceed five feet (152 cm) in height. | D61: 50 | E61: EA | G61: =F61*D61 -> 0
A62: =A61+1 -> 46 | B62: Grass Cutting (slope ground, less than five feet (152 cm) in height) - up to 10 SM | C62: The Contractor shall provide all labor, materials and equipment to cut grass in designated areas, up to 10 square meters. Grass (inclusive of weeds and other invasive vegetation) shall be cut to a uniform height of 25 mm (1 inch). All clippings and debris shall be removed and properly disposed of. This work only applies to slope grounds where the grass does not exceed five feet (152 cm) in height. | D62: 100 | E62: EA | G62: =F62*D62 -> 0
A63: =A62+1 -> 47 | B63: Grass Cutting (slope ground, less than five feet (152 cm) in height) - up to 100 SM | C63: The Contractor shall provide all labor, materials and equipment to cut grass in designated areas, up to 100 square meters. Grass (inclusive of weeds and other invasive vegetation) shall be cut to a uniform height of 25 mm (1 inch). All clippings and debris shall be removed and properly disposed of. This work only applies to slope grounds where the grass does not exceed five feet (152 cm) in height. | D63: 50 | E63: EA | G63: =F63*D63 -> 0
A64: =A63+1 -> 48 | B64: Edging - up to 10 LM | C64: The Contractor shall provide all labor, materials and equipment to edge where grass meets concrete surface and ensure the edging is uniform in appearance in designated areas up to 10 linear meters. All clippings and debris shall be removed and properly disposed of. | D64: 100 | E64: EA | G64: =F64*D64 -> 0
A65: =A64+1 -> 49 | B65: Edging - up to 100 LM | C65: The Contractor shall provide all labor, materials and equipment to edge where grass meets concrete surface and ensure the edging is uniform in appearance in designated areas up to 100 linear meters. All clippings and debris shall be removed and properly disposed of. | D65: 20 | E65: EA | G65: =F65*D65 -> 0
A66: =A65+1 -> 50 | B66: Lawn Services - up to 10 SM | C66: The Contractor shall provide all labor, materials and equipment to provide lawn services in designated areas, up to 10 square meters. Lawn services, including aeration, de-thatching, fertilization and overseeding shall be performed per Spec Item 3.1.1.3. | D66: 50 | E66: EA | G66: =F66*D66 -> 0
...

Sheet B03 1st R
A1: ATTACHMENT J-0200000-13
A2: EXHIBIT LINE ITEM NUMBERS (ELINS)
A3: CONTRACT # (will be added after contract award)
A4: EXHIBIT B - CLIN 0003
A5: Period of Performance (POP): One (1) year. Specific dates will be established at time of contract award.
A7: Line Item 0003 Recurring Work Price - 1st Option Period
A8: PROVIDE PRICES FOR RECURRING WORK - IN ACCORDANCE WITH SECTION C, SPEC ITEM 3
A9: ELINs B001 through B021
A10: ELIN/Sub ELIN | C10: Description | D10: Quantity | E10: Unit of Issue | F10: Unit Price | G10: Total
A11: STATION (ST)
A12: 1503010 | C12: Custodial
A13: - Prestige
A14: 1 | B14: AA | C14: Services for Station-funded facilities/spaces indicated as Prestige in the Custodial Inventory and Floor Plans provided in J-1503010-08 performed at the COLS 2 frequencies specified per the MCICOM COLS listed in J-1503010-03. | D14: 12 | E14: MO | G14: =F14*D14 -> 0
A15: - Standard
A16: =A14 -> 1 | B16: AB | C16: Services for Station-funded facilities/spaces indicated as Standard in the Custodial Inventory and Floor Plans provided in J-1503010-08 performed at the COLS 3 Full Additional Measure Level 3 frequencies specified per the MCICOM COLS listed in J-1503010-03. | D16: 12 | E16: MO | G16: =F16*D16 -> 0
A17: - Iwakuni City
A18: =A16 -> 1 | B18: AC | C18: Services for designated Station-funded facilities/spaces in the Custodial Inventory and Floor Plans provided in J-1503010-08 performed at the service frequencies agreed-upon by Iwakuni City listed in J-1503010-06. | D18: 12 | E18: MO | G18: =F18*D18 -> 0
A19: - CYP Facilities
A20: =A18 -> 1 | B20: AD | C20: Services for Station-funded facilities/spaces indicated as Governed Service Areas in the Custodial Inventory and Floor Plans provided in J-1503010-08 performed at the frequencies specified for Mandated Service Classes for CYP Facilities in J-1503010-07. | D20: 12 | E20: MO | G20: =F20*D20 -> 0
A22: 1503020 | C22: Pest Control
A23: =A14+1 -> 2 | B23: AA | C23: Services for Station-funded facilities/spaces listed in the Frequencies for Scheduled Work provided in J-1503020-06 performed at the frequencies specified therein. | D23: 12 | E23: MO | G23: =F23*D23 -> 0
A24: =A23 -> 2 | B24: AB | C24: Pest Control Service Orders for Station-funded facilities/spaces. | D24: 30 | E24: EA | G24: =F24*D24 -> 0
A25: =A24 -> 2 | B25: AC | C25: Pest Management Reporting per Spec Item 3.3 for Station-funded facilities/spaces | D25: 12 | E25: MO | G25: =F25*D25 -> 0
A27: 1503050 | C27: Grounds Maintenance
A28: =A23+1 -> 3 | B28: AA | C28: Spec Item 3.1 Improved Grounds: Services for Station-funded areas indicated as Prestige in the site maps for Improved Grounds Areas provided in J-1503050-06 performed as specified in the PWS per MCICOM COLS 2 (Prestige) listed in J-1503050-05. | D28: 12 | E28: MO | G28: =F28*D28 -> 0
A29: =A28 -> 3 | B29: AB | C29: Spec Item 3.1 Improved Grounds: Services for Station-funded areas indicated as COLS 3 in the site maps for Improved Grounds Areas provided in J-1503050-06 performed as specified in the PWS per MCICOM COLS 3 Full Base Measures listed in J-1503050-05. | D29: 12 | E29: MO | G29: =F29*D29 -> 0
A30: =A29 -> 3 | B30: AC | C30: Spec Item 3.2 Operational Areas: Services for Station-funded areas indicated as Station-funded in the site maps for Operational Areas provided in J-1503050-17 (Atago Hills Clear Zones), J-1503050-18 (SOFU Communication Site), and Main Base Security Fence and Spider Fence Areas provided in J-1503050-12 performed as specified in the PWS. | D30: 12 | E30: MO | G30: =F30*D30 -> 0
A31: =A29 -> 3 | B31: AD | C31: Spec Item 3.3 Storm Drainage Systems: Services for Station-funded areas indicated as Station-funded in the site maps for Storm Drainage Maps provided in J-1503050-20 performed as specified in the PWS. | D31: 12 | E31: MO | G31: =F31*D31 -> 0
A32: =A31 -> 3 | B32: AE | C32: Spec Item 3.4 Atago Retention Ponds: Services for Station-funded areas indicated as Station-funded in the site map and specific detailes of each pond for Atago Rtention Ponds provided in J-1503050-19 performed as specified in the PWS. | D32: 12 | E32: MO | G32: =F32*D32 -> 0
F34: STATION Subtotal | G34: =SUM(G14:G33) -> 0
A36: 36TH CONTINGENCY RESPONSE GROUP (36 CRG) (STATION REIMBURSABLE)
A37: 1503010 | C37: Custodial
A38: 4 | B38: AA | C38: Services for 36 CRG-funded facilities/spaces listed in the Custodial Inventory and Floor Plans provided in J-1503010-08 performed at the frequencies specified by the applicable service frequencies listed in J-1503010-05. | D38: 12 | E38: MO | G38: =F38*D38 -> 0
F40: 36CRG Subtotal | G40: =G38 -> 0
A42: AIR MOBILITY COMMAND (AMC) (STATION REIMBURSABLE)
A43: 1503010 | C43: Custodial
A44: 5 | B44: AA | C44: Services for AMC-funded facilities/spaces listed in the Custodial Inventory and Floor Plans provided in J-1503010-08 performed at the frequencies specified by the applicable service frequencies listed in J-1503010-05. | D44: 12 | E44: MO | G44: =F44*D44 -> 0
F46: AMC Subtotal | G46: =G44 -> 0
A48: FAMILY HOUSING (FH)
A49: 1503010 | C49: Custodial
...

Sheet B04 1st N-R
A1: ='A01 Base R'!A1:G1 -> ATTACHMENT J-0200000-13
A2: EXHIBIT LINE ITEM NUMBERS (ELINS)
A3: ='A01 Base R'!A3:G3 -> CONTRACT # (will be added after contract award)
A4: EXHIBIT B - CLIN 0004
A5: ='B03 1st R'!A5:G5 -> Period of Performance (POP): One (1) year. Specific dates will be established at time of contract award.
A7: Line Item 0004 Non-Recurring Work - 1st Option Period
A8: PROVIDE PRICES FOR NON-RECURRING WORK - IN ACCORDANCE WITH SECTION C, SPEC ITEM 4
A9: ELINs B700 through B902
A11: Part Number (ELIN) | B11: Part Name (Product) | C11: Long Description | D11: Estimated Quantity | E11: Unit of Issue (UOI) | F11: Price | G11: Extended Price (Price x Estimated Quantity)
A12: Unit Priced Task (UPT) Work
A13: 1503010 Custodial
A14: B700 | B14: Emptying Waste Containers | C14: The Contractor shall empty a waste container and ensure it is clean and sanitary. Waterproof liners shall be replaced if soiled or unserviceable. All waste that is dropped during the waste removal process shall be picked up and properly disposed of. All spills that occur during the waste removal process shall be properly treated and cleaned. All collected waste shall be moved to a designated waste container or waste deposit area. | D14: 2 | E14: EA | G14: =F14*D14 -> 0
A15: 1 | B15: Emptying Recycling Containers | C15: The Contractor shall empty a recycling container and ensure it is clean and sanitary. Waterproof liners shall be replaced if soiled or unserviceable. All recyclable material that is dropped during the removal process shall be picked up. All spills that occur during the removal process shall be properly treated and cleaned. All collected recyclable material shall be moved to the designated building collection site. | D15: 2 | E15: EA | G15: =F15*D15 -> 0
A16: =A15+1 -> 2 | B16: Low Area Cleaning | C16: The Contractor shall dust and wipe clean all furniture and fixtures (e.g., partitions, radiators, hand rails, grilles, ledges, sills, walls, moldings, baseboards, doors, and light fixtures) to a maximum height of 2.5 meters above floor level. The Contractor shall ensure the surfaces are clean. *The square meterage will be based on the floor area of the room. e.g., If this service is ordered for one (1) SM, the work will include cleaning all surfaces within the 1 SM floor area up to a height of 2.5 meters. | D16: 200 | E16: SM | G16: =F16*D16 -> 0
A17: =A16+1 -> 3 | B17: Lunch/Break Room Cleaning | C17: The Contractor shall clean sinks, countertops, trash containers, exterior surfaces of kitchen appliances (e.g., refrigerators, cooking equipment, coffee makers), and dining areas, including tables and chairs. If present, soap and paper towel dispensers shall be refilled. The Contractor shall collect all waste from the lunch/break room and move it to a designated waste container or waste deposit area. All waste that is dropped during the waste removal process shall be picked up and properly disposed of. *The square meterage will be based on the floor area of the room. The unit price shall cover the cost of cleaning all the items listed above (sinks, tables, etc.) that are located within the area. | D17: 100 | E17: SM | G17: =F17*D17 -> 0
A18: =A17+1 -> 4 | B18: High Area Cleaning (up to four meters) | C18: The Contractor shall dust and wipe clean all surfaces above 2.5 meters from floor level up to 4 meters (e.g., overhead piping and conduits, light fixtures, ceiling fans, vents, ducts, furniture tops, and ceiling areas). The Contractor shall clean the exterior and interior surfaces of the light fixture. The Contractor shall ensure that overhead fixtures are protected from damage. High area cleaning includes removal of all debris created, including debris falling into low areas. *The square meterage will be based on the floor area of the room. e.g., If this service is ordered for one (1) SM, the work will include cleaning all surfaces within the 1 SM floor area from a height of 2.5 meters up to 4 meters. | D18: 150 | E18: SM | G18: =F18*D18 -> 0
A19: =A18+1 -> 5 | B19: High Area Cleaning (up to seven meters) | C19: The Contractor shall dust and wipe clean all surfaces above 2.5 meters from floor level up to 7 meters (e.g., overhead piping and conduits, light fixtures, ceiling fans, vents, ducts, furniture tops, and ceiling areas). The Contractor shall clean the exterior and interior surfaces of the light fixture. The Contractor shall ensure that overhead fixtures are protected from damage. High area cleaning includes removal of all debris created, including debris falling into low areas. *The square meterage will be based on the floor area of the room. e.g., If this service is ordered for one (1) SM, the work will include cleaning all surfaces within the 1 SM floor area from a height of 2.5 meters up to 7 meters. | D19: 150 | E19: SM | G19: =F19*D19 -> 0
A20: =A19+1 -> 6 | B20: Interior Window Cleaning (No Fall Protection required) | C20: The Contractor shall clean windows and adjacent areas including window sashes, sills, woodwork, and other surroundings of glass to ensure surfaces are free of dirt and provide a clear, streak-, smudge- and mark-free appearance. If screens are present, the Contractor shall remove and clean the screen such that it is free of debris and dust before reinstalling over cleaned windows. Work will not be considered complete until screens are reinstalled. *This line item is for cleaning interior windows that will not require fall protection for cleaning. | D20: 100 | E20: SM | G20: =F20*D20 -> 0
A21: =A20+1 -> 7 | B21: Exterior Window Cleaning (No Fall Protection required) | C21: The Contractor shall clean windows and adjacent areas including window sashes, sills, woodwork, and other surroundings of glass to ensure surfaces are free of dirt and provide a clear, streak-, smudge- and mark-free appearance. If screens are present, the Contractor shall remove and clean the screen such that it is free of debris and dust before reinstalling over cleaned windows. Work will not be considered complete until screens are reinstalled. *This line item is for cleaning exterior windows that will not require fall protection for cleaning. | D21: 100 | E21: SM | G21: =F21*D21 -> 0
A22: =A21+1 -> 8 | B22: Window Blinds Cleaning | C22: The Contractor shall clean both sides of blinds and all associated accessories (e.g., head rails, cords, tapes, cornices). Blinds may be removed for cleaning. If removed, work will not be considered complete until they are reinstalled, dried for use, and function as initially intended. | D22: 50 | E22: SM | G22: =F22*D22 -> 0
A23: =A22+1 -> 9 | B23: Entrance Cleaning | C23: The Contractor shall clean entrance surfaces including, but not limited to, doors, associated transoms, and sidelights. Surfaces shall be free of all dirt and provide a clear, streak-, smudge- and mark-free appearance regardless of height. All doors, including hardware, shall be disinfected. | D23: 50 | E23: SM | G23: =F23*D23 -> 0
A24: =A23+1 -> 10 | B24: Interior Glass Surfaces Cleaning | C24: The Contractor shall clean glass surfaces (such as interior doors, partitions, and walls) to ensure the surfaces are free of all dirt and provide a clear, streak-, smudge- and mark-free appearance regardless of height. | D24: 50 | E24: SM | G24: =F24*D24 -> 0
A25: =A24+1 -> 11 | B25: Drinking Fountains Cleaning | C25: The Contractor shall clean a drinking fountain to ensure all of its surfaces are free of graffiti, stains, smudges, and scale. Surfaces shall be properly disinfected. | D25: 3 | E25: EA | G25: =F25*D25 -> 0
A26: =A25+1 -> 12 | B26: Light Fixture Cleaning (No Fall Protection required) | C26: The Contractor shall clean all interior and exterior surfaces of a light fixture. If the lamp or bulb is removed for cleaning, it shall be properly reinstalled upon completion of the cleaning. The Contractor shall conduct an operational check prior to and after cleaning the light fixture. | D26: 10 | E26: EA | G26: =F26*D26 -> 0
A27: =A26+1 -> 13 | B27: Wall and Ceiling Area Cleaning | C27: The Contractor shall clean interior wall surfaces to a maximum height of 3 meters above floor level. Surfaces shall include, but are not limited to, baseboards, footing, and handrails. Additionally, spider webs on the ceiling areas shall be removed regardless of height. All debris and dust that are dropped during cleaning services shall be picked up and properly disposed of. *The unit price per SM is based on the wall surface area to be cleaned. | D27: 150 | E27: SM | G27: =F27*D27 -> 0
... A51: =A50+1 -> 37 | B51: BOQ/BEQ Change of Occupancy Deep Cleaning - over 250 SF up to 450 SF | C51: The Contractor shall provide the following Change of Occupancy Deep Cleaning services for a BOQ or BEQ unit over 250 SF (approx. 23 SM) up to 450 SF (approx. 42 SM) in size, in addition to all BOQ/BEQ Change of Occupancy Standard Cleaning tasks listed in B736: • Floors: Strip and wax hard surface floors. Perform carpet deep cleaning where applicable. • Walls and Corners: Remove heavy dirt, marks, and stains. Remove stickers, tape, and residue. • Ceilings: Remove dust and cobwebs. Inspect and clean areas showing mildew or buildup. • Windows and Blinds: Clean window blinds. • Furniture: Deep clean furniture surfaces and remove buildup or stains. • Kitchen: Deep clean kitchen surfaces and remove grease buildup. Clean inside cabinets and drawers. • Appliances: Move all appliances as necessary to clean behind and beneath them. • Bathroom: Scrub shower walls, floors, and fixtures to remove soap scum and buildup. Clean tile grout to remove buildup and mildew. Clean the interior of exhaust fans. Upon completion of cleaning services, the unit shall be: - Free of trash, debris, dust, and stains - Clean and sanitized - Ready for Unaccompanied Housing inspection and new resident occupancy Note 1: The unit is expected to be vacant of all personal belongings and trash prior to the commencement of work. However, the Contractor shall be responsible for removing and properly disposing of any items remaining in the unit. Note 2: The unit price for this ELIN shall include all the tasks including those listed in the B736. This price will not be an additional charge to the Standard Cleaning ELIN. | D51: 90 | E51: UN | G51: =F51*D51 -> 0
A53: 1503050 Grounds Maintenance and Landscaping
A54: =A51+1 -> 38 | B54: Grass Cutting (flat ground, less than one foot (30 cm) in height) - up to 10 SM | C54: The Contractor shall provide all labor, materials and equipment to cut grass in designated areas, up to 10 square meters. Grass (inclusive of weeds and other invasive vegetation) shall be cut to a uniform height of 25 mm (1 inch). All clippings and debris shall be removed and properly disposed of. This work only applies to flat grounds where the grass does not exceed one foot (30 cm) in height. | D54: 100 | E54: EA | G54: =F54*D54 -> 0
A55: =A54+1 -> 39 | B55: Grass Cutting (flat ground, less than one foot (30 cm) in height) - up to 100 SM | C55: The Contractor shall provide all labor, materials and equipment to cut grass in designated areas, up to 100 square meters. Grass (inclusive of weeds and other invasive vegetation) shall be cut to a uniform height of 25 mm (1 inch). All clippings and debris shall be removed and properly disposed of. This work only applies to flat grounds where the grass does not exceed one foot (30 cm) in height. | D55: 50 | E55: EA | G55: =F55*D55 -> 0
A56: =A55+1 -> 40 | B56: Grass Cutting (flat ground, less than three feet (91 cm) in height) - up to 10 SM | C56: The Contractor shall provide all labor, materials and equipment to cut grass in designated areas, up to 10 square meters. Grass (inclusive of weeds and other invasive vegetation) shall be cut to a uniform height of 25 mm (1 inch). All clippings and debris shall be removed and properly disposed of. This work only applies to flat grounds where the grass does not exceed three feet (91 cm) in height. | D56: 100 | E56: EA | G56: =F56*D56 -> 0
A57: =A56+1 -> 41 | B57: Grass Cutting (flat ground, less than three feet (91 cm) in height) - up to 100 SM | C57: The Contractor shall provide all labor, materials and equipment to cut grass in designated areas, up to 100 square meters. Grass (inclusive of weeds and other invasive vegetation) shall be cut to a uniform height of 25 mm (1 inch). All clippings and debris shall be removed and properly disposed of. This work only applies to flat grounds where the grass does not exceed three feet (91 cm) in height. | D57: 50 | E57: EA | G57: =F57*D57 -> 0
A58: =A57+1 -> 42 | B58: Grass Cutting (slope ground, less than three feet (91 cm) in height) - up to 10 SM | C58: The Contractor shall provide all labor, materials and equipment to cut grass in designated areas, up to 10 square meters. Grass (inclusive of weeds and other invasive vegetation) shall be cut to a uniform height of 25 mm (1 inch). All clippings and debris shall be removed and properly disposed of. This work only applies to slope grounds where the grass does not exceed three feet (91 cm) in height. | D58: 100 | E58: EA | G58: =F58*D58 -> 0
A59: =A58+1 -> 43 | B59: Grass Cutting (slope ground, less than three feet (91 cm) in height) - up to 100 SM | C59: The Contractor shall provide all labor, materials and equipment to cut grass in designated areas, up to 100 square meters. Grass (inclusive of weeds and other invasive vegetation) shall be cut to a uniform height of 25 mm (1 inch). All clippings and debris shall be removed and properly disposed of. This work only applies to slope grounds where the grass does not exceed three feet (91 cm) in height. | D59: 50 | E59: EA | G59: =F59*D59 -> 0
A60: =A59+1 -> 44 | B60: Grass Cutting (flat ground, less than five feet (152 cm) in height) - up to 10 SM | C60: The Contractor shall provide all labor, materials and equipment to cut grass in designated areas, up to 10 square meters. Grass (inclusive of weeds and other invasive vegetation) shall be cut to a uniform height of 25 mm (1 inch). All clippings and debris shall be removed and properly disposed of. This work only applies to flat grounds where the grass does not exceed five feet (152 cm) in height. | D60: 100 | E60: EA | G60: =F60*D60 -> 0
A61: =A60+1 -> 45 | B61: Grass Cutting (flat ground, less than five feet (152 cm) in height) - up to 100 SM | C61: The Contractor shall provide all labor, materials and equipment to cut grass in designated areas, up to 100 square meters. Grass (inclusive of weeds and other invasive vegetation) shall be cut to a uniform height of 25 mm (1 inch). All clippings and debris shall be removed and properly disposed of. This work only applies to flat grounds where the grass does not exceed five feet (152 cm) in height. | D61: 50 | E61: EA | G61: =F61*D61 -> 0
A62: =A61+1 -> 46 | B62: Grass Cutting (slope ground, less than five feet (152 cm) in height) - up to 10 SM | C62: The Contractor shall provide all labor, materials and equipment to cut grass in designated areas, up to 10 square meters. Grass (inclusive of weeds and other invasive vegetation) shall be cut to a uniform height of 25 mm (1 inch). All clippings and debris shall be removed and properly disposed of. This work only applies to slope grounds where the grass does not exceed five feet (152 cm) in height. | D62: 100 | E62: EA | G62: =F62*D62 -> 0
A63: =A62+1 -> 47 | B63: Grass Cutting (slope ground, less than five feet (152 cm) in height) - up to 100 SM | C63: The Contractor shall provide all labor, materials and equipment to cut grass in designated areas, up to 100 square meters. Grass (inclusive of weeds and other invasive vegetation) shall be cut to a uniform height of 25 mm (1 inch). All clippings and debris shall be removed and properly disposed of. This work only applies to slope grounds where the grass does not exceed five feet (152 cm) in height. | D63: 50 | E63: EA | G63: =F63*D63 -> 0
A64: =A63+1 -> 48 | B64: Edging - up to 10 LM | C64: The Contractor shall provide all labor, materials and equipment to edge where grass meets concrete surface and ensure the edging is uniform in appearance in designated areas up to 10 linear meters. All clippings and debris shall be removed and properly disposed of. | D64: 100 | E64: EA | G64: =F64*D64 -> 0
A65: =A64+1 -> 49 | B65: Edging - up to 100 LM | C65: The Contractor shall provide all labor, materials and equipment to edge where grass meets concrete surface and ensure the edging is uniform in appearance in designated areas up to 100 linear meters. All clippings and debris shall be removed and properly disposed of. | D65: 20 | E65: EA | G65: =F65*D65 -> 0
A66: =A65+1 -> 50 | B66: Lawn Services - up to 10 SM | C66: The Contractor shall provide all labor, materials and equipment to provide lawn services in designated areas, up to 10 square meters. Lawn services, including aeration, de-thatching, fertilization and overseeding shall be performed per Spec Item 3.1.1.3. | D66: 50 | E66: EA | G66: =F66*D66 -> 0
...

Sheet C05 2nd R
A1: ATTACHMENT J-0200000-13
A2: EXHIBIT LINE ITEM NUMBERS (ELINS)
A3: CONTRACT # (will be added after contract award)
A4: EXHIBIT C - CLIN 0005
A5: Period of Performance (POP): One (1) year. Specific dates will be established at time of contract award.
A7: Line Item 0005 Recurring Work Price - 2nd Option Period
A8: PROVIDE PRICES FOR RECURRING WORK - IN ACCORDANCE WITH SECTION C, SPEC ITEM 3
A9: ELINs C001 through C021
A10: ELIN/Sub ELIN | C10: Description | D10: Quantity | E10: Unit of Issue | F10: Unit Price | G10: Total
A11: STATION (ST)
A12: 1503010 | C12: Custodial
A13: - Prestige
A14: 1 | B14: AA | C14: Services for Station-funded facilities/spaces indicated as Prestige in the Custodial Inventory and Floor Plans provided in J-1503010-08 performed at the COLS 2 frequencies specified per the MCICOM COLS listed in J-1503010-03. | D14: 12 | E14: MO | G14: =F14*D14 -> 0
A15: - Standard
A16: =A14 -> 1 | B16: AB | C16: Services for Station-funded facilities/spaces indicated as Standard in the Custodial Inventory and Floor Plans provided in J-1503010-08 performed at the COLS 3 Full Additional Measure Level 3 frequencies specified per the MCICOM COLS listed in J-1503010-03. | D16: 12 | E16: MO | G16: =F16*D16 -> 0
A17: - Iwakuni City
A18: =A16 -> 1 | B18: AC | C18: Services for designated Station-funded facilities/spaces in the Custodial Inventory and Floor Plans provided in J-1503010-08 performed at the service frequencies agreed-upon by Iwakuni City listed in J-1503010-06. | D18: 12 | E18: MO | G18: =F18*D18 -> 0
A19: - CYP Facilities
A20: =A18 -> 1 | B20: AD | C20: Services for Station-funded facilities/spaces indicated as Governed Service Areas in the Custodial Inventory and Floor Plans provided in J-1503010-08 performed at the frequencies specified for Mandated Service Classes for CYP Facilities in J-1503010-07. | D20: 12 | E20: MO | G20: =F20*D20 -> 0
A22: 1503020 | C22: Pest Control
A23: =A14+1 -> 2 | B23: AA | C23: Services for Station-funded facilities/spaces listed in the Frequencies for Scheduled Work provided in J-1503020-06 performed at the frequencies specified therein. | D23: 12 | E23: MO | G23: =F23*D23 -> 0
A24: =A23 -> 2 | B24: AB | C24: Pest Control Service Orders for Station-funded facilities/spaces. | D24: 30 | E24: EA | G24: =F24*D24 -> 0
A25: =A24 -> 2 | B25: AC | C25: Pest Management Reporting per Spec Item 3.3 for Station-funded facilities/spaces | D25: 12 | E25: MO | G25: =F25*D25 -> 0
A27: 1503050 | C27: Grounds Maintenance
A28: =A23+1 -> 3 | B28: AA | C28: Spec Item 3.1 Improved Grounds: Services for Station-funded areas indicated as Prestige in the site maps for Improved Grounds Areas provided in J-1503050-06 performed as specified in the PWS per MCICOM COLS 2 (Prestige) listed in J-1503050-05. | D28: 12 | E28: MO | G28: =F28*D28 -> 0
A29: =A28 -> 3 | B29: AB | C29: Spec Item 3.1 Improved Grounds: Services for Station-funded areas indicated as COLS 3 in the site maps for Improved Grounds Areas provided in J-1503050-06 performed as specified in the PWS per MCICOM COLS 3 Full Base Measures listed in J-1503050-05. | D29: 12 | E29: MO | G29: =F29*D29 -> 0
A30: =A29 -> 3 | B30: AC | C30: Spec Item 3.2 Operational Areas: Services for Station-funded areas indicated as Station-funded in the site maps for Operational Areas provided in J-1503050-17 (Atago Hills Clear Zones), J-1503050-18 (SOFU Communication Site), and Main Base Security Fence and Spider Fence Areas provided in J-1503050-12 performed as specified in the PWS. | D30: 12 | E30: MO | G30: =F30*D30 -> 0
A31: =A29 -> 3 | B31: AD | C31: Spec Item 3.3 Storm Drainage Systems: Services for Station-funded areas indicated as Station-funded in the site maps for Storm Drainage Maps provided in J-1503050-20 performed as specified in the PWS. | D31: 12 | E31: MO | G31: =F31*D31 -> 0
A32: =A31 -> 3 | B32: AE | C32: Spec Item 3.4 Atago Retention Ponds: Services for Station-funded areas indicated as Station-funded in the site map and specific detailes of each pond for Atago Rtention Ponds provided in J-1503050-19 performed as specified in the PWS. | D32: 12 | E32: MO | G32: =F32*D32 -> 0
F34: STATION Subtotal | G34: =SUM(G14:G33) -> 0
A36: 36TH CONTINGENCY RESPONSE GROUP (36 CRG) (STATION REIMBURSABLE)
A37: 1503010 | C37: Custodial
A38: 4 | B38: AA | C38: Services for 36 CRG-funded facilities/spaces listed in the Custodial Inventory and Floor Plans provided in J-1503010-08 performed at the frequencies specified by the applicable service frequencies listed in J-1503010-05. | D38: 12 | E38: MO | G38: =F38*D38 -> 0
F40: 36CRG Subtotal | G40: =G38 -> 0
A42: AIR MOBILITY COMMAND (AMC) (STATION REIMBURSABLE)
A43: 1503010 | C43: Custodial
A44: 5 | B44: AA | C44: Services for AMC-funded facilities/spaces listed in the Custodial Inventory and Floor Plans provided in J-1503010-08 performed at the frequencies specified by the applicable service frequencies listed in J-1503010-05. | D44: 12 | E44: MO | G44: =F44*D44 -> 0
F46: AMC Subtotal | G46: =G44 -> 0
A48: FAMILY HOUSING (FH)
A49: 1503010 | C49: Custodial
...

Sheet C06 2nd N-R
A1: ='A01 Base R'!A1:G1 -> ATTACHMENT J-0200000-13
A2: EXHIBIT LINE ITEM NUMBERS (ELINS)
A3: ='A01 Base R'!A3:G3 -> CONTRACT # (will be added after contract award)
A4: EXHIBIT C - CLIN 0006
A5: ='C05 2nd R'!A5:G5 -> Period of Performance (POP): One (1) year. Specific dates will be established at time of contract award.
A7: Line Item 0006 Non-Recurring Work - 2nd Option Period
A8: PROVIDE PRICES FOR NON-RECURRING WORK - IN ACCORDANCE WITH SECTION C, SPEC ITEM 4
A9: ELINs C700 through C902
A11: Part Number (ELIN) | B11: Part Name (Product) | C11: Long Description | D11: Estimated Quantity | E11: Unit of Issue (UOI) | F11: Price | G11: Extended Price (Price x Estimated Quantity)
A12: Unit Priced Task (UPT) Work
A13: 1503010 Custodial
A14: C700 | B14: Emptying Waste Containers | C14: The Contractor shall empty a waste container and ensure it is clean and sanitary. Waterproof liners shall be replaced if soiled or unserviceable. All waste that is dropped during the waste removal process shall be picked up and properly disposed of. All spills that occur during the waste removal process shall be properly treated and cleaned. All collected waste shall be moved to a designated waste container or waste deposit area. | D14: 2 | E14: EA | G14: =F14*D14 -> 0
A15: 1 | B15: Emptying Recycling Containers | C15: The Contractor shall empty a recycling container and ensure it is clean and sanitary. Waterproof liners shall be replaced if soiled or unserviceable. All recyclable material that is dropped during the removal process shall be picked up. All spills that occur during the removal process shall be properly treated and cleaned. All collected recyclable material shall be moved to the designated building collection site. | D15: 2 | E15: EA | G15: =F15*D15 -> 0
A16: =A15+1 -> 2 | B16: Low Area Cleaning | C16: The Contractor shall dust and wipe clean all furniture and fixtures (e.g., partitions, radiators, hand rails, grilles, ledges, sills, walls, moldings, baseboards, doors, and light fixtures) to a maximum height of 2.5 meters above floor level. The Contractor shall ensure the surfaces are clean. *The square meterage will be based on the floor area of the room. e.g., If this service is ordered for one (1) SM, the work will include cleaning all surfaces within the 1 SM floor area up to a height of 2.5 meters. | D16: 200 | E16: SM | G16: =F16*D16 -> 0
A17: =A16+1 -> 3 | B17: Lunch/Break Room Cleaning | C17: The Contractor shall clean sinks, countertops, trash containers, exterior surfaces of kitchen appliances (e.g., refrigerators, cooking equipment, coffee makers), and dining areas, including tables and chairs. If present, soap and paper towel dispensers shall be refilled. The Contractor shall collect all waste from the lunch/break room and move it to a designated waste container or waste deposit area. All waste that is dropped during the waste removal process shall be picked up and properly disposed of. *The square meterage will be based on the floor area of the room. The unit price shall cover the cost of cleaning all the items listed above (sinks, tables, etc.) that are located within the area. | D17: 100 | E17: SM | G17: =F17*D17 -> 0
A18: =A17+1 -> 4 | B18: High Area Cleaning (up to four meters) | C18: The Contractor shall dust and wipe clean all surfaces above 2.5 meters from floor level up to 4 meters (e.g., overhead piping and conduits, light fixtures, ceiling fans, vents, ducts, furniture tops, and ceiling areas). The Contractor shall clean the exterior and interior surfaces of the light fixture. The Contractor shall ensure that overhead fixtures are protected from damage. High area cleaning includes removal of all debris created, including debris falling into low areas. *The square meterage will be based on the floor area of the room. e.g., If this service is ordered for one (1) SM, the work will include cleaning all surfaces within the 1 SM floor area from a height of 2.5 meters up to 4 meters. | D18: 150 | E18: SM | G18: =F18*D18 -> 0
A19: =A18+1 -> 5 | B19: High Area Cleaning (up to seven meters) | C19: The Contractor shall dust and wipe clean all surfaces above 2.5 meters from floor level up to 7 meters (e.g., overhead piping and conduits, light fixtures, ceiling fans, vents, ducts, furniture tops, and ceiling areas). The Contractor shall clean the exterior and interior surfaces of the light fixture. The Contractor shall ensure that overhead fixtures are protected from damage. High area cleaning includes removal of all debris created, including debris falling into low areas. *The square meterage will be based on the floor area of the room. e.g., If this service is ordered for one (1) SM, the work will include cleaning all surfaces within the 1 SM floor area from a height of 2.5 meters up to 7 meters. | D19: 150 | E19: SM | G19: =F19*D19 -> 0
A20: =A19+1 -> 6 | B20: Interior Window Cleaning (No Fall Protection required) | C20: The Contractor shall clean windows and adjacent areas including window sashes, sills, woodwork, and other surroundings of glass to ensure surfaces are free of dirt and provide a clear, streak-, smudge- and mark-free appearance. If screens are present, the Contractor shall remove and clean the screen such that it is free of debris and dust before reinstalling over cleaned windows. Work will not be considered complete until screens are reinstalled. *This line item is for cleaning interior windows that will not require fall protection for cleaning. | D20: 100 | E20: SM | G20: =F20*D20 -> 0
A21: =A20+1 -> 7 | B21: Exterior Window Cleaning (No Fall Protection required) | C21: The Contractor shall clean windows and adjacent areas including window sashes, sills, woodwork, and other surroundings of glass to ensure surfaces are free of dirt and provide a clear, streak-, smudge- and mark-free appearance. If screens are present, the Contractor shall remove and clean the screen such that it is free of debris and dust before reinstalling over cleaned windows. Work will not be considered complete until screens are reinstalled. *This line item is for cleaning exterior windows that will not require fall protection for cleaning. | D21: 100 | E21: SM | G21: =F21*D21 -> 0
A22: =A21+1 -> 8 | B22: Window Blinds Cleaning | C22: The Contractor shall clean both sides of blinds and all associated accessories (e.g., head rails, cords, tapes, cornices). Blinds may be removed for cleaning. If removed, work will not be considered complete until they are reinstalled, dried for use, and function as initially intended. | D22: 50 | E22: SM | G22: =F22*D22 -> 0
A23: =A22+1 -> 9 | B23: Entrance Cleaning | C23: The Contractor shall clean entrance surfaces including, but not limited to, doors, associated transoms, and sidelights. Surfaces shall be free of all dirt and provide a clear, streak-, smudge- and mark-free appearance regardless of height. All doors, including hardware, shall be disinfected. | D23: 50 | E23: SM | G23: =F23*D23 -> 0
A24: =A23+1 -> 10 | B24: Interior Glass Surfaces Cleaning | C24: The Contractor shall clean glass surfaces (such as interior doors, partitions, and walls) to ensure the surfaces are free of all dirt and provide a clear, streak-, smudge- and mark-free appearance regardless of height. | D24: 50 | E24: SM | G24: =F24*D24 -> 0
A25: =A24+1 -> 11 | B25: Drinking Fountains Cleaning | C25: The Contractor shall clean a drinking fountain to ensure all of its surfaces are free of graffiti, stains, smudges, and scale. Surfaces shall be properly disinfected. | D25: 3 | E25: EA | G25: =F25*D25 -> 0
A26: =A25+1 -> 12 | B26: Light Fixture Cleaning (No Fall Protection required) | C26: The Contractor shall clean all interior and exterior surfaces of a light fixture. If the lamp or bulb is removed for cleaning, it shall be properly reinstalled upon completion of the cleaning. The Contractor shall conduct an operational check prior to and after cleaning the light fixture. | D26: 10 | E26: EA | G26: =F26*D26 -> 0
A27: =A26+1 -> 13 | B27: Wall and Ceiling Area Cleaning | C27: The Contractor shall clean interior wall surfaces to a maximum height of 3 meters above floor level. Surfaces shall include, but are not limited to, baseboards, footing, and handrails. Additionally, spider webs on the ceiling areas shall be removed regardless of height. All debris and dust that are dropped during cleaning services shall be picked up and properly disposed of. *The unit price per SM is based on the wall surface area to be cleaned. | D27: 150 | E27: SM | G27: =F27*D27 -> 0
... A51: =A50+1 -> 37 | B51: BOQ/BEQ Change of Occupancy Deep Cleaning - over 250 SF up to 450 SF | C51: The Contractor shall provide the following Change of Occupancy Deep Cleaning services for a BOQ or BEQ unit over 250 SF (approx. 23 SM) up to 450 SF (approx. 42 SM) in size, in addition to all BOQ/BEQ Change of Occupancy Standard Cleaning tasks listed in C736: • Floors: Strip and wax hard surface floors. Perform carpet deep cleaning where applicable. • Walls and Corners: Remove heavy dirt, marks, and stains. Remove stickers, tape, and residue. • Ceilings: Remove dust and cobwebs. Inspect and clean areas showing mildew or buildup. • Windows and Blinds: Clean window blinds. • Furniture: Deep clean furniture surfaces and remove buildup or stains. • Kitchen: Deep clean kitchen surfaces and remove grease buildup. Clean inside cabinets and drawers. • Appliances: Move all appliances as necessary to clean behind and beneath them. • Bathroom: Scrub shower walls, floors, and fixtures to remove soap scum and buildup. Clean tile grout to remove buildup and mildew. Clean the interior of exhaust fans. Upon completion of cleaning services, the unit shall be: - Free of trash, debris, dust, and stains - Clean and sanitized - Ready for Unaccompanied Housing inspection and new resident occupancy Note 1: The unit is expected to be vacant of all personal belongings and trash prior to the commencement of work. However, the Contractor shall be responsible for removing and properly disposing of any items remaining in the unit. Note 2: The unit price for this ELIN shall include all the tasks including those listed in the C736. This price will not be an additional charge to the Standard Cleaning ELIN. | D51: 90 | E51: UN | G51: =F51*D51 -> 0
A53: 1503050 Grounds Maintenance and Landscaping
