Workbook

Sheet Summary
B1: IGCE - Hermit's Peak Arbitration - Summary
B3: DESCRIPTION | C3: CLIN TYPE | D3: BASE PERIOD | E3: OPTION PERIOD 1 | F3: OPTION PERIOD 2 | G3: TOTAL
B4: CLIN 0001 - Start-up Tasks (DO NOT REMOVE TOTAL) | C4: FFP | D4: =Base!I4 -> 30000 | G4: =SUM(D4:F4) -> 30000
B5: CLIN 0002 - PMO Personnel | C5: FFP Monthly | D5: =Base!I6 -> 0 | E5: ='Option Period 1'!I4 -> 0 | F5: ='Option Period 2'!I4 -> 0 | G5: =SUM(D5:F5) -> 0
B6: CLIN 0003 - Travel ODCs (DO NOT REMOVE TOTALS) | C6: T&M | D6: =Base!I9 -> 156718 | E6: ='Option Period 1'!I7 -> 114216 | F6: ='Option Period 2'!I7 -> 47956 | G6: =SUM(D6:F6) -> 318890
B7: CLIN 0004 - Travel & Training Time | C7: LH | D7: =Base!I19 -> 0 | E7: ='Option Period 1'!I17 -> 0 | F7: ='Option Period 2'!I17 -> 0 | G7: =SUM(D7:F7) -> 0
B8: CLIN 0005 - Arbitration Hearings | C8: FFP | D8: =Base!I25 -> 0 | E8: ='Option Period 1'!I23 -> 0 | F8: ='Option Period 2'!I23 -> 0 | G8: =SUM(D8:F8) -> 0
B9: CLIN 0006 - Case Review Overtime | C9: T&M | D9: =Base!I30 -> 0 | E9: ='Option Period 1'!I28 -> 0 | F9: ='Option Period 2'!I286 -> 0 | G9: =SUM(D9:F9) -> 0
B10: Number of Cases | D10: =SUM(Base!C26:C28) -> 935 | E10: =SUM('Option Period 1'!C24:C26) -> 595 | F10: =SUM('Option Period 2'!C23:C26) -> 170 | G10: =SUM(D10:F10) -> 1700
B12: TOTAL | D12: =SUM(D4:D9) -> 186718 | E12: =SUM(E6:E9) -> 114216 | F12: =SUM(F6:F9) -> 47956 | G12: =SUM(D12,E12,F12) -> 348890
B14: Assumptions
B15: 12-month Base Year, 2 12-month Option Periods
B16: 1,846 total arbitration cases for entire PoP
B17: 35% occuring Base Period; 55% occuring OP1; 10% occuring OP2
B18: 10% of cases > $500k
B19: In-person cases estimated to be 5%; 10% of in-person will be >$500k
B20: CLIN 0001 - (Do Not Change Totals)
B21: Start-up: tasks includes initial rostering, reporting and badging costs. FFP Cost set at $30,000
B22: CLIN 0002 - Cost is 4% of the sum of CLIN 0005 and CLIN 0006
B23: Includes all Management & Administrative services (reports, maitaining roster, scheduling arbitration hearings, etc.)
B24: CLIN 0003 - Total Travel cost set at $357,353.00 (Do Not Change Totals)
B25: llok9.,ijk
... B35: Overtime costs are estimated at up to 5 hours per case for each complexity category

Sheet Base
B1: IGCE - Hermit's Peak Arbitration
B2: Base Period - 12 months
B3: Description | I3: Total
B4: CLIN 0001: Start-up Tasks (FFP) - Do not change total | C4: Personnel | E4: Cost | G4: Hours | I4: 30000
B6: CLIN 0002: PMO Personnel (FFP Monthly) | C6: Personnel | E6: Cost | G6: Hours | I6: =I7 -> 0
B7: 4% of the sum of CLIN 0005 and CLIN 0006 (Do not change formula) | I7: =4%*SUM(I25,I30) -> 0
B9: CLIN 0003: Travel and Miscelanneous (T&M) | C9: Trips | D9: Days | E9: Cost | I9: =SUM(I10:I17) -> 156718
B10: Hotel | C10: 82 | D10: 2 | E10: 167 | I10: =C10*D10*E10 -> 27388
B11: Per Diem | C11: 82 | D11: 3 | E11: 80 | I11: =C11*D11*E11 -> 19680
B12: Car Rental | C12: 82 | D12: 3 | E12: 75 | I12: =C12*D12*E12 -> 18450
B13: Gas | C13: 82 | E13: 50 | I13: =C13*E13 -> 4100
B14: Airline Ticket | C14: 82 | E14: 650 | I14: =C14*E14 -> 53300
B15: Taxi | C15: 82 | E15: 150 | I15: =C15*E15 -> 12300
B16: Facility Rental | C16: 2 | E16: 500 | I16: =C16*E16 -> 1000
B17: Miscellaneous | C17: 82 | E17: 250 | I17: =C17*E17 -> 20500
B19: CLIN 0004: Travel & Training Time (LH) | C19: Trips | D19: Arbitrators | E19: LH Rate | G19: Hours | I19: =SUM(I20:I23) -> 0
B20: Travel Time - Badging and GFE | C20: 25 | D20: 1 | E20: 0 | G20: 16 | I20: =C20*D20*E20*G20 -> 0
B21: Travel Time Arbitrations (<$500k) | C21: 42 | D21: 1 | E21: 0 | G21: 24 | I21: =C21*D21*E21*G21 -> 0
B22: Travel Time Arbitrations (>$500k) | C22: 5 | D22: 3 | E22: 0 | G22: 24 | I22: =C22*D22*E22*G22 -> 0
B23: Training Time | D23: 25 | E23: 0 | G23: 12 | I23: =D23*E23*G23 -> 0
B25: CLIN 0005: Case Review and Arbitration Hearings (FFP) | C25: Cases | D25: Arbitrators | E25: LH Rate | G25: Hours | I25: =SUM(I26:I28) -> 0
B26: Low Complexity: Case Review and Hearings (<$500k) - Up 12 | C26: 842 | D26: 1 | E26: 0 | G26: 12 | I26: =C26*D26*E26*G26 -> 0
B27: Moderate Complexity: Case Review and Hearings (>$500k) - From 12-18 | C27: 19 | D27: 3 | E27: 0 | G27: 18 | I27: =C27*D27*E27*G27 -> 0
B28: High Complexity: Case Review and Hearings (>$500k) - From 18-24 | C28: 74 | D28: 3 | E28: 0 | G28: 24 | I28: =C28*D28*E28*G28 -> 0
B30: CLIN 0006: Case Review Overtime (T&M) | C30: Cases | D30: Arbitrators | E30: OT Rate | G30: Hours | H30: OT Hours | I30: =SUM(I31:I33) -> 0
B31: Low Complexity: Overtime <$500k - Up to an additional (5) hrs | C31: 84 | D31: 1 | E31: 0 | G31: 5 | H31: =C31*D31*G31 -> 420 | I31: =C31*D31*E31*G31 -> 0
B32: Moderate Complexity: Overtime >$500k - Up to an additional (5) hrs | C32: 2 | D32: 3 | E32: 0 | G32: 5 | H32: =C32*D32*G32 -> 30 | I32: =C32*D32*E32*G32 -> 0
B33: Overtime >$500k - Up to an additional (5) hrs | C33: 3 | D33: 3 | E33: 0 | G33: 5 | H33: =C33*D33*G33 -> 45 | I33: =C33*D33*E33*G33 -> 0
B35: TOTAL | I35: =SUM(I4,I6,I9,I19,I25,I30) -> 186718
B37: Assumptions
B38: 12-month Base Year, 2 12-month Option Periods
B39: 1,846 total arbitration cases for entire contract PoP
B40: Case Complexity: 90% (6-12 hrs); 2% (12-18hrs); 8% (18-24hrs)
B41: 35% occuring Base Period: 646 total
B42: 10% of cases > $500k:
B43: CLIN 0001
B44: Start-up: tasks includes initial rostering, reporting and badging costs. FFP Cost set at $30,000 (Do not change total)
B45: CLIN 0002 - 4% of the sum of CLIN 0005 and CLIN 0006 (Do not change formula in chart)
B46: Includes all Management & Administrative services (reports, maitaining roster, scheduling arbitration hearings, etc.)
B47: CLIN 0003
...

Sheet Option Period 1
B1: IGCE - Hermit's Peak Arbitration
B2: Option Period 1 - 12 months
B3: Description | I3: Total
B4: CLIN 1002: PMO Personnel (FFP Monthly) | C4: Personnel | E4: Rate | G4: Hours | I4: =I5 -> 0
B5: 4% of the sum of CLIN 0005 and CLIN 0006 (Do not change formula) | I5: =4%*SUM(I23,I28) -> 0
B7: CLIN 1003: Travel and Miscelanneous (T&M) Do not change | C7: Trips | D7: Days | E7: Cost | I7: 114216
B8: Hotel | C8: 61 | D8: 2 | E8: 162 | I8: =C8*D8*E8 -> 19764
B9: Per Diem | C9: 61 | D9: 3 | E9: 69 | I9: =C9*D9*E9 -> 12627
B10: Car Rental | C10: 61 | D10: 3 | E10: 75 | I10: =C10*D10*E10 -> 13725
B11: Gas | C11: 61 | E11: 50 | I11: =C11*E11 -> 3050
B12: Airline Ticket | C12: 61 | E12: 650 | I12: =C12*E12 -> 39650
B13: Taxi | C13: 61 | E13: 150 | I13: =C13*E13 -> 9150
B14: Facility Rental | C14: 2 | E14: 500 | I14: =C14*E14 -> 1000
B15: Miscellaneous | C15: 61 | E15: 250 | I15: =C15*E15 -> 15250
B17: CLIN 1004: Travel & Training Time (LH) | C17: Trips | D17: Arbitrators | E17: Rate | G17: Hours | I17: =SUM(I18:I21) -> 0
B18: Travel Time - Badging and GFE | C18: 25 | D18: 1 | E18: 0 | G18: 16 | I18: =C18*D18*E18*G18 -> 0
B19: Travel Time Arbitrations (<$500k) | C19: 27 | D19: 1 | E19: 0 | G19: 24 | I19: =C19*D19*E19*G19 -> 0
B20: Travel Time Arbitrations (>$500k) | C20: 3 | D20: 3 | E20: 0 | G20: 24 | I20: =C20*D20*E20*G20 -> 0
B21: Training Time | D21: 25 | E21: 0 | G21: 12 | I21: =D21*E21*G21 -> 0
B23: CLIN 1005: Case Review and Arbitration Hearings (FFP) | C23: Cases | D23: Arbitrators | E23: Rate | G23: Hours | I23: =SUM(I24:I26) -> 0
B24: Low Complexity: Case Review and Hearings (<$500k) - Up 12 | C24: 536 | D24: 1 | E24: 0 | G24: 12 | I24: =C24*D24*E24*G24 -> 0
B25: Moderate Complexity: Case Review and Hearings (>$500k) - From 12-18 | C25: 12 | D25: 3 | E25: 0 | G25: 18 | I25: =C25*D25*E25*G25 -> 0
B26: High Complexity: Case Review and Hearings (>$500k) - From 18-24 | C26: 47 | D26: 3 | E26: 0 | G26: 24 | I26: =C26*D26*E26*G26 -> 0
B28: CLIN 1006: Case Review Overtime (T&M) | C28: Cases | E28: OT Rate | G28: Hours | H28: OT Hours | I28: =SUM(I29:I31) -> 0
B29: Low Complexity: Overtime <$500k - Up to an additional (5) hrs | C29: 53 | D29: 1 | E29: 0 | G29: 5 | H29: =C29*D29*G29 -> 265 | I29: =C29*D29*E29*G29 -> 0
B30: Moderate Complexity: Overtime >$500k - Up to an additional (5) hrs | C30: 2 | D30: 3 | E30: 0 | G30: 5 | H30: =C30*D30*G30 -> 30 | I30: =C30*D30*E30*G30 -> 0
B31: Overtime >$500k - Up to an additional (5) hrs | C31: 2 | D31: 3 | E31: 0 | G31: 5 | H31: =C31*D31*G31 -> 30 | I31: =C31*D31*E31*G31 -> 0
B33: Total | I33: =SUM(I4,I7,I17,I23,I28) -> 114216
B35: Assumptions
B36: 12-month Base Year, 2 12-month Option Periods
B37: 1,846 total arbitration cases for entire contract PoP
B38: 55% occuring OP1: 1,016 total
B39: 10% of cases > $500k: 102
B40: CLIN 1002 - 4% of the sum of CLIN 0005 and CLIN 0006 (Do not change formula in chart)
B41: Includes all Management & Administrative services (reports, maitaining roster, scheduling arbitration hearings, etc.)
B42: CLIN 1003
B43: In-person cases estimated to be 5%; 10% of in-person will be >$500k
B44: 25 Trips to Pick up Equipment + 60 (45+15) trips for Arbitration = 85 trips
B45: CLIN 1004
B46: Includes travel time for GFE pickup and arbitrator hearings (inclusive of PMO staff and Arbitrators).
...

Sheet Option Period 2
B1: IGCE - Hermit's Peak Arbitration
B2: Option Period 2 - 12 months
B3: Description | I3: Total
B4: CLIN 2002: PMO Personnel (FFP Monthly) | C4: Personnel | E4: Rate | G4: Hrs | I4: =I5 -> 0
B5: 4% of the sum of CLIN 0005 and CLIN 0006 (Do not change formula) | I5: =4%*SUM(I23,I28) -> 0
B7: CLIN 2003: Travel and Miscelanneous (T&M) Do not change | C7: Trips | D7: Days | E7: Cost | I7: =SUM(I8:I15) -> 47956
B8: Hotel | C8: 26 | D8: 2 | E8: 162 | I8: =C8*D8*E8 -> 8424
B9: Per Diem | C9: 26 | D9: 3 | E9: 69 | I9: =C9*D9*E9 -> 5382
B10: Car Rental | C10: 26 | D10: 3 | E10: 75 | I10: =C10*D10*E10 -> 5850
B11: Gas | C11: 26 | E11: 50 | I11: =C11*E11 -> 1300
B12: Airline Ticket | C12: 26 | E12: 650 | I12: =C12*E12 -> 16900
B13: Taxi | C13: 26 | E13: 100 | I13: =C13*E13 -> 2600
B14: Facility Rental | C14: 2 | E14: 500 | I14: =C14*E14 -> 1000
B15: Miscellaneous | C15: 26 | E15: 250 | I15: =C15*E15 -> 6500
B17: CLIN 2004: Travel & Training Time (LH) | C17: Trips | D17: Arbitrators | E17: LH Rate | G17: Hours | I17: =SUM(I18:I21) -> 0
B18: Travel Time - Badging and GFE | C18: 15 | D18: 1 | E18: 0 | G18: 16 | I18: =C18*D18*E18*G18 -> 0
B19: Travel Time Arbitrations (<$500k) | C19: 8 | D19: 1 | E19: 0 | G19: 24 | I19: =C19*D19*E19*G19 -> 0
B20: Travel Time Arbitrations (>$500k) | C20: 1 | D20: 3 | E20: 0 | G20: 24 | I20: =C20*D20*E20*G20 -> 0
B21: Training Time | D21: 15 | E21: 0 | G21: 12 | I21: =D21*E21*G21 -> 0
B23: CLIN 2005: Case Review and Arbitration Hearings (FFP) | C23: Cases | D23: Arbitrators | E23: LH Rate | G23: Hours | I23: =SUM(I24:I26) -> 0
B24: Low Complexity: Case Review and Hearings (<$500k) - Up 12 | C24: 152 | D24: 1 | E24: 0 | G24: 12 | I24: =C24*D24*E24*G24 -> 0
B25: Moderate Complexity: Case Review and Hearings (>$500k) - From 12-18 | C25: 3 | D25: 3 | E25: 0 | G25: 18 | I25: =C25*D25*E25*G25 -> 0
B26: High Complexity: Case Review and Hearings (>$500k) - From 18-24 | C26: 15 | D26: 3 | E26: 0 | G26: 24 | I26: =C26*D26*E26*G26 -> 0
B28: CLIN 2006: Case Review Overtime (T&M) | C28: Cases | E28: OT Rate | G28: Hours | H28: OT Hours | I28: =SUM(I29:I31) -> 0
B29: Low Complexity: Overtime <$500k - Up to an additional (5) hrs | C29: 15 | D29: 1 | E29: 0 | G29: 5 | H29: =C29*D29*G29 -> 75 | I29: =C29*D29*E29*G29 -> 0
B30: Moderate Complexity: Overtime >$500k - Up to an additional (5) hrs | C30: 1 | D30: 3 | E30: 0 | G30: 5 | H30: =C30*D30*G30 -> 15 | I30: =C30*D30*E30*G30 -> 0
B31: Overtime >$500k - Up to an additional (5) hrs | C31: 1 | D31: 3 | E31: 0 | G31: 5 | H31: =C31*D31*G31 -> 15 | I31: =C31*D31*E31*G31 -> 0
B33: Total | I33: =SUM(I4,I7,I17,I23,I28) -> 47956
B34: 12-month Base Year, 2 12-month Option Periods
B35: 10% occuring OPT 2 Period: 184 total
B36: 10% of cases > $500k
B37: CLIN 2002 - 4% of the sum of CLIN 0005 and CLIN 0006 (Do not change formula in chart)
B38: Includes all Management & Administrative services (reports, maitaining roster, scheduling arbitration hearings, etc.)
B39: CLIN 2003
B40: In-person cases estimated to be 5%; 10% of in-person will be >$500k
B41: 15 Trips to Pick up Equipment + 11 (8+3) trips for Arbitration: 26 trips
B42: CLIN 2004
B43: Includes travel time for GFE pickup and arbitrator hearings (inclusive of PMO staff and Arbitrators).
B44: Includes 8 hours of mandatory privacy training for all rostered arbitrators
B45: Includes 4 hours of arbitratioion-related training
...
