Workbook

Sheet Covington TOTAL
A1: VENDOR'S NAME
A2: VENDOR'S ADDRESS
A3: VENDOR POC AND PHONE NUMBER
B4: MEAL | C4: QUANTITY | D4: PRICE | E4: TOTAL
B5: BREAKFAST | C5: 307 | D5: ='BREAKFAST(1)'!E13 -> 0 | E5: ='BREAKFAST(1)'!F32 -> 0 | F5: AUTO FILL
B6: LUNCH | C6: 307 | D6: ='LUNCH (1)'!E13 -> 0 | E6: ='LUNCH (1)'!F32 -> 0 | F6: AUTO FILL
B7: SACK LUNCH | C7: 0 | E7: . | J7: ALL NUMBERS ARE CORRECT - IF ANY CHANGES, YOU WILL BE NOTIFIED
B8: DINNER | C8: ='DINNER (1)'!C32 -> 256 | D8: ='DINNER (1)'!F13 -> 0 | E8: ='DINNER (1)'!F32 -> 0 | F8: AUTO FILL
C9: =SUM(C5:C8) -> 870 | D9: TOTAL | E9: =SUM(E5:E8) -> 0
A12: VENDOR WILL DELIVER ALL THREE MEALS TO ARMORY
B15: UNIT POC | C15: Jimmy Farmer
B16: POC PHONE/CELL | C16: (865)414-5678
B17: POC EMAIL | C17: jimmy.c.farmer2.mil@army.mil | F17: Tel:
B20: DELIVERY TO:
B21: 4500 Mueller Brass RD. Covington, TN 38019
B25: Any questions, please contact Rhonda Lien @ rhonda.m.lien.civ@army.mil
B26: 615-313-0530
B28: updated 11 MAR 2024 - Rhonda Lien

Sheet BREAKFAST(1)
A1: BREAKFAST MEAL
K2: In vendors restaurant
A3: Breakfast meals shall consist of at least three (3) menus offering a selection of one (1) meat, two (2) eggs, biscuits with gravy or pancakes with syrup, one (1) serving of orange or grape juice, one half (1/2) pint of milk and one (1) serving of coffee.Each serving of meat shall be a minimum of eight (8) ounces, each serving of drinks shall be a minimum of twelve (12) ounces, and all other servings shall be a minimum of four (4) ounces. | K3: Delivered to:
K4: Unit will pick up.
K5: Vendor shall also provide single service items, paper plates, cups plastic flateware and all condiments for the meal.
A6: DELIVERY OF MEALS: 216 | C6: Delivered to: | E6: 4500 Mueller RD. Covington, TN 38019
K7: 0
K8: 0.041666667
A9: MEALS SHALL BE SERVED BETWEEN | C9: 0.25 | D9: and | E9: 0.29166667 | K9: 0.083333333
A10: Vendor shall also provide single service items, paper plates, cups plastic flateware and all condiments for the meal. | K10: 0.125
K11: 0.16666667
A12: # DAYS | B12: DATE | C12: QUANTITY | D12: MEAL | E12: PRICE PER MEAL | F12: TOTAL | K12: 0.20833333
A13: 1 | B13: Tuesday, October 20, 2026 | C13: 36 | D13: Breakfast | E13: 0 | F13: =SUM(E13*C13) -> 0 | H13: Column1 | K13: 0.25
A14: 2 | B14: Wednesday, October 21, 2026 | C14: 36 | D14: Breakfast | E14: =E13 -> 0 | F14: =SUM(E14*C14) -> 0 | H14: Breakfast | K14: 0.29166667
A15: 3 | B15: Thursday, October 22, 2026 | C15: 36 | D15: Breakfast | E15: =E14 -> 0 | F15: =SUM(E15*C15) -> 0
A16: 4 | B16: Friday, October 23, 2026 | C16: 36 | D16: Breakfast | E16: =E15 -> 0 | F16: =SUM(E16*C16) -> 0
A17: 5 | B17: Saturday, October 24, 2026 | C17: 36 | D17: Breakfast | E17: =E16 -> 0 | F17: =SUM(E17*C17) -> 0
A18: 6 | B18: Sunday, October 25, 2026 | C18: 87 | D18: Breakfast | E18: =E17 -> 0 | F18: =SUM(E18*C18) -> 0
A19: 7 | B19: Monday, October 26, 2026 | C19: 8 | D19: Breakfast | E19: =E18 -> 0 | F19: =SUM(E19*C19) -> 0
A20: 8 | B20: Tuesday, October 27, 2026 | C20: 8 | D20: Breakfast | E20: =E19 -> 0 | F20: =SUM(E20*C20) -> 0
A21: 9 | B21: Wednesday, October 28, 2026 | C21: 8 | D21: Breakfast | E21: =E20 -> 0 | F21: =SUM(E21*C21) -> 0
A22: 10 | B22: Thursday, October 29, 2026 | C22: 8 | D22: Breakfast | E22: =E21 -> 0 | F22: =SUM(E22*C22) -> 0
A23: 11 | B23: Friday, October 30, 2026 | C23: 8 | D23: Breakfast | E23: =E22 -> 0 | F23: =SUM(E23*C23) -> 0
B32: TOTAL MEALS | C32: =SUM(C13:C31) -> 307 | E32: SUM TOTAL | F32: =SUM(F13:F31) -> 0

Sheet LUNCH (1)
A1: LUNCH MEALS
K2: In vendors restaurant
A3: Lunch meals will consist of at least three (3) menus offering a selection of one (1) serving of meat, two (2) servings of vegetables, one (1 ) serving of bread, one (1) serving of desert and one (1) serving of tea, coffee or soda as a beverage. Each serving of meat shall be a minimum of eight (8) ounces, each serving of drinks shall be a minimum of twelve (12) ounces, and all other servings shall be a minimum of four (4) ounces. | K3: Delivered to:
K4: Unit will pick up.
K5: Vendor shall also provide single service items, paper plates, cups plastic flateware and all condiments for the meal.
A6: DELIVERY OF MEALS: 216 | C6: Delivered to: | E6: 4500 Mueller RD. Covington, TN 38019
K7: 0
K8: 0.041666667
A9: MEALS SHALL BE SERVED BETWEEN | C9: 0.25 | D9: and | E9: 0.29166667 | K9: 0.083333333
A10: Vendor shall also provide single service items, paper plates, cups plastic flateware and all condiments for the meal. | K10: 0.125
K11: 0.16666667
A12: # DAYS | B12: DATE | C12: QUANTITY | D12: MEAL | E12: PRICE PER MEAL | F12: TOTAL | K12: 0.20833333
A13: 1 | B13: Tuesday, October 20, 2026 | C13: 36 | E13: 0 | F13: =SUM(E13*C13) -> 0 | G13: LUNCH | H13: Column1 | K13: 0.25
A14: 2 | B14: Wednesday, October 21, 2026 | C14: 36 | E14: =E13 -> 0 | F14: =SUM(E14*C14) -> 0 | G14: LUNCH | H14: Breakfast | K14: 0.29166667
A15: 3 | B15: Thursday, October 22, 2026 | C15: 36 | E15: =E14 -> 0 | F15: =SUM(E15*C15) -> 0 | G15: LUNCH
A16: 4 | B16: Friday, October 23, 2026 | C16: 36 | E16: =E15 -> 0 | F16: =SUM(E16*C16) -> 0 | G16: LUNCH
A17: 5 | B17: Saturday, October 24, 2026 | C17: 36 | E17: =E16 -> 0 | F17: =SUM(E17*C17) -> 0 | G17: LUNCH
A18: 6 | B18: Sunday, October 25, 2026 | C18: 87 | E18: =E17 -> 0 | F18: =SUM(E18*C18) -> 0 | G18: LUNCH
A19: 7 | B19: Monday, October 26, 2026 | C19: 8 | E19: =E18 -> 0 | F19: =SUM(E19*C19) -> 0 | G19: LUNCH
A20: 8 | B20: Tuesday, October 27, 2026 | C20: 8 | E20: =E19 -> 0 | F20: =SUM(E20*C20) -> 0 | G20: LUNCH
A21: 9 | B21: Wednesday, October 28, 2026 | C21: 8 | E21: =E20 -> 0 | F21: =SUM(E21*C21) -> 0 | G21: LUNCH
A22: 10 | B22: Thursday, October 29, 2026 | C22: 8 | E22: =E21 -> 0 | F22: =SUM(E22*C22) -> 0 | G22: LUNCH
A23: 11 | B23: Friday, October 30, 2026 | C23: 8 | E23: =E22 -> 0 | F23: =SUM(E23*C23) -> 0 | G23: LUNCH
B32: TOTAL MEALS | C32: =SUM(C13:C31) -> 307 | E32: SUM TOTAL | F32: =SUM(F13:F31) -> 0

Sheet LUNCH
A1: LUNCH
K2: In vendors restaurant
A3: Lunch meals shall consist of at least three (3) menus offering a selection of one (1) serving of meat, two (2) servings of vegetables, one (1) serving of bread, one (1) servin g of desert and one (1) serving of tea, coffee or soda as a beverage. Each serving of meat shall be a minimum of eight (8) ounces, each serving of drinks shall be a minimum of twelve(12) ounces, and all other servings shall be a minimum of four (4) ounces. | K3: Delivered to:
K4: Unit will pick up.
K5: Vendor shall also provide single service items, paper plates, cups plastic flateware and all condiments for the meal.
A6: DELIVERY OF MEALS: 105 | C6: Delivered to:
K7: 0
K8: 0.041666667
A9: MEALS SHALL BE SERVED BETWEEN | C9: 0.45833333 | D9: and | E9: 0.5 | K9: 0.083333333
A10: Vendor shall also provide single service items, paper plates, cups plastic flateware and all condiments for the meal. | K10: 0.125
K11: 0.16666667
A12: # DAYS | B12: DATE | C12: QUANTITY | D12: MEAL | E12: PRICE PER MEAL | F12: TOTAL | K12: 0.20833333
C13: 0 | D13: Lunch | E13: 0 | F13: =C13*E13 -> 0 | H13: Column1 | K13: 0.25
C14: 0 | D14: Lunch | E14: =E13 -> 0 | F14: =C14*E14 -> 0 | H14: Breakfast | K14: 0.29166667
C15: 0 | D15: Lunch | E15: =E14 -> 0 | F15: =C15*E15 -> 0 | H15: Lunch | K15: 0.33333333
F16: =C16*E16 -> 0 | H16: Dinner | K16: 0.375
F17: =C17*E17 -> 0
B18: TOTAL MEALS | C18: =SUM(C13:C17) -> 0 | F18: =SUM(F13:F17) -> 0

Sheet SACK LUNCH 
A1: SACK LUNCH MEALS
K2: In vendors restaurant
A3: Sack lunch meals shall consist of a turkey or ham sandwich, a small bag of potato chips, a apple, bananna or orange, a individually packaged desert cake and a individually packaged premium brand soft drink. Each serving of meat shall be a minimum of eight (8) ounces, each serving of drinks shall be a minimum of twelve (12) ounces, and all other servings shall be a minimum of four (4) ounces. | K3: Delivered to:
K4: Unit will pick up.
K5: Vendor shall also provide single service items, paper plates, cups plastic flateware and all condiments for the meal.
A6: DELIVERY OF MEALS: | C6: Delivered to:
K7: 0
K8: 0.041666667
A9: MEALS SHALL BE SERVED BETWEEN | C9: 0.45833333 | D9: and | E9: 0.5 | K9: 0.083333333
A10: Vendor shall also provide single service items, paper plates, cups plastic flateware and all condiments for the meal. | K10: 0.125
K11: 0.16666667
A12: # DAYS | B12: DATE | C12: QUANTITY | D12: MEAL | E12: PRICE PER MEAL | F12: TOTAL | K12: 0.20833333
A13: 1 | C13: 0 | D13: Breakfast | E13: 0 | F13: =C13*E13 -> 0 | H13: Column1 | K13: 0.25
A14: =A13+1 -> 2 | C14: =C13 -> 0 | D14: Breakfast | E14: =E13 -> 0 | F14: =C14*E14 -> 0 | H14: Breakfast | K14: 0.29166667
A15: =A14+1 -> 3 | C15: =C14 -> 0 | D15: Breakfast | E15: =E14 -> 0 | F15: =C15*E15 -> 0 | H15: Lunch | K15: 0.33333333
A16: =A15+1 -> 4 | C16: =C15 -> 0 | D16: Breakfast | E16: =E15 -> 0 | F16: =C16*E16 -> 0 | H16: Dinner | K16: 0.375
A17: =A16+1 -> 5 | C17: =C16 -> 0 | D17: Breakfast | E17: =E16 -> 0 | F17: =C17*E17 -> 0 | K17: 0.41666667
A18: =A17+1 -> 6 | C18: =C17 -> 0 | D18: Breakfast | E18: =E17 -> 0 | F18: =C18*E18 -> 0 | K18: 0.45833333
A19: =A18+1 -> 7 | C19: =C18 -> 0 | D19: Breakfast | E19: =E18 -> 0 | F19: =C19*E19 -> 0 | K19: 0.5
A20: =A19+1 -> 8 | C20: =C19 -> 0 | D20: Breakfast | E20: =E19 -> 0 | F20: =C20*E20 -> 0 | K20: 0.54166667
A21: =A20+1 -> 9 | C21: =C20 -> 0 | D21: Breakfast | E21: =E20 -> 0 | F21: =C21*E21 -> 0 | K21: 0.58333333
A22: =A21+1 -> 10 | C22: =C21 -> 0 | D22: Breakfast | E22: =E21 -> 0 | F22: =C22*E22 -> 0 | K22: 0.625
A23: =A22+1 -> 11 | C23: =C22 -> 0 | D23: Breakfast | E23: =E22 -> 0 | F23: =C23*E23 -> 0 | K23: 0.66666667
A24: =A23+1 -> 12 | C24: =C23 -> 0 | D24: Breakfast | E24: =E23 -> 0 | F24: =C24*E24 -> 0 | K24: 0.70833333
A25: =A24+1 -> 13 | C25: =C24 -> 0 | D25: Breakfast | E25: =E24 -> 0 | F25: =C25*E25 -> 0 | K25: 0.75
A26: =A25+1 -> 14 | C26: =C25 -> 0 | D26: Breakfast | E26: =E25 -> 0 | F26: =C26*E26 -> 0 | K26: 0.79166667
A27: =A26+1 -> 15 | C27: =C26 -> 0 | D27: Breakfast | E27: =E26 -> 0 | F27: =C27*E27 -> 0 | K27: 0.83333333
A28: =A27+1 -> 16 | C28: =C27 -> 0 | D28: Breakfast | E28: =E27 -> 0 | F28: =C28*E28 -> 0 | K28: 0.875
... A30: =A29+1 -> 18 | C30: =C29 -> 0 | D30: Breakfast | E30: =E29 -> 0 | F30: =C30*E30 -> 0 | K30: 0.95833333
A31: =A30+1 -> 19 | C31: =C30 -> 0 | D31: Breakfast | E31: =E30 -> 0 | F31: =C31*E31 -> 0
A32: =A31+1 -> 20 | C32: =C31 -> 0 | D32: Breakfast | E32: =E31 -> 0 | F32: =C32*E32 -> 0 | K32: Central Standard Time
A33: =A32+1 -> 21 | C33: =C32 -> 0 | D33: Breakfast | E33: =E32 -> 0 | F33: =C33*E33 -> 0 | K33: Central Daylight Savings Time
A34: =A33+1 -> 22 | C34: =C33 -> 0 | D34: Breakfast | E34: =E33 -> 0 | F34: =C34*E34 -> 0 | K34: Eastern Standard Time
A35: =A34+1 -> 23 | C35: =C34 -> 0 | D35: Breakfast | E35: =E34 -> 0 | F35: =C35*E35 -> 0 | K35: Eastern Standard Time
A36: =A35+1 -> 24 | C36: =C35 -> 0 | D36: Breakfast | E36: =E35 -> 0 | F36: =C36*E36 -> 0 | K36: Eastern Daylight Savings Time
A37: =A36+1 -> 25 | C37: =C36 -> 0 | D37: Breakfast | E37: =E36 -> 0 | F37: =C37*E37 -> 0
A38: =A37+1 -> 26 | C38: =C37 -> 0 | D38: Breakfast | E38: =E37 -> 0 | F38: =C38*E38 -> 0
A39: =A38+1 -> 27 | C39: =C38 -> 0 | D39: Breakfast | E39: =E38 -> 0 | F39: =C39*E39 -> 0
A40: =A39+1 -> 28 | C40: =C39 -> 0 | D40: Breakfast | E40: =E39 -> 0 | F40: =C40*E40 -> 0
A41: =A40+1 -> 29 | C41: =C40 -> 0 | D41: Breakfast | E41: =E40 -> 0 | F41: =C41*E41 -> 0
...

Sheet DINNER (1)
A1: DINNER MEALS
K2: In vendors restaurant
A3: Dinner meals will consist of at least three (3) menus offering a selection of one (1) serving of meat, two (2) servings of vegetables, one (1 ) serving of bread, one (1) serving of desert and one (1) serving of tea, coffee or soda as a beverage. Each serving of meat shall be a minimum of eight (8) ounces, each serving of drinks shall be a minimum of twelve (12) ounces, and all other servings shall be a minimum of four (4) ounces. | K3: Delivered to:
K4: Unit will pick up.
K5: Vendor shall also provide single service items, paper plates, cups plastic flateware and all condiments for the meal.
A6: DELIVERY OF MEALS: 105 | C6: Delivered to: | E6: 4500 Mueller RD. Covington, TN 38019
K7: 0
K8: 0.041666667
A9: MEALS SHALL BE SERVED BETWEEN | C9: 0.70833333 | D9: and | E9: 0.79166667 | K9: 0.083333333
A10: =IF(C6=K2," ",K5) -> Vendor shall also provide single service items, paper plates, cups plastic flateware and all condiments for the meal. | K10: 0.125
K11: 0.16666667
A12: # DAYS | B12: DATE | C12: QUANTITY | D12: MEAL | E12: PRICE PER MEAL | F12: TOTAL | K12: 0.20833333
A13: 1 | B13: Monday, October 19, 2026 | C13: 36 | D13: Dinner | E13: 0 | F13: =C13*E13 -> 0 | H13: Column1 | K13: 0.25
A14: 2 | B14: Tuesday, October 20, 2026 | C14: 36 | D14: Dinner | E14: =E13 -> 0 | F14: =C14*E14 -> 0 | H14: Breakfast | K14: 0.29166667
A15: 3 | B15: Wednesday, October 21, 2026 | C15: 36 | D15: Dinner | E15: =E14 -> 0 | F15: =C15*E15 -> 0 | H15: Lunch | K15: 0.33333333
A16: 4 | B16: Thursday, October 22, 2026 | C16: 36 | D16: Dinner | E16: =E15 -> 0 | F16: =C16*E16 -> 0
A17: 5 | B17: Friday, October 23, 2026 | C17: 36 | D17: Dinner | E17: =E16 -> 0 | F17: =C17*E17 -> 0
A18: 6 | B18: Saturday, October 24, 2026 | C18: 36 | D18: Dinner | E18: =E17 -> 0 | F18: =C18*E18 -> 0
A19: 7 | B19: Sunday, October 25, 2026 | C19: 8 | D19: Dinner | E19: =E18 -> 0 | F19: =C19*E19 -> 0
A20: 8 | B20: Monday, October 26, 2026 | C20: 8 | D20: Dinner | E20: =E19 -> 0 | F20: =C20*E20 -> 0
A21: 9 | B21: Tuesday, October 27, 2026 | C21: 8 | D21: Dinner | E21: =E20 -> 0 | F21: =C21*E21 -> 0
A22: 10 | B22: Wednesday, October 28, 2026 | C22: 8 | D22: Dinner | E22: =E21 -> 0 | F22: =C22*E22 -> 0
A23: 11 | B23: Thursday, October 29, 2026 | C23: 8 | D23: Dinner | E23: =E22 -> 0 | F23: =C23*E23 -> 0
F31: =C31*E31 -> 0
B32: TOTAL MEALS | C32: =SUM(C13:C31) -> 256 | E32: SUM TOTAL | F32: =SUM(F13:F31) -> 0

Sheet BLANK

Sheet Winchester TOTAL
A1: VENDOR'S NAME
A2: VENDOR'S ADDRESS
A3: VENDOR POC AND PHONE NUMBER
B4: MEAL | C4: QUANTITY | D4: PRICE | E4: TOTAL
B5: BREAKFAST | C5: 742 | D5: ='BREAKFAST (2)'!E13 -> 0 | E5: ='BREAKFAST (2)'!F32 -> 0 | F5: AUTO FILL
B6: LUNCH | C6: 742 | D6: ='LUNCH (2'!E13 -> 0 | E6: ='LUNCH (2'!F32 -> 0 | F6: AUTO FILL
B7: SACK LUNCH | C7: 0 | E7: . | J7: ALL NUMBERS ARE CORRECT - IF ANY CHANGES, YOU WILL BE NOTIFIED
B8: DINNER | C8: ='DINNER (2)'!C32 -> 570 | D8: ='DINNER (2)'!E13 -> 0 | E8: ='DINNER (2)'!F32 -> 0 | F8: AUTO FILL
C9: =SUM(C5:C8) -> 2054 | D9: TOTAL | E9: =SUM(E5:E8) -> 0
A12: VENDOR WILL DELIVER ALL THREE MEALS TO ARMORY
B15: UNIT POC | C15: Nathan Bartel
B16: POC PHONE/CELL | C16: 4233681245
B17: POC EMAIL | C17: nathan.a.bartel.mil@army.mil | F17: Tel:
B20: DELIVERY TO:
B21: 395 George Fraley PKWY Winchester, TN 37398
B25: Any questions, please contact Rhonda Lien @ rhonda.m.lien.civ@army.mil
B26: 615-313-0530
B28: updated 11 MAR 2024 - Rhonda Lien

Sheet BREAKFAST (2)
A1: BREAKFAST MEAL
K2: In vendors restaurant
A3: Breakfast meals shall consist of at least three (3) menus offering a selection of one (1) meat, two (2) eggs, biscuits with gravy or pancakes with syrup, one (1) serving of orange or grape juice, one half (1/2) pint of milk and one (1) serving of coffee.Each serving of meat shall be a minimum of eight (8) ounces, each serving of drinks shall be a minimum of twelve (12) ounces, and all other servings shall be a minimum of four (4) ounces. | K3: Delivered to:
K4: Unit will pick up.
K5: Vendor shall also provide single service items, paper plates, cups plastic flateware and all condiments for the meal.
A6: DELIVERY OF MEALS: 105 | C6: Delivered to: | E6: 395 George Fraley PKWY Winchester, TN 37398
K7: 0
K8: 0.041666667
A9: MEALS SHALL BE SERVED BETWEEN | C9: 0.25 | D9: and | E9: 0.29166667 | K9: 0.083333333
A10: Vendor shall also provide single service items, paper plates, cups plastic flateware and all condiments for the meal. | K10: 0.125
K11: 0.16666667
A12: # DAYS | B12: DATE | C12: QUANTITY | D12: MEAL | E12: PRICE PER MEAL | F12: TOTAL | K12: 0.20833333
A13: 1 | B13: Tuesday, October 20, 2026 | C13: 57 | D13: Breakfast | E13: 0 | F13: =SUM(E13*C13) -> 0 | H13: Column1 | K13: 0.25
A14: 2 | B14: Wednesday, October 21, 2026 | C14: 57 | D14: Breakfast | E14: =E13 -> 0 | F14: =SUM(E14*C14) -> 0 | H14: Breakfast | K14: 0.29166667
A15: 3 | B15: Thursday, October 22, 2026 | C15: 57 | D15: Breakfast | E15: =E14 -> 0 | F15: =SUM(E15*C15) -> 0
A16: 4 | B16: Friday, October 23, 2026 | C16: 57 | D16: Breakfast | E16: =E15 -> 0 | F16: =SUM(E16*C16) -> 0
A17: 5 | B17: Saturday, October 24, 2026 | C17: 57 | D17: Breakfast | E17: =E16 -> 0 | F17: =SUM(E17*C17) -> 0
A18: 6 | B18: Sunday, October 25, 2026 | C18: 57 | D18: Breakfast | E18: =E17 -> 0 | F18: =SUM(E18*C18) -> 0
B19: Monday, October 26, 2026 | C19: 57 | D19: Breakfast | E19: =E18 -> 0 | F19: =SUM(E19*C19) -> 0
B20: Tuesday, October 27, 2026 | C20: 57 | D20: Breakfast | E20: =E19 -> 0 | F20: =SUM(E20*C20) -> 0
B21: Wednesday, October 28, 2026 | C21: 57 | D21: Breakfast | E21: =E20 -> 0 | F21: =SUM(E21*C21) -> 0
B22: Thursday, October 29, 2026 | C22: 57 | D22: Breakfast | E22: =E21 -> 0 | F22: =SUM(E22*C22) -> 0
B23: Friday, October 30, 2026 | C23: 172 | D23: Breakfast | E23: =E22 -> 0 | F23: =SUM(E23*C23) -> 0
F24: =SUM(E24*C24) -> 0
F25: =SUM(E25*C25) -> 0
F26: =SUM(E26*C26) -> 0
F27: =SUM(E27*C27) -> 0
F28: =SUM(E28*C28) -> 0
F29: =SUM(E29*C29) -> 0
F30: =SUM(E30*C30) -> 0
F31: =SUM(E31*C31) -> 0
B32: TOTAL MEALS | C32: =SUM(C13:C31) -> 742 | E32: SUM TOTAL | F32: =SUM(F13:F31) -> 0

Sheet LUNCH (2
A1: LUNCH MEALS
K2: In vendors restaurant
A3: Lunch meals will consist of at least three (3) menus offering a selection of one (1) serving of meat, two (2) servings of vegetables, one (1 ) serving of bread, one (1) serving of desert and one (1) serving of tea, coffee or soda as a beverage. Each serving of meat shall be a minimum of eight (8) ounces, each serving of drinks shall be a minimum of twelve (12) ounces, and all other servings shall be a minimum of four (4) ounces. | K3: Delivered to:
K4: Unit will pick up.
K5: Vendor shall also provide single service items, paper plates, cups plastic flateware and all condiments for the meal.
A6: DELIVERY OF MEALS: 105 | C6: Delivered to: | E6: 395 George Fraley PKWY Winchester, TN 37398
K7: 0
K8: 0.041666667
A9: MEALS SHALL BE SERVED BETWEEN | C9: 0.25 | D9: and | E9: 0.29166667 | K9: 0.083333333
A10: Vendor shall also provide single service items, paper plates, cups plastic flateware and all condiments for the meal. | K10: 0.125
K11: 0.16666667
A12: # DAYS | B12: DATE | C12: QUANTITY | D12: MEAL | E12: PRICE PER MEAL | F12: TOTAL | K12: 0.20833333
A13: 1 | B13: Tuesday, October 20, 2026 | C13: 57 | E13: 0 | F13: =SUM(E13*C13) -> 0 | G13: LUNCH | H13: Column1 | K13: 0.25
A14: 2 | B14: Wednesday, October 21, 2026 | C14: 57 | E14: =E13 -> 0 | F14: =SUM(E14*C14) -> 0 | G14: LUNCH | H14: Breakfast | K14: 0.29166667
A15: 3 | B15: Thursday, October 22, 2026 | C15: 57 | E15: =E14 -> 0 | F15: =SUM(E15*C15) -> 0 | G15: LUNCH
A16: 4 | B16: Friday, October 23, 2026 | C16: 57 | E16: =E15 -> 0 | F16: =SUM(E16*C16) -> 0 | G16: LUNCH
A17: 5 | B17: Saturday, October 24, 2026 | C17: 57 | E17: =E16 -> 0 | F17: =SUM(E17*C17) -> 0 | G17: LUNCH
A18: 6 | B18: Sunday, October 25, 2026 | C18: 57 | E18: =E17 -> 0 | F18: =SUM(E18*C18) -> 0 | G18: LUNCH
A19: 7 | B19: Monday, October 26, 2026 | C19: 57 | E19: =E18 -> 0 | F19: =SUM(E19*C19) -> 0 | G19: LUNCH
A20: 8 | B20: Tuesday, October 27, 2026 | C20: 57 | E20: =E19 -> 0 | F20: =SUM(E20*C20) -> 0 | G20: LUNCH
A21: 9 | B21: Wednesday, October 28, 2026 | C21: 57 | E21: =E20 -> 0 | F21: =SUM(E21*C21) -> 0 | G21: LUNCH
A22: 10 | B22: Thursday, October 29, 2026 | C22: 57 | E22: =E21 -> 0 | F22: =SUM(E22*C22) -> 0 | G22: LUNCH
A23: 11 | B23: Friday, October 30, 2026 | C23: 172 | E23: =E22 -> 0 | F23: =SUM(E23*C23) -> 0 | G23: LUNCH
A24: 12
A25: 13
A26: 14
A27: 15
A28: 16
A29: 17
A30: 18
B32: TOTAL MEALS | C32: =SUM(C13:C31) -> 742 | E32: SUM TOTAL | F32: =SUM(F13:F31) -> 0

Sheet DINNER (2)
A1: DINNER MEALS
K2: In vendors restaurant
A3: Dinner meals will consist of at least three (3) menus offering a selection of one (1) serving of meat, two (2) servings of vegetables, one (1 ) serving of bread, one (1) serving of desert and one (1) serving of tea, coffee or soda as a beverage. Each serving of meat shall be a minimum of eight (8) ounces, each serving of drinks shall be a minimum of twelve (12) ounces, and all other servings shall be a minimum of four (4) ounces. | K3: Delivered to:
K4: Unit will pick up.
K5: Vendor shall also provide single service items, paper plates, cups plastic flateware and all condiments for the meal.
A6: DELIVERY OF MEALS: 105 | C6: Delivered to: | E6: 395 George Fraley PKWY Winchester, TN 37398
K7: 0
K8: 0.041666667
A9: MEALS SHALL BE SERVED BETWEEN | C9: 0.70833333 | D9: and | E9: 0.25 | K9: 0.083333333
A10: =IF(C6=K2," ",K5) -> Vendor shall also provide single service items, paper plates, cups plastic flateware and all condiments for the meal. | K10: 0.125
K11: 0.16666667
A12: # DAYS | B12: DATE | C12: QUANTITY | D12: MEAL | E12: PRICE PER MEAL | F12: TOTAL | K12: 0.20833333
A13: 1 | B13: Monday, October 19, 2026 | C13: 57 | D13: Dinner | E13: 0 | F13: =C13*E13 -> 0 | H13: Column1 | K13: 0.25
A14: 2 | B14: Tuesday, October 20, 2026 | C14: 57 | D14: Dinner | E14: =E13 -> 0 | F14: =C14*E14 -> 0 | H14: Breakfast | K14: 0.29166667
A15: 3 | B15: Wednesday, October 21, 2026 | C15: 57 | D15: Dinner | E15: =E14 -> 0 | F15: =C15*E15 -> 0 | H15: Lunch | K15: 0.33333333
A16: 4 | B16: Thursday, October 22, 2026 | C16: 57 | D16: Dinner | E16: =E15 -> 0 | F16: =C16*E16 -> 0
A17: 5 | B17: Friday, October 23, 2026 | C17: 57 | D17: Dinner | E17: =E16 -> 0 | F17: =C17*E17 -> 0
A18: 6 | B18: Saturday, October 24, 2026 | C18: 57 | D18: Dinner | E18: =E17 -> 0 | F18: =C18*E18 -> 0
A19: 7 | B19: Sunday, October 25, 2026 | C19: 57 | D19: Dinner | E19: =E18 -> 0 | F19: =C19*E19 -> 0
B20: Monday, October 26, 2026 | C20: 57 | D20: Dinner | E20: =E19 -> 0 | F20: =C20*E20 -> 0
B21: Tuesday, October 27, 2026 | C21: 57 | D21: Dinner | E21: =E20 -> 0 | F21: =C21*E21 -> 0
B22: Wednesday, October 28, 2026 | C22: 57 | D22: Dinner | E22: =E21 -> 0 | F22: =C22*E22 -> 0
B23: Thursday, October 29, 2026 | C23: 0 | D23: Dinner | E23: =E22 -> 0 | F23: =C23*E23 -> 0
F31: =C31*E31 -> 0
B32: TOTAL MEALS | C32: =SUM(C13:C31) -> 570 | E32: SUM TOTAL | F32: =SUM(F13:F31) -> 0

Sheet LUNCH (2)
A1: LUNCH
K2: In vendors restaurant
A3: Lunch meals shall consist of at least three (3) menus offering a selection of one (1) serving of meat, two (2) servings of vegetables, one (1) serving of bread, one (1) servin g of desert and one (1) serving of tea, coffee or soda as a beverage. Each serving of meat shall be a minimum of eight (8) ounces, each serving of drinks shall be a minimum of twelve(12) ounces, and all other servings shall be a minimum of four (4) ounces. | K3: Delivered to:
K4: Unit will pick up.
K5: Vendor shall also provide single service items, paper plates, cups plastic flateware and all condiments for the meal.
A6: DELIVERY OF MEALS: 105 | C6: Delivered to:
K7: 0
K8: 0.041666667
A9: MEALS SHALL BE SERVED BETWEEN | C9: 0.45833333 | D9: and | E9: 0.5 | K9: 0.083333333
A10: Vendor shall also provide single service items, paper plates, cups plastic flateware and all condiments for the meal. | K10: 0.125
K11: 0.16666667
A12: # DAYS | B12: DATE | C12: QUANTITY | D12: MEAL | E12: PRICE PER MEAL | F12: TOTAL | K12: 0.20833333
D13: Lunch | E13: 0 | F13: =C13*E13 -> 0 | H13: Column1 | K13: 0.25
D14: Lunch | E14: =E13 -> 0 | F14: =C14*E14 -> 0 | H14: Breakfast | K14: 0.29166667
D15: Lunch | E15: =E14 -> 0 | F15: =C15*E15 -> 0 | H15: Lunch | K15: 0.33333333
F16: =C16*E16 -> 0 | H16: Dinner | K16: 0.375
F17: =C17*E17 -> 0
B18: TOTAL MEALS | C18: =SUM(C13:C17) -> 0 | F18: =SUM(F13:F17) -> 0

Sheet LUNCH (3)
A1: LUNCH
K2: In vendors restaurant
A3: Lunch meals shall consist of at least three (3) menus offering a selection of one (1) serving of meat, two (2) servings of vegetables, one (1) serving of bread, one (1) servin g of desert and one (1) serving of tea, coffee or soda as a beverage. Each serving of meat shall be a minimum of eight (8) ounces, each serving of drinks shall be a minimum of twelve(12) ounces, and all other servings shall be a minimum of four (4) ounces. | K3: Delivered to:
K4: Unit will pick up.
K5: Vendor shall also provide single service items, paper plates, cups plastic flateware and all condiments for the meal.
A6: DELIVERY OF MEALS: 105 | C6: Delivered to:
K7: 0
K8: 0.041666667
A9: MEALS SHALL BE SERVED BETWEEN | C9: 0.45833333 | D9: and | E9: 0.5 | K9: 0.083333333
A10: Vendor shall also provide single service items, paper plates, cups plastic flateware and all condiments for the meal. | K10: 0.125
K11: 0.16666667
A12: # DAYS | B12: DATE | C12: QUANTITY | D12: MEAL | E12: PRICE PER MEAL | F12: TOTAL | K12: 0.20833333
D13: Lunch | E13: 0 | F13: =C13*E13 -> 0 | H13: Column1 | K13: 0.25
D14: Lunch | E14: =E13 -> 0 | F14: =C14*E14 -> 0 | H14: Breakfast | K14: 0.29166667
D15: Lunch | E15: =E14 -> 0 | F15: =C15*E15 -> 0 | H15: Lunch | K15: 0.33333333
F16: =C16*E16 -> 0 | H16: Dinner | K16: 0.375
F17: =C17*E17 -> 0
B18: TOTAL MEALS | C18: =SUM(C13:C17) -> 0 | F18: =SUM(F13:F17) -> 0
