Workbook
Name CategoryLookup: '[1]Check Register'!$B$17:$B$19

Sheet Summary
A1: SOC | B1: 22012 | C1: 21016 | D1: 25105 | E1: 25715 | F1: 25226 | G1: Total
A2: Base Year | B2: ='Base Year'!G14 -> 863750 | C2: ='Base Year'!G18 -> 25000 | D2: ='Base Year'!G30 -> 1005000 | E2: ='Base Year'!G36 -> 200000 | F2: ='Base Year'!G51 -> 95000 | G2: =SUM(B2:F2) -> 2188750
A3: Option Year 1 | B3: ='Option Year 1'!G13 -> 481250 | C3: ='Option Year 1'!G17 -> 26000 | D3: ='Option Year 1'!G29 -> 829000 | E3: ='Option Year 1'!G35 -> 207500 | F3: ='Option Year 1'!G50 -> 98150 | G3: =SUM(B3:F3) -> 1641900
A4: Option Year 2 | B4: ='Option Year 2'!G13 -> 498250 | C4: ='Option Year 2'!G17 -> 27000 | D4: ='Option Year 2'!G29 -> 854250 | E4: ='Option Year 2'!G35 -> 215000 | F4: ='Option Year 2'!G50 -> 101900 | G4: =SUM(B4:F4) -> 1696400
A5: Option Year 3 | B5: ='Option Year 3'!G13 -> 513250 | C5: ='Option Year 3'!G17 -> 27500 | D5: ='Option Year 3'!G29 -> 883125 | E5: ='Option Year 3'!G35 -> 220000 | F5: ='Option Year 3'!G50 -> 105000 | G5: =SUM(B5:F5) -> 1748875
A6: Option Year 4 | B6: ='Option Year 4'!G13 -> 532750 | C6: ='Option Year 4'!G17 -> 28500 | D6: ='Option Year 4'!G29 -> 909500 | E6: ='Option Year 4'!G35 -> 230000 | F6: ='Option Year 4'!G50 -> 108400 | G6: =SUM(B6:F6) -> 1809150
A7: FAR 52.217-8 | B7: ='52.217-8'!G13 -> 266375 | C7: ='52.217-8'!G17 -> 14250 | D7: ='52.217-8'!G29 -> 454750 | E7: ='52.217-8'!G35 -> 115000 | F7: ='52.217-8'!G50 -> 54200 | G7: =SUM(B7:F7) -> 904575
A8: Total | B8: =SUM(B2:B7) -> 3155625 | C8: =SUM(C2:C7) -> 148250 | D8: =SUM(D2:D7) -> 4935625 | E8: =SUM(E2:E7) -> 1187500 | F8: =SUM(F2:F7) -> 562650 | G8: =SUM(G2:G7) -> 9989650

Sheet Base Year
A1: JAAC NATIONAL CONTRACT BASE YEAR
A2: TRANSPORTATION
A3: CLIN | B3: DESCRIPTION | C3: Est. Qty. | D3: Unit | E3: Unit Price | F3: Total Price
A4: 1 | B4: Assets $0 - $5,000
B5: Transportation | C5: 275000 | D5: STO | E5: FFP (TBD) | F5: =ROUND(C5,2) -> 275000
B6: Administrative Fee | D6: Fix Fee | E6: 0.05 | F6: =ROUND(C5*E6,2) -> 13750
A7: 2 | B7: Assets $5,001 or Greater
B8: Transportation | C8: 125000 | D8: STO | E8: FFP (TBD) | F8: =ROUND(C8,2) -> 125000
B9: Administrative Fee | C9: 51 | D9: EA | F9: =ROUND(C9*E9,2) -> 0
A11: 3 | B11: Labor - Direct Contractor | C11: 50 | D11: HR | F11: =ROUND(C11*E11,2) -> 0
A12: 4 | B12: Packaging Services | C12: 50000 | D12: STO | E12: FFP (TBD) | F12: =ROUND(C12,2) -> 50000
A13: 9999 | B13: Initial Relocation of Assets - N/A INCUMBENT AWARD | C13: 400000 | D13: STO | E13: FFP (TBD) | F13: =ROUND(C13,2) -> 400000
A14: SOC | B14: 22012 | G14: =SUM(F4:F13) -> 863750
A15: TRAVEL
A16: CLIN | B16: DESCRIPTION | C16: Est. Qty. | D16: Unit | E16: Unit Price | F16: Total Price
A17: 5 | B17: Travel | C17: 25000 | D17: STO | E17: FFP (TBD) | F17: =ROUND(C17,2) -> 25000
A18: SOC | B18: 21016 | G18: =F17 -> 25000
A19: APPRAISALS SERVICES
A20: CLIN | B20: DESCRIPTION | C20: Est. Qty. | D20: Unit | E20: Unit Price | F20: Total Price
A21: 6 | B21: Certified Appraisal
B22: Apprasal Services | C22: 500000 | D22: STO | E22: FFP (TBD) | F22: =ROUND(C22,2) -> 500000
B23: Administrative Fee | D23: Fix Fee | E23: 0.05 | F23: =ROUND(C22*E23,2) -> 25000
A25: 7 | B25: Legal and Court Testimony | C25: 50 | D25: HR | F25: =ROUND(C25*E25,2) -> 0
A26: 8 | B26: Diamond and Gemstone Certification | C26: 15000 | D26: STO | E26: FFP (TBD) | F26: =ROUND(C26,2) -> 15000
A27: 9 | B27: Consultation Services | C27: 50000 | D27: STO | E27: FFP (TBD) | F27: =ROUND(C27,2) -> 50000
A28: 10 | B28: System Charges | C28: 400000 | D28: STO | E28: FFP (TBD) | F28: =ROUND(C28,2) -> 400000
A29: 11 | B29: Miscellaneous Expenses | C29: 15000 | D29: STO | E29: FFP (TBD) | F29: =ROUND(C29,2) -> 15000
A30: SOC | B30: 25105 | G30: =SUM(F21:F29) -> 1005000
A31: STORAGE
A32: CLIN | B32: DESCRIPTION | C32: Est. Qty. | D32: Unit | E32: Unit Price | F32: Total Price
A33: 12 | B33: Alternate Storage Location | C33: 200000 | D33: STO | E33: FFP (TBD) | F33: =ROUND(C33,2) -> 200000
A34: 13 | B34: Conditioning Services | C34: 100 | D34: HR | F34: =ROUND(C34*E34,2) -> 0
A35: 14 | B35: Inventorying Services | C35: 400 | D35: HR | F35: =ROUND(C35*E35,2) -> 0
A36: SOC | B36: 25715 | G36: =SUM(F33:F35) -> 200000
A37: DISPOSAL
A38: CLIN | B38: DESCRIPTION | C38: Est. Total Sales Per Year | D38: Unit | E38: Unit Price | F38: Total Price
A39: 15 | B39: Commission Online Auction $0-$25,000 | C39: 11000000 | D39: Sales Proceeds | F39: =ROUND(C39*E39,2) -> 0
A40: 16 | B40: Commission Online Auction $25,001-$100,000 | C40: 8300000 | D40: Sales Proceeds | F40: =ROUND(C40*E40,2) -> 0
A41: 17 | B41: Commission Online Auction $100,001+ | C41: 4300000 | D41: Sales Proceeds | F41: =ROUND(C41*E41,2) -> 0
A42: 18 | B42: Commission Live Auction $0-$25,000 | C42: 1000000 | D42: Sales Proceeds | F42: =ROUND(C42*E42,2) -> 0
...

Sheet Option Year 1
A1: JAAC NATIONAL CONTRACT OPTION YEAR 1
A2: TRANSPORTATION
A3: CLIN | B3: DESCRIPTION | C3: Est. Qty. | D3: Unit | E3: Unit Price | F3: Total Price
A4: 1001 | B4: Assets $0 - $5,000
B5: Transportation | C5: 285000 | D5: STO | E5: FFP (TBD) | F5: =ROUND(C5,2) -> 285000
B6: Administrative Fee | D6: Fix Fee | E6: 0.05 | F6: =ROUND(C5*E6,2) -> 14250
A7: 1002 | B7: Assets $5,001 or Greater
B8: Transportation | C8: 130000 | D8: STO | E8: FFP (TBD) | F8: =ROUND(C8,2) -> 130000
B9: Administrative Fee | C9: 51 | D9: EA | F9: =ROUND(C9*E9,2) -> 0
A11: 1003 | B11: Labor - Direct Contractor | C11: 50 | D11: HR | F11: =ROUND(C11*E11,2) -> 0
A12: 1004 | B12: Packaging Services | C12: 52000 | D12: STO | E12: FFP (TBD) | F12: =ROUND(C12,2) -> 52000
A13: SOC | B13: 22012 | G13: =SUM(F4:F12) -> 481250
A14: TRAVEL
A15: CLIN | B15: DESCRIPTION | C15: Est. Qty. | D15: Unit | E15: Unit Price | F15: Total Price
A16: 1005 | B16: Travel | C16: 26000 | D16: STO | E16: FFP (TBD) | F16: =ROUND(C16,2) -> 26000
A17: SOC | B17: 21016 | G17: =F16 -> 26000
A18: APPRAISALS SERVICES
A19: CLIN | B19: DESCRIPTION | C19: Est. Qty. | D19: Unit | E19: Unit Price | F19: Total Price
A20: 1006 | B20: Certified Appraisal
B21: Apprasal Services | C21: 520000 | D21: STO | E21: FFP (TBD) | F21: =ROUND(C21,2) -> 520000
B22: Administrative Fee | D22: Fix Fee | E22: 0.05 | F22: =ROUND(C21*E22,2) -> 26000
A24: 1007 | B24: Legal and Court Testimony | C24: 50 | D24: HR | F24: =ROUND(C24*E24,2) -> 0
A25: 1008 | B25: Diamond and Gemstone Certification | C25: 15500 | D25: STO | E25: FFP (TBD) | F25: =ROUND(C25,2) -> 15500
A26: 1009 | B26: Consultation Services | C26: 52000 | D26: STO | E26: FFP (TBD) | F26: =ROUND(C26,2) -> 52000
A27: 1010 | B27: System Charges | C27: 200000 | D27: STO | E27: FFP (TBD) | F27: =ROUND(C27,2) -> 200000
A28: 1011 | B28: Miscellaneous Expenses | C28: 15500 | D28: STO | E28: FFP (TBD) | F28: =ROUND(C28,2) -> 15500
A29: SOC | B29: 25105 | G29: =SUM(F20:F28) -> 829000
A30: STORAGE
A31: CLIN | B31: DESCRIPTION | C31: Est. Qty. | D31: Unit | E31: Unit Price | F31: Total Price
A32: 1012 | B32: Alternate Storage Location | C32: 207500 | D32: STO | E32: FFP (TBD) | F32: =ROUND(C32,2) -> 207500
A33: 1013 | B33: Conditioning Services | C33: 100 | D33: HR | F33: =ROUND(C33*E33,2) -> 0
A34: 1014 | B34: Inventorying Services | C34: 400 | D34: HR | F34: =ROUND(C34*E34,2) -> 0
A35: SOC | B35: 25715 | G35: =SUM(F32:F34) -> 207500
A36: DISPOSAL
A37: CLIN | B37: DESCRIPTION | C37: Est. Total Sales Per Year | D37: Unit | E37: Unit Price | F37: Total Price
A38: 1015 | B38: Commission Online Auction $0-$25,000 | C38: 11000000 | D38: Sales Proceeds | F38: =ROUND(C38*E38,2) -> 0
A39: 1016 | B39: Commission Online Auction $25,001-$100,000 | C39: 8300000 | D39: Sales Proceeds | F39: =ROUND(C39*E39,2) -> 0
A40: 1017 | B40: Commission Online Auction $100,001+ | C40: 4300000 | D40: Sales Proceeds | F40: =ROUND(C40*E40,2) -> 0
A41: 1018 | B41: Commission Live Auction $0-$25,000 | C41: 1000000 | D41: Sales Proceeds | F41: =ROUND(C41*E41,2) -> 0
A42: 1019 | B42: Commission Live Auction $25,001-$100,000 | C42: 1000000 | D42: Sales Proceeds | F42: =ROUND(C42*E42,2) -> 0
...

Sheet Option Year 2
A1: JAAC NATIONAL CONTRACT OPTION YEAR 2
A2: TRANSPORTATION
A3: CLIN | B3: DESCRIPTION | C3: Est. Qty. | D3: Unit | E3: Unit Price | F3: Total Price
A4: 2001 | B4: Assets $0 - $5,000
B5: Transportation | C5: 295000 | D5: STO | E5: FFP (TBD) | F5: =ROUND(C5,2) -> 295000
B6: Administrative Fee | D6: Fix Fee | E6: 0.05 | F6: =ROUND(C5*E6,2) -> 14750
A7: 2002 | B7: Assets $5,001 or Greater
B8: Transportation | C8: 135000 | D8: STO | E8: FFP (TBD) | F8: =ROUND(C8,2) -> 135000
B9: Administrative Fee | C9: 51 | D9: EA | F9: =ROUND(C9*E9,2) -> 0
A11: 2003 | B11: Labor - Direct Contractor | C11: 50 | D11: HR | F11: =ROUND(C11*E11,2) -> 0
A12: 2004 | B12: Packaging Services | C12: 53500 | D12: STO | E12: FFP (TBD) | F12: =ROUND(C12,2) -> 53500
A13: SOC | B13: 22012 | G13: =SUM(F4:F12) -> 498250
A14: TRAVEL
A15: CLIN | B15: DESCRIPTION | C15: Est. Qty. | D15: Unit | E15: Unit Price | F15: Total Price
A16: 2005 | B16: Travel | C16: 27000 | D16: STO | E16: FFP (TBD) | F16: =ROUND(C16,2) -> 27000
A17: SOC | B17: 21016 | G17: =F16 -> 27000
A18: APPRAISALS SERVICES
A19: CLIN | B19: DESCRIPTION | C19: Est. Qty. | D19: Unit | E19: Unit Price | F19: Total Price
A20: 2006 | B20: Certified Appraisal
B21: Apprasal Services | C21: 535000 | D21: STO | E21: FFP (TBD) | F21: =ROUND(C21,2) -> 535000
B22: Administrative Fee | D22: Fix Fee | E22: 0.05 | F22: =ROUND(C21*E22,2) -> 26750
A24: 2007 | B24: Legal and Court Testimony | C24: 50 | D24: HR | F24: =ROUND(C24*E24,2) -> 0
A25: 2008 | B25: Diamond and Gemstone Certification | C25: 16000 | D25: STO | E25: FFP (TBD) | F25: =ROUND(C25,2) -> 16000
A26: 2009 | B26: Consultation Services | C26: 53500 | D26: STO | E26: FFP (TBD) | F26: =ROUND(C26,2) -> 53500
A27: 2010 | B27: System Charges | C27: 207000 | D27: STO | E27: FFP (TBD) | F27: =ROUND(C27,2) -> 207000
A28: 2011 | B28: Miscellaneous Expenses | C28: 16000 | D28: STO | E28: FFP (TBD) | F28: =ROUND(C28,2) -> 16000
A29: SOC | B29: 25105 | G29: =SUM(F20:F28) -> 854250
A30: STORAGE
A31: CLIN | B31: DESCRIPTION | C31: Est. Qty. | D31: Unit | E31: Unit Price | F31: Total Price
A32: 2012 | B32: Alternate Storage Location | C32: 215000 | D32: STO | E32: FFP (TBD) | F32: =ROUND(C32,2) -> 215000
A33: 2013 | B33: Conditioning Services | C33: 100 | D33: HR | F33: =ROUND(C33*E33,2) -> 0
A34: 2014 | B34: Inventorying Services | C34: 400 | D34: HR | F34: =ROUND(C34*E34,2) -> 0
A35: SOC | B35: 25715 | G35: =SUM(F32:F34) -> 215000
A36: DISPOSAL
A37: CLIN | B37: DESCRIPTION | C37: Est. Total Sales Per Year | D37: Unit | E37: Unit Price | F37: Total Price
A38: 2015 | B38: Commission Online Auction $0-$25,000 | C38: 11000000 | D38: Sales Proceeds | F38: =ROUND(C38*E38,2) -> 0
A39: 2016 | B39: Commission Online Auction $25,001-$100,000 | C39: 8300000 | D39: Sales Proceeds | F39: =ROUND(C39*E39,2) -> 0
A40: 2017 | B40: Commission Online Auction $100,001+ | C40: 4300000 | D40: Sales Proceeds | F40: =ROUND(C40*E40,2) -> 0
A41: 2018 | B41: Commission Live Auction $0-$25,000 | C41: 1000000 | D41: Sales Proceeds | F41: =ROUND(C41*E41,2) -> 0
A42: 2019 | B42: Commission Live Auction $25,001-$100,000 | C42: 1000000 | D42: Sales Proceeds | F42: =ROUND(C42*E42,2) -> 0
...

Sheet Option Year 3
A1: JAAC NATIONAL CONTRACT OPTION YEAR 3
A2: TRANSPORTATION
A3: CLIN | B3: DESCRIPTION | C3: Est. Qty. | D3: Unit | E3: Unit Price | F3: Total Price
A4: 3001 | B4: Assets $0 - $5,000
B5: Transportation | C5: 305000 | D5: STO | E5: FFP (TBD) | F5: =ROUND(C5,2) -> 305000
B6: Administrative Fee | D6: Fix Fee | E6: 0.05 | F6: =ROUND(C5*E6,2) -> 15250
A7: 3002 | B7: Assets $5,001 or Greater
B8: Transportation | C8: 138000 | D8: STO | E8: FFP (TBD) | F8: =ROUND(C8,2) -> 138000
B9: Administrative Fee | C9: 51 | D9: EA | F9: =ROUND(C9*E9,2) -> 0
A11: 3003 | B11: Labor - Direct Contractor | C11: 50 | D11: HR | F11: =ROUND(C11*E11,2) -> 0
A12: 3004 | B12: Packaging Services | C12: 55000 | D12: STO | E12: FFP (TBD) | F12: =ROUND(C12,2) -> 55000
A13: SOC | B13: 22012 | G13: =SUM(F4:F12) -> 513250
A14: TRAVEL
A15: CLIN | B15: DESCRIPTION | C15: Est. Qty. | D15: Unit | E15: Unit Price | F15: Total Price
A16: 3005 | B16: Travel | C16: 27500 | D16: STO | E16: FFP (TBD) | F16: =ROUND(C16,2) -> 27500
A17: SOC | B17: 21016 | G17: =F16 -> 27500
A18: APPRAISALS SERVICES
A19: CLIN | B19: DESCRIPTION | C19: Est. Qty. | D19: Unit | E19: Unit Price | F19: Total Price
A20: 3006 | B20: Certified Appraisal
B21: Apprasal Services | C21: 552500 | D21: STO | E21: FFP (TBD) | F21: =ROUND(C21,2) -> 552500
B22: Administrative Fee | D22: Fix Fee | E22: 0.05 | F22: =ROUND(C21*E22,2) -> 27625
A24: 3007 | B24: Legal and Court Testimony | C24: 50 | D24: HR | F24: =ROUND(C24*E24,2) -> 0
A25: 3008 | B25: Diamond and Gemstone Certification | C25: 16500 | D25: STO | E25: FFP (TBD) | F25: =ROUND(C25,2) -> 16500
A26: 3009 | B26: Consultation Services | C26: 55000 | D26: STO | E26: FFP (TBD) | F26: =ROUND(C26,2) -> 55000
A27: 3010 | B27: System Charges | C27: 215000 | D27: STO | E27: FFP (TBD) | F27: =ROUND(C27,2) -> 215000
A28: 3011 | B28: Miscellaneous Expenses | C28: 16500 | D28: STO | E28: FFP (TBD) | F28: =ROUND(C28,2) -> 16500
A29: SOC | B29: 25105 | G29: =SUM(F20:F28) -> 883125
A30: STORAGE
A31: CLIN | B31: DESCRIPTION | C31: Est. Qty. | D31: Unit | E31: Unit Price | F31: Total Price
A32: 3012 | B32: Alternate Storage Location | C32: 220000 | D32: STO | E32: FFP (TBD) | F32: =ROUND(C32,2) -> 220000
A33: 3013 | B33: Conditioning Services | C33: 100 | D33: HR | F33: =ROUND(C33*E33,2) -> 0
A34: 3014 | B34: Inventorying Services | C34: 400 | D34: HR | F34: =ROUND(C34*E34,2) -> 0
A35: SOC | B35: 25715 | G35: =SUM(F32:F34) -> 220000
A36: DISPOSAL
A37: CLIN | B37: DESCRIPTION | C37: Est. Total Sales Per Year | D37: Unit | E37: Unit Price | F37: Total Price
A38: 3015 | B38: Commission Online Auction $0-$25,000 | C38: 11000000 | D38: Sales Proceeds | F38: =ROUND(C38*E38,2) -> 0
A39: 3016 | B39: Commission Online Auction $25,001-$100,000 | C39: 8300000 | D39: Sales Proceeds | F39: =ROUND(C39*E39,2) -> 0
A40: 3017 | B40: Commission Online Auction $100,001+ | C40: 4300000 | D40: Sales Proceeds | F40: =ROUND(C40*E40,2) -> 0
A41: 3018 | B41: Commission Live Auction $0-$25,000 | C41: 1000000 | D41: Sales Proceeds | F41: =ROUND(C41*E41,2) -> 0
A42: 3019 | B42: Commission Live Auction $25,001-$100,000 | C42: 1000000 | D42: Sales Proceeds | F42: =ROUND(C42*E42,2) -> 0
...

Sheet Option Year 4
A1: JAAC NATIONAL CONTRACT OPTION YEAR 4
A2: TRANSPORTATION
A3: CLIN | B3: DESCRIPTION | C3: Est. Qty. | D3: Unit | E3: Unit Price | F3: Total Price
A4: 4001 | B4: Assets $0 - $5,000
B5: Transportation | C5: 315000 | D5: STO | E5: FFP (TBD) | F5: =ROUND(C5,2) -> 315000
B6: Administrative Fee | D6: Fix Fee | E6: 0.05 | F6: =ROUND(C5*E6,2) -> 15750
A7: 4002 | B7: Assets $5,001 or Greater
B8: Transportation | C8: 145000 | D8: STO | E8: FFP (TBD) | F8: =ROUND(C8,2) -> 145000
B9: Administrative Fee | C9: 51 | D9: EA | F9: =ROUND(C9*E9,2) -> 0
A11: 4003 | B11: Labor - Direct Contractor | C11: 50 | D11: HR | F11: =ROUND(C11*E11,2) -> 0
A12: 4004 | B12: Packaging Services | C12: 57000 | D12: STO | E12: FFP (TBD) | F12: =ROUND(C12,2) -> 57000
A13: SOC | B13: 22012 | G13: =SUM(F4:F12) -> 532750
A14: TRAVEL
A15: CLIN | B15: DESCRIPTION | C15: Est. Qty. | D15: Unit | E15: Unit Price | F15: Total Price
A16: 4005 | B16: Travel | C16: 28500 | D16: STO | E16: FFP (TBD) | F16: =ROUND(C16,2) -> 28500
A17: SOC | B17: 21016 | G17: =F16 -> 28500
A18: APPRAISALS SERVICES
A19: CLIN | B19: DESCRIPTION | C19: Est. Qty. | D19: Unit | E19: Unit Price | F19: Total Price
A20: 4006 | B20: Certified Appraisal
B21: Apprasal Services | C21: 570000 | D21: STO | E21: FFP (TBD) | F21: =ROUND(C21,2) -> 570000
B22: Administrative Fee | D22: Fix Fee | E22: 0.05 | F22: =ROUND(C21*E22,2) -> 28500
A24: 4007 | B24: Legal and Court Testimony | C24: 50 | D24: HR | F24: =ROUND(C24*E24,2) -> 0
A25: 4008 | B25: Diamond and Gemstone Certification | C25: 17000 | D25: STO | E25: FFP (TBD) | F25: =ROUND(C25,2) -> 17000
A26: 4009 | B26: Consultation Services | C26: 57000 | D26: STO | E26: FFP (TBD) | F26: =ROUND(C26,2) -> 57000
A27: 4010 | B27: System Charges | C27: 220000 | D27: STO | E27: FFP (TBD) | F27: =ROUND(C27,2) -> 220000
A28: 4011 | B28: Miscellaneous Expenses | C28: 17000 | D28: STO | E28: FFP (TBD) | F28: =ROUND(C28,2) -> 17000
A29: SOC | B29: 25105 | G29: =SUM(F20:F28) -> 909500
A30: STORAGE
A31: CLIN | B31: DESCRIPTION | C31: Est. Qty. | D31: Unit | E31: Unit Price | F31: Total Price
A32: 4012 | B32: Alternate Storage Location | C32: 230000 | D32: STO | E32: FFP (TBD) | F32: =ROUND(C32,2) -> 230000
A33: 4013 | B33: Conditioning Services | C33: 100 | D33: HR | F33: =ROUND(C33*E33,2) -> 0
A34: 4014 | B34: Inventorying Services | C34: 400 | D34: HR | F34: =ROUND(C34*E34,2) -> 0
A35: SOC | B35: 25715 | G35: =SUM(F32:F34) -> 230000
A36: DISPOSAL
A37: CLIN | B37: DESCRIPTION | C37: Est. Total Sales Per Year | D37: Unit | E37: Unit Price | F37: Total Price
A38: 4015 | B38: Commission Online Auction $0-$25,000 | C38: 11000000 | D38: Sales Proceeds | F38: =ROUND(C38*E38,2) -> 0
A39: 4016 | B39: Commission Online Auction $25,001-$100,000 | C39: 8300000 | D39: Sales Proceeds | F39: =ROUND(C39*E39,2) -> 0
A40: 4017 | B40: Commission Online Auction $100,001+ | C40: 4300000 | D40: Sales Proceeds | F40: =ROUND(C40*E40,2) -> 0
A41: 4018 | B41: Commission Live Auction $0-$25,000 | C41: 1000000 | D41: Sales Proceeds | F41: =ROUND(C41*E41,2) -> 0
A42: 4019 | B42: Commission Live Auction $25,001-$100,000 | C42: 1000000 | D42: Sales Proceeds | F42: =ROUND(C42*E42,2) -> 0
...

Sheet 52.217-8
A1: JAAC NATIONAL CONTRACT 52.217-8
A2: TRANSPORTATION
A3: CLIN | B3: DESCRIPTION | C3: Est. Qty. | D3: Unit | E3: Unit Price | F3: Total Price
A4: 5001 | B4: Assets $0 - $5,000
B5: Transportation | C5: =ROUNDUP('Option Year 4'!C5/2,0) -> 157500 | D5: STO | E5: FFP (TBD) | F5: =ROUND(C5,2) -> 157500
B6: Administrative Fee | D6: Fix Fee | E6: ='Option Year 4'!E6 -> 0.05 | F6: =ROUND(C5*E6,2) -> 7875
A7: 5002 | B7: Assets $5,001 or Greater
B8: Transportation | C8: =ROUNDUP('Option Year 4'!C8/2,0) -> 72500 | D8: STO | E8: FFP (TBD) | F8: =ROUND(C8,2) -> 72500
B9: Administrative Fee | C9: =ROUNDUP('Option Year 4'!C9/2,0) -> 26 | D9: EA | E9: ='Option Year 4'!E9 -> 0 | F9: =ROUND(C9*E9,2) -> 0
A11: 5003 | B11: Labor - Direct Contractor | C11: =ROUNDUP('Option Year 4'!C11/2,0) -> 25 | D11: HR | E11: ='Option Year 4'!E11 -> 0 | F11: =ROUND(C11*E11,2) -> 0
A12: 5004 | B12: Packaging Services | C12: =ROUNDUP('Option Year 4'!C12/2,0) -> 28500 | D12: STO | E12: FFP (TBD) | F12: =ROUND(C12,2) -> 28500
A13: SOC | B13: 22012 | G13: =SUM(F4:F12) -> 266375
A14: TRAVEL
A15: CLIN | B15: DESCRIPTION | C15: Est. Qty. | D15: Unit | E15: Unit Price | F15: Total Price
A16: 5005 | B16: Travel | C16: =ROUNDUP('Option Year 4'!C16/2,0) -> 14250 | D16: STO | E16: FFP (TBD) | F16: =ROUND(C16,2) -> 14250
A17: SOC | B17: 21016 | G17: =F16 -> 14250
A18: APPRAISALS SERVICES
A19: CLIN | B19: DESCRIPTION | C19: Est. Qty. | D19: Unit | E19: Unit Price | F19: Total Price
A20: 5006 | B20: Certified Appraisal
B21: Apprasal Services | C21: =ROUNDUP('Option Year 4'!C21/2,0) -> 285000 | D21: STO | E21: FFP (TBD) | F21: =ROUND(C21,2) -> 285000
B22: Administrative Fee | D22: Fix Fee | E22: ='Option Year 4'!E22 -> 0.05 | F22: =ROUND(C21*E22,2) -> 14250
A24: 5007 | B24: Legal and Court Testimony | C24: =ROUNDUP('Option Year 4'!C24/2,0) -> 25 | D24: HR | E24: ='Option Year 4'!E24 -> 0 | F24: =ROUND(C24*E24,2) -> 0
A25: 5008 | B25: Diamond and Gemstone Certification | C25: =ROUNDUP('Option Year 4'!C25/2,0) -> 8500 | D25: STO | E25: FFP (TBD) | F25: =ROUND(C25,2) -> 8500
A26: 5009 | B26: Consultation Services | C26: =ROUNDUP('Option Year 4'!C26/2,0) -> 28500 | D26: STO | E26: FFP (TBD) | F26: =ROUND(C26,2) -> 28500
A27: 5010 | B27: System Charges | C27: =ROUNDUP('Option Year 4'!C27/2,0) -> 110000 | D27: STO | E27: FFP (TBD) | F27: =ROUND(C27,2) -> 110000
A28: 5011 | B28: Miscellaneous Expenses | C28: =ROUNDUP('Option Year 4'!C28/2,0) -> 8500 | D28: STO | E28: FFP (TBD) | F28: =ROUND(C28,2) -> 8500
A29: SOC | B29: 25105 | G29: =SUM(F20:F28) -> 454750
A30: STORAGE
A31: CLIN | B31: DESCRIPTION | C31: Est. Qty. | D31: Unit | E31: Unit Price | F31: Total Price
A32: 5012 | B32: Alternate Storage Location | C32: =ROUNDUP('Option Year 4'!C32/2,0) -> 115000 | D32: STO | E32: FFP (TBD) | F32: =ROUND(C32,2) -> 115000
A33: 5013 | B33: Conditioning Services | C33: =ROUNDUP('Option Year 4'!C33/2,0) -> 50 | D33: HR | E33: ='Option Year 4'!E33 -> 0 | F33: =ROUND(C33*E33,2) -> 0
A34: 5014 | B34: Inventorying Services | C34: =ROUNDUP('Option Year 4'!C34/2,0) -> 200 | D34: HR | E34: ='Option Year 4'!E34 -> 0 | F34: =ROUND(C34*E34,2) -> 0
A35: SOC | B35: 25715 | G35: =SUM(F32:F34) -> 115000
A36: DISPOSAL
A37: CLIN | B37: DESCRIPTION | C37: Est. Total Sales Per Year | D37: Unit | E37: Unit Price | F37: Total Price
A38: 5015 | B38: Commission Online Auction $0-$25,000 | C38: =ROUNDUP('Option Year 4'!C38/2,0) -> 5500000 | D38: Sales Proceeds | E38: ='Option Year 4'!E38 -> 0 | F38: =ROUND(C38*E38,2) -> 0
A39: 5016 | B39: Commission Online Auction $25,001-$100,000 | C39: =ROUNDUP('Option Year 4'!C39/2,0) -> 4150000 | D39: Sales Proceeds | E39: ='Option Year 4'!E39 -> 0 | F39: =ROUND(C39*E39,2) -> 0
A40: 5017 | B40: Commission Online Auction $100,001+ | C40: =ROUNDUP('Option Year 4'!C40/2,0) -> 2150000 | D40: Sales Proceeds | E40: ='Option Year 4'!E40 -> 0 | F40: =ROUND(C40*E40,2) -> 0
A41: 5018 | B41: Commission Live Auction $0-$25,000 | C41: =ROUNDUP('Option Year 4'!C41/2,0) -> 500000 | D41: Sales Proceeds | E41: ='Option Year 4'!E41 -> 0 | F41: =ROUND(C41*E41,2) -> 0
A42: 5019 | B42: Commission Live Auction $25,001-$100,000 | C42: =ROUNDUP('Option Year 4'!C42/2,0) -> 500000 | D42: Sales Proceeds | E42: ='Option Year 4'!E42 -> 0 | F42: =ROUND(C42*E42,2) -> 0
...

Sheet DataPull
A1: Year | B1: SOC | C1: SECTION | D1: CLIN | E1: DESCRIPTION | F1: Est. Qty. | G1: Unit | H1: Unit Price | I1: Total Price
A2: BY | B2: ='Base Year'!B14 -> 22012 | C2: ='Base Year'!A2 -> TRANSPORTATION | D2: ='Base Year'!A4 -> 1 | E2: ='Base Year'!B4&" - "&'Base Year'!B5 -> Assets $0 - $5,000 - Transportation | F2: ='Base Year'!C5 -> 275000 | G2: ='Base Year'!D5 -> STO | H2: ='Base Year'!E5 -> FFP (TBD) | I2: ='Base Year'!F5 -> 275000
A3: BY | B3: ='Base Year'!B14 -> 22012 | C3: ='Base Year'!A2 -> TRANSPORTATION | D3: ='Base Year'!A4 -> 1 | E3: ='Base Year'!B4&" - "&'Base Year'!B6 -> Assets $0 - $5,000 - Administrative Fee | G3: ='Base Year'!D6 -> Fix Fee | H3: ='Base Year'!E6 -> 0.05 | I3: ='Base Year'!F6 -> 13750
A4: BY | B4: ='Base Year'!B14 -> 22012 | C4: ='Base Year'!A2 -> TRANSPORTATION | D4: ='Base Year'!A7 -> 2 | E4: ='Base Year'!B7&" - "&'Base Year'!B8 -> Assets $5,001 or Greater - Transportation | F4: ='Base Year'!C8 -> 125000 | G4: ='Base Year'!D8 -> STO | H4: ='Base Year'!E8 -> FFP (TBD) | I4: ='Base Year'!F8 -> 125000
A5: BY | B5: ='Base Year'!B14 -> 22012 | C5: ='Base Year'!A2 -> TRANSPORTATION | D5: ='Base Year'!A7 -> 2 | E5: ='Base Year'!B7&" - "&'Base Year'!B9 -> Assets $5,001 or Greater - Administrative Fee | F5: ='Base Year'!C9 -> 51 | G5: ='Base Year'!D9 -> EA | H5: ='Base Year'!E9 -> 0 | I5: ='Base Year'!F9 -> 0
A6: BY | B6: ='Base Year'!B14 -> 22012 | C6: ='Base Year'!A2 -> TRANSPORTATION | D6: ='Base Year'!A11 -> 3 | E6: ='Base Year'!B11 -> Labor - Direct Contractor | F6: ='Base Year'!C11 -> 50 | G6: ='Base Year'!D11 -> HR | H6: ='Base Year'!E11 -> 0 | I6: ='Base Year'!F11 -> 0
A7: BY | B7: ='Base Year'!B14 -> 22012 | C7: ='Base Year'!A2 -> TRANSPORTATION | D7: ='Base Year'!A12 -> 4 | E7: ='Base Year'!B12 -> Packaging Services | F7: ='Base Year'!C12 -> 50000 | G7: ='Base Year'!D12 -> STO | H7: ='Base Year'!E12 -> FFP (TBD) | I7: ='Base Year'!F12 -> 50000
A8: BY | B8: ='Base Year'!B14 -> 22012 | C8: ='Base Year'!A2 -> TRANSPORTATION | D8: ='Base Year'!A13 -> 9999 | E8: ='Base Year'!B13 -> Initial Relocation of Assets - N/A INCUMBENT AWARD | F8: ='Base Year'!C13 -> 400000 | G8: ='Base Year'!D13 -> STO | H8: ='Base Year'!E13 -> FFP (TBD) | I8: ='Base Year'!F13 -> 400000
A9: BY | B9: ='Base Year'!B18 -> 21016 | C9: ='Base Year'!A15 -> TRAVEL | D9: ='Base Year'!A17 -> 5 | E9: ='Base Year'!B17 -> Travel | F9: ='Base Year'!C17 -> 25000 | G9: ='Base Year'!D17 -> STO | H9: ='Base Year'!E17 -> FFP (TBD) | I9: ='Base Year'!F17 -> 25000
A10: BY | B10: ='Base Year'!B30 -> 25105 | C10: ='Base Year'!A19 -> APPRAISALS SERVICES | D10: ='Base Year'!A21 -> 6 | E10: ='Base Year'!B21&" - "&'Base Year'!B22 -> Certified Appraisal - Apprasal Services | F10: ='Base Year'!C22 -> 500000 | G10: ='Base Year'!D22 -> STO | H10: ='Base Year'!E22 -> FFP (TBD) | I10: ='Base Year'!F22 -> 500000
A11: BY | B11: ='Base Year'!B30 -> 25105 | C11: ='Base Year'!A19 -> APPRAISALS SERVICES | D11: ='Base Year'!A21 -> 6 | E11: ='Base Year'!B21&" - "&'Base Year'!B23 -> Certified Appraisal - Administrative Fee | G11: ='Base Year'!D23 -> Fix Fee | H11: ='Base Year'!E23 -> 0.05 | I11: ='Base Year'!F23 -> 25000
A12: BY | B12: ='Base Year'!B30 -> 25105 | C12: ='Base Year'!A19 -> APPRAISALS SERVICES | D12: ='Base Year'!A25 -> 7 | E12: ='Base Year'!B25 -> Legal and Court Testimony | F12: ='Base Year'!C25 -> 50 | G12: ='Base Year'!D25 -> HR | H12: ='Base Year'!E25 -> 0 | I12: ='Base Year'!F25 -> 0
A13: BY | B13: ='Base Year'!B30 -> 25105 | C13: ='Base Year'!A19 -> APPRAISALS SERVICES | D13: ='Base Year'!A26 -> 8 | E13: ='Base Year'!B26 -> Diamond and Gemstone Certification | F13: ='Base Year'!C26 -> 15000 | G13: ='Base Year'!D26 -> STO | H13: ='Base Year'!E26 -> FFP (TBD) | I13: ='Base Year'!F26 -> 15000
A14: BY | B14: ='Base Year'!B30 -> 25105 | C14: ='Base Year'!A19 -> APPRAISALS SERVICES | D14: ='Base Year'!A27 -> 9 | E14: ='Base Year'!B27 -> Consultation Services | F14: ='Base Year'!C27 -> 50000 | G14: ='Base Year'!D27 -> STO | H14: ='Base Year'!E27 -> FFP (TBD) | I14: ='Base Year'!F27 -> 50000
A15: BY | B15: ='Base Year'!B30 -> 25105 | C15: ='Base Year'!A19 -> APPRAISALS SERVICES | D15: ='Base Year'!A28 -> 10 | E15: ='Base Year'!B28 -> System Charges | F15: ='Base Year'!C28 -> 400000 | G15: ='Base Year'!D28 -> STO | H15: ='Base Year'!E28 -> FFP (TBD) | I15: ='Base Year'!F28 -> 400000
A16: BY | B16: ='Base Year'!B30 -> 25105 | C16: ='Base Year'!A19 -> APPRAISALS SERVICES | D16: ='Base Year'!A29 -> 11 | E16: ='Base Year'!B29 -> Miscellaneous Expenses | F16: ='Base Year'!C29 -> 15000 | G16: ='Base Year'!D29 -> STO | H16: ='Base Year'!E29 -> FFP (TBD) | I16: ='Base Year'!F29 -> 15000
A17: BY | B17: ='Base Year'!B36 -> 25715 | C17: ='Base Year'!A31 -> STORAGE | D17: ='Base Year'!A33 -> 12 | E17: ='Base Year'!B33 -> Alternate Storage Location | F17: ='Base Year'!C33 -> 200000 | G17: ='Base Year'!D33 -> STO | H17: ='Base Year'!E33 -> FFP (TBD) | I17: ='Base Year'!F33 -> 200000
A18: BY | B18: ='Base Year'!B36 -> 25715 | C18: ='Base Year'!A31 -> STORAGE | D18: ='Base Year'!A34 -> 13 | E18: ='Base Year'!B34 -> Conditioning Services | F18: ='Base Year'!C34 -> 100 | G18: ='Base Year'!D34 -> HR | H18: ='Base Year'!E34 -> 0 | I18: ='Base Year'!F34 -> 0
A19: BY | B19: ='Base Year'!B36 -> 25715 | C19: ='Base Year'!A31 -> STORAGE | D19: ='Base Year'!A35 -> 14 | E19: ='Base Year'!B35 -> Inventorying Services | F19: ='Base Year'!C35 -> 400 | G19: ='Base Year'!D35 -> HR | H19: ='Base Year'!E35 -> 0 | I19: ='Base Year'!F35 -> 0
A20: BY | B20: ='Base Year'!B51 -> 25226 | C20: ='Base Year'!A37 -> DISPOSAL | D20: ='Base Year'!A39 -> 15 | E20: ='Base Year'!B39 -> Commission Online Auction $0-$25,000 | F20: ='Base Year'!C39 -> 11000000 | G20: ='Base Year'!D39 -> Sales Proceeds | H20: ='Base Year'!E39 -> 0 | I20: ='Base Year'!F39 -> 0
A21: BY | B21: ='Base Year'!B51 -> 25226 | C21: ='Base Year'!A37 -> DISPOSAL | D21: ='Base Year'!A40 -> 16 | E21: ='Base Year'!B40 -> Commission Online Auction $25,001-$100,000 | F21: ='Base Year'!C40 -> 8300000 | G21: ='Base Year'!D40 -> Sales Proceeds | H21: ='Base Year'!E40 -> 0 | I21: ='Base Year'!F40 -> 0
A22: BY | B22: ='Base Year'!B51 -> 25226 | C22: ='Base Year'!A37 -> DISPOSAL | D22: ='Base Year'!A41 -> 17 | E22: ='Base Year'!B41 -> Commission Online Auction $100,001+ | F22: ='Base Year'!C41 -> 4300000 | G22: ='Base Year'!D41 -> Sales Proceeds | H22: ='Base Year'!E41 -> 0 | I22: ='Base Year'!F41 -> 0
A23: BY | B23: ='Base Year'!B51 -> 25226 | C23: ='Base Year'!A37 -> DISPOSAL | D23: ='Base Year'!A42 -> 18 | E23: ='Base Year'!B42 -> Commission Live Auction $0-$25,000 | F23: ='Base Year'!C42 -> 1000000 | G23: ='Base Year'!D42 -> Sales Proceeds | H23: ='Base Year'!E42 -> 0 | I23: ='Base Year'!F42 -> 0
A24: BY | B24: ='Base Year'!B51 -> 25226 | C24: ='Base Year'!A37 -> DISPOSAL | D24: ='Base Year'!A43 -> 19 | E24: ='Base Year'!B43 -> Commission Live Auction $25,001-$100,000 | F24: ='Base Year'!C43 -> 1000000 | G24: ='Base Year'!D43 -> Sales Proceeds | H24: ='Base Year'!E43 -> 0 | I24: ='Base Year'!F43 -> 0
A25: BY | B25: ='Base Year'!B51 -> 25226 | C25: ='Base Year'!A37 -> DISPOSAL | D25: ='Base Year'!A44 -> 20 | E25: ='Base Year'!B44 -> Commission Live Auction $100,001+ | F25: ='Base Year'!C44 -> 1500000 | G25: ='Base Year'!D44 -> Sales Proceeds | H25: ='Base Year'!E44 -> 0 | I25: ='Base Year'!F44 -> 0
A26: BY | B26: ='Base Year'!B51 -> 25226 | C26: ='Base Year'!A37 -> DISPOSAL | D26: ='Base Year'!A45 -> 21 | E26: ='Base Year'!B45 -> Smelting | F26: ='Base Year'!C45 -> 25000 | G26: ='Base Year'!D45 -> Sales Proceeds | H26: ='Base Year'!E45 -> 0 | I26: ='Base Year'!F45 -> 0
A27: BY | B27: ='Base Year'!B51 -> 25226 | C27: ='Base Year'!A37 -> DISPOSAL | D27: ='Base Year'!A47 -> 22 | E27: ='Base Year'!B47 -> Daily Sales Facilitation Fee | F27: ='Base Year'!C47 -> 5 | G27: ='Base Year'!D47 -> EA | H27: ='Base Year'!E47 -> 0 | I27: ='Base Year'!F47 -> 0
A28: BY | B28: ='Base Year'!B51 -> 25226 | C28: ='Base Year'!A37 -> DISPOSAL | D28: ='Base Year'!A48 -> 23 | E28: ='Base Year'!B48 -> EFT Fees | F28: ='Base Year'!C48 -> 5000 | G28: ='Base Year'!D48 -> STO | H28: ='Base Year'!E48 -> FFP (TBD) | I28: ='Base Year'!F48 -> 5000
A29: BY | B29: ='Base Year'!B51 -> 25226 | C29: ='Base Year'!A37 -> DISPOSAL | D29: ='Base Year'!A49 -> 24 | E29: ='Base Year'!B49 -> Live Auction Venue | F29: ='Base Year'!C49 -> 50000 | G29: ='Base Year'!D49 -> STO | H29: ='Base Year'!E49 -> FFP (TBD) | I29: ='Base Year'!F49 -> 50000
A30: BY | B30: ='Base Year'!B51 -> 25226 | C30: ='Base Year'!A37 -> DISPOSAL | D30: ='Base Year'!A50 -> 25 | E30: ='Base Year'!B50 -> Destruction | F30: ='Base Year'!C50 -> 40000 | G30: ='Base Year'!D50 -> STO | H30: ='Base Year'!E50 -> FFP (TBD) | I30: ='Base Year'!F50 -> 40000
A31: OY1 | B31: ='Option Year 1'!B13 -> 22012 | C31: ='Option Year 1'!A2 -> TRANSPORTATION | D31: ='Option Year 1'!A4 -> 1001 | E31: ='Option Year 1'!B4&" - "&'Option Year 1'!B5 -> Assets $0 - $5,000 - Transportation | F31: ='Option Year 1'!C5 -> 285000 | G31: ='Option Year 1'!D5 -> STO | H31: ='Option Year 1'!E5 -> FFP (TBD) | I31: ='Option Year 1'!F5 -> 285000
A32: OY1 | B32: ='Option Year 1'!B13 -> 22012 | C32: ='Option Year 1'!A2 -> TRANSPORTATION | D32: ='Option Year 1'!A4 -> 1001 | E32: ='Option Year 1'!B4&" - "&'Option Year 1'!B6 -> Assets $0 - $5,000 - Administrative Fee | G32: ='Option Year 1'!D6 -> Fix Fee | H32: ='Option Year 1'!E6 -> 0.05 | I32: ='Option Year 1'!F6 -> 14250
A33: OY1 | B33: ='Option Year 1'!B13 -> 22012 | C33: ='Option Year 1'!A2 -> TRANSPORTATION | D33: ='Option Year 1'!A7 -> 1002 | E33: ='Option Year 1'!B7&" - "&'Option Year 1'!B8 -> Assets $5,001 or Greater - Transportation | F33: ='Option Year 1'!C8 -> 130000 | G33: ='Option Year 1'!D8 -> STO | H33: ='Option Year 1'!E8 -> FFP (TBD) | I33: ='Option Year 1'!F8 -> 130000
A34: OY1 | B34: ='Option Year 1'!B13 -> 22012 | C34: ='Option Year 1'!A2 -> TRANSPORTATION | D34: ='Option Year 1'!A7 -> 1002 | E34: ='Option Year 1'!B7&" - "&'Option Year 1'!B9 -> Assets $5,001 or Greater - Administrative Fee | F34: ='Option Year 1'!C9 -> 51 | G34: ='Option Year 1'!D9 -> EA | H34: ='Option Year 1'!E9 -> 0 | I34: ='Option Year 1'!F9 -> 0
A35: OY1 | B35: ='Option Year 1'!B13 -> 22012 | C35: ='Option Year 1'!A2 -> TRANSPORTATION | D35: ='Option Year 1'!A11 -> 1003 | E35: ='Option Year 1'!B11 -> Labor - Direct Contractor | F35: ='Option Year 1'!C11 -> 50 | G35: ='Option Year 1'!D11 -> HR | H35: ='Option Year 1'!E11 -> 0 | I35: ='Option Year 1'!F11 -> 0
A36: OY1 | B36: ='Option Year 1'!B13 -> 22012 | C36: ='Option Year 1'!A2 -> TRANSPORTATION | D36: ='Option Year 1'!A12 -> 1004 | E36: ='Option Year 1'!B12 -> Packaging Services | F36: ='Option Year 1'!C12 -> 52000 | G36: ='Option Year 1'!D12 -> STO | H36: ='Option Year 1'!E12 -> FFP (TBD) | I36: ='Option Year 1'!F12 -> 52000
A37: OY1 | B37: ='Option Year 1'!B17 -> 21016 | C37: ='Option Year 1'!A14 -> TRAVEL | D37: ='Option Year 1'!A16 -> 1005 | E37: ='Option Year 1'!B16 -> Travel | F37: ='Option Year 1'!C16 -> 26000 | G37: ='Option Year 1'!D16 -> STO | H37: ='Option Year 1'!E16 -> FFP (TBD) | I37: ='Option Year 1'!F16 -> 26000
A38: OY1 | B38: ='Option Year 1'!B29 -> 25105 | C38: ='Option Year 1'!A18 -> APPRAISALS SERVICES | D38: ='Option Year 1'!A20 -> 1006 | E38: ='Option Year 1'!B20&" - "&'Option Year 1'!B21 -> Certified Appraisal - Apprasal Services | F38: ='Option Year 1'!C21 -> 520000 | G38: ='Option Year 1'!D21 -> STO | H38: ='Option Year 1'!E21 -> FFP (TBD) | I38: ='Option Year 1'!F21 -> 520000
A39: OY1 | B39: ='Option Year 1'!B29 -> 25105 | C39: ='Option Year 1'!A18 -> APPRAISALS SERVICES | D39: ='Option Year 1'!A24 -> 1007 | E39: ='Option Year 1'!B20&" - "&'Option Year 1'!B22 -> Certified Appraisal - Administrative Fee | G39: ='Option Year 1'!D22 -> Fix Fee | H39: ='Option Year 1'!E22 -> 0.05 | I39: ='Option Year 1'!F22 -> 26000
A40: OY1 | B40: ='Option Year 1'!B29 -> 25105 | C40: ='Option Year 1'!A18 -> APPRAISALS SERVICES | D40: ='Option Year 1'!A25 -> 1008 | E40: ='Option Year 1'!B25 -> Diamond and Gemstone Certification | F40: ='Option Year 1'!C24 -> 50 | G40: ='Option Year 1'!D24 -> HR | H40: ='Option Year 1'!E24 -> 0 | I40: ='Option Year 1'!F24 -> 0
...
