Workbook

Sheet MASTER
A1: DATE:
A3: FROM: | B3: FLEET LOGISTICS CENTER PEARL HARBOR
B4: JPPSO-HAWAII (CODE 448)
B5: 4825 BOUGAINVILLE DRIVE
B6: HONOLULU, HI 96818
A8: TO: | B8: NAVY ALOHA CENTER | H8: (M/L)
B9: 988 SPENCE STREET, BLDG 2652
B10: CODE: NHB
B11: HONOLULU, HI 96818
A12: SUBJ: | B12: Set-Off Action for:
F13: (Contractor) | K13: (Contract No)
A15: ENCL.: | B15: ( 1 ) | C15: DD FORM 2772, Contracting Report No:
K16: (Service Order No.)
B18: ( 2 ) | C18: Copy of Invoice number:
C19: Members name:
A21: 1. | B21: In reference to subject contract, the following set-off action is authorized per enclosure (1)
B22: Invoice No. :
B23: Member's Name: | H23: =H$19 -> 0
B24: Total Invoice Amount:
B25: Authorized Contract Deduction: | J25: ( | L25: %)
B26: Adjusted Deduction Total: | H26: =H24*0.05 -> 0
A28: 2. | B28: The above invoice was processed and Forwarded to your office on
B29: without applying the authorized deduction. A copy of the invoice is provied as enclosure (2).
A31: 3. | B31: In accordance with subject contract, the above deduction is applied to the following invoice:
B32: Invoice Number:
B33: Service Order Number:
B34: Member's Name:
B36: Total invoice amount:
B37: Authorized contract deduction:
B38: Adjusted Invoice Total: | H38: =SUM(H36-H37) -> 0
A40: 4. | B40: Point of Contact: [Name], Transportation Assistant, ph: 808-473-7700

Sheet A
A1: DATE:
A3: FROM: | B3: =MASTER!B3 -> FLEET LOGISTICS CENTER PEARL HARBOR
B4: =MASTER!B4 -> JPPSO-HAWAII (CODE 448)
B5: =MASTER!B5 -> 4825 BOUGAINVILLE DRIVE
B6: =MASTER!B6 -> HONOLULU, HI 96818
A8: TO: | B8: DFAS ROME/AP/DCC | G8: ( A )
B9: 325 BROOKS ROAD
B10: ROMEO, NY 13441-4527
A12: SUBJ: | B12: Set-Off Action for:
F13: (Contractor) | K13: (Contract No)
A15: ENCL.: | B15: ( 1 ) | C15: =MASTER!C15 -> DD FORM 2772, Contracting Report No:
K16: (Service Order No.)
B18: ( 2 ) | C18: Copy of Invoice number:
C19: Members name:
A21: 1. | B21: In reference to suject contract, the following set-off action is authorized per enclosure (1)
B22: Invoice No. : | H22: =H$18 -> 0
B23: Member's Name: | H23: =H$19 -> 0
B24: Total Invoice Amount:
B25: Authorized Contract Deduction: | J25: ( | L25: %)
B26: Adjustment Voucher Total: | H26: =SUM(H24)*(K25%) -> 0
A28: 2. | B28: The above invoice was processed and Forwarded to your office on
B29: without applying the authorized deduction. A copy of the invoice is provied as enclosure (2).
A31: 3. | B31: In accordance with suject contract, the above deduction is applied to the following invoice:
B32: Invoice Number:
B33: Service Order Number:
B34: Member's Name:
B36: Total invoice amount:
B37: Authorized contract deduction:
B38: Adjust voucher total: | H38: =ABS(H36-H37) -> 0
A40: 4. | B40: =MASTER!B40 -> Point of Contact: [Name], Transportation Assistant, ph: 808-473-7700

Sheet CG
A1: DATE:
A3: FROM: | B3: =MASTER!B3 -> FLEET LOGISTICS CENTER PEARL HARBOR
B4: =MASTER!B4 -> JPPSO-HAWAII (CODE 448)
B5: =MASTER!B5 -> 4825 BOUGAINVILLE DRIVE
B6: =MASTER!B6 -> HONOLULU, HI 96818
A8: TO: | B8: COMMANDING OFFICER | J8: ( CG )
B9: U. S. COAST GUARD FINANCE CENTER
B10: 1430A KRISTINA WAY
B11: CHESAPEAKE, VA 23326
A13: SUBJ: | B13: Set-Off Action for:
F14: (Contractor) | K14: (Contract No)
A16: ENCL.: | B16: ( 1 ) | C16: =MASTER!C15 -> DD FORM 2772, Contracting Report No:
K17: (Service Order No.)
B19: ( 2 ) | C19: Copy of Invoice number:
C20: Members name:
A22: 1. | B22: In reference to suject contract, the following set-off action is authorized per enclosure (1)
B23: Invoice No. : | H23: =H$19 -> 0
B24: Member's Name: | H24: =H$20 -> 0
B25: Total Invoice Amount:
B26: Authorized Contract Deduction: | J26: ( | L26: %)
B27: Adjustment Voucher Total: | H27: =SUM(H25)*(K26%) -> 0
A29: 2. | B29: The above invoice was processed and Forwarded to your office on
B30: without applying the authorized deduction. A copy of the invoice is provied as enclosure (2).
A32: 3. | B32: In accordance with suject contract, the above deduction is applied to the following invoice:
B33: Invoice Number:
B34: Service Order Number:
B35: Member's Name:
B37: Total invoice amount:
B38: Authorized contract deduction:
B39: Adjust voucher total: | H39: =ABS(H37-H38) -> 0
A41: 4. | B41: =MASTER!B40 -> Point of Contact: [Name], Transportation Assistant, ph: 808-473-7700

Sheet F
A1: DATE:
A3: FROM: | B3: =MASTER!B3 -> FLEET LOGISTICS CENTER PEARL HARBOR
B4: =MASTER!B4 -> JPPSO-HAWAII (CODE 448)
B5: =MASTER!B5 -> 4825 BOUGAINVILLE DRIVE
B6: =MASTER!B6 -> HONOLULU, HI 96818
A8: TO: | B8: DFAS BVF/LI | H8: (N/H)
B9: 27 ARKANSAS RD., STE 300
B10: LIMESTONE, ME 04751-6216
A12: SUBJ: | B12: Set-Off Action for:
F13: (Contractor) | K13: (Contract No)
A15: ENCL.: | B15: ( 1 ) | C15: DD FORM 2018, Contracting Report No:
C16: =MASTER!C15 -> DD FORM 2772, Contracting Report No: | K16: (Service Order No.)
B18: ( 2 ) | C18: Copy of Invoice number:
C19: Members name:
A21: 1. | B21: In reference to subject contract, the following set-off action is authorized per enclosure (1)
B22: Invoice No. : | H22: =H$18 -> 0
B23: Member's Name: | H23: =H$19 -> 0
B24: Total Invoice Amount:
B25: Authorized Contract Deduction: | J25: ( | L25: %)
B26: Adjustment Voucher Total: | H26: =SUM(H24*K25/100) -> 0
A28: 2. | B28: The above invoice was processed and Forwarded to your office on
B29: without applying the authorized deduction. A copy of the invoice is provied as enclosure (2).
A31: 3. | B31: In accordance with subject contract, the above deduction is applied to the following invoice:
B32: Invoice Number:
B33: Service Order Number:
B34: Member's Name:
B36: Total invoice amount:
B37: Authorized contract deduction:
B38: Adjust voucher total: | H38: =SUM(H36-H37) -> 0
A40: 4. | B40: =MASTER!B40 -> Point of Contact: [Name], Transportation Assistant, ph: 808-473-7700

Sheet MA
A1: DATE:
A3: FROM: | B3: =MASTER!B3 -> FLEET LOGISTICS CENTER PEARL HARBOR
B4: =MASTER!B4 -> JPPSO-HAWAII (CODE 448)
B5: =MASTER!B5 -> 4825 BOUGAINVILLE DRIVE
B6: =MASTER!B6 -> HONOLULU, HI 96818
A8: TO: | B8: COMPT TRAN VOUCH CERT BRANCH (TVCB) | K8: ( M/A )
B9: ATTN CODE 470
B10: 814 RADFORD BLVD. SUITE 20318
B11: ALBANY, GA 31704-0318
A13: SUBJ: | B13: Set-Off Action for:
F14: (Contractor) | K14: (Contract No)
A16: ENCL.: | B16: ( 1 ) | C16: =MASTER!C15 -> DD FORM 2772, Contracting Report No:
K17: (Service Order No.)
B19: ( 2 ) | C19: Copy of Invoice number:
C20: Members name:
A22: 1. | B22: In reference to suject contract, the following set-off action is authorized per enclosure (1)
B23: Invoice No. : | H23: =H$20 -> 0
B24: Member's Name: | H24: =H$21 -> 0
B25: Total Invoice Amount:
B26: Authorized Contract Deduction: | J26: ( | L26: %)
B27: Adjustment Voucher Total: | H27: =SUM(H25)*(K26%) -> 0
A29: 2. | B29: The above invoice was processed and Forwarded to your office on
B30: without applying the authorized deduction. A copy of the invoice is provied as enclosure (2).
A32: 3. | B32: In accordance with suject contract, the above deduction is applied to the following invoice:
B33: Invoice Number:
B34: Service Order Number:
B35: Member's Name:
B37: Total invoice amount:
B38: Authorized contract deduction:
B39: Adjust voucher total: | H39: =ABS(H37-H38) -> 0
A41: 4. | B41: =MASTER!B40 -> Point of Contact: [Name], Transportation Assistant, ph: 808-473-7700

Sheet ML
A1: DATE:
A3: FROM: | B3: =MASTER!B3 -> FLEET LOGISTICS CENTER PEARL HARBOR
B4: =MASTER!B4 -> JPPSO-HAWAII (CODE 448)
B5: =MASTER!B5 -> 4825 BOUGAINVILLE DRIVE
B6: =MASTER!B6 -> HONOLULU, HI 96818
A8: TO: | B8: COMMANDING GENERAL | H8: ( M/L )
B9: ATTN: LSAP
B10: BOX 63063 MCBH
B11: KANEOHE BAY, HI 96863-3063
A13: SUBJ: | B13: Set-Off Action for:
F14: (Contractor) | K14: (Contract No)
A16: ENCL.: | B16: ( 1 ) | C16: =MASTER!C15 -> DD FORM 2772, Contracting Report No:
K17: (Service Order No.)
B19: ( 2 ) | C19: Copy of Invoice number:
C20: Members name:
A22: 1. | B22: In reference to suject contract, the following set-off action is authorized per enclosure (1)
B23: Invoice No. : | H23: =H$20 -> 0
B24: Member's Name: | H24: =H$21 -> 0
B25: Total Invoice Amount:
B26: Authorized Contract Deduction: | J26: ( | L26: %)
B27: Adjustment Voucher Total: | H27: =SUM(H25)*(K26%) -> 0
A29: 2. | B29: The above invoice was processed and Forwarded to your office on
B30: without applying the authorized deduction. A copy of the invoice is provied as enclosure (2).
A32: 3. | B32: In accordance with suject contract, the above deduction is applied to the following invoice:
B33: Invoice Number:
B34: Service Order Number:
B35: Member's Name:
B37: Total invoice amount:
B38: Authorized contract deduction:
B39: Adjust voucher total: | H39: =ABS(H37-H38) -> 0
A41: 4. | B41: =MASTER!B40 -> Point of Contact: [Name], Transportation Assistant, ph: 808-473-7700

Sheet N
A1: DATE:
A3: FROM: | B3: =MASTER!B3 -> FLEET LOGISTICS CENTER PEARL HARBOR
B4: =MASTER!B4 -> JPPSO-HAWAII (CODE 448)
B5: =MASTER!B5 -> 4825 BOUGAINVILLE DRIVE
B6: =MASTER!B6 -> HONOLULU, HI 96818
A8: TO: | B8: DFAS CLEVELAND | H8: ( N )
B9: PACIFIC ACCOUNTS PAYABLE
B10: P.O . BOX 998023
B11: CLEVELAND, OH 44199
A13: SUBJ: | B13: Set-Off Action for:
F14: (Contractor) | K14: (Contract No)
A16: ENCL.: | B16: ( 1 ) | C16: =MASTER!C15 -> DD FORM 2772, Contracting Report No:
K17: (Service Order No.)
B19: ( 2 ) | C19: Copy of Invoice number:
C20: Members name:
A22: 1. | B22: In reference to suject contract, the following set-off action is authorized per enclosure (1)
B23: Invoice No. : | H23: =H$19 -> 0
B24: Member's Name: | H24: =H$20 -> 0
B25: Total Invoice Amount:
B26: Authorized Contract Deduction: | J26: ( | L26: %)
B27: Adjustment Voucher Total: | H27: =SUM(H25)*(K26%) -> 0
A29: 2. | B29: The above invoice was processed and Forwarded to your office on
B30: without applying the authorized deduction. A copy of the invoice is provied as enclosure (2).
A32: 3. | B32: In accordance with suject contract, the above deduction is applied to the following invoice:
B33: Invoice Number:
B34: Service Order Number:
B35: Member's Name:
B37: Total invoice amount:
B38: Authorized contract deduction:
B39: Adjust voucher total: | H39: =ABS(H37-H38) -> 0
A41: 4. | B41: =MASTER!B40 -> Point of Contact: [Name], Transportation Assistant, ph: 808-473-7700
